BEGIN:VCALENDAR
VERSION:2.0
PRODID:-//Calea cunoașterii - ECPv6.15.16//NONSGML v1.0//EN
CALSCALE:GREGORIAN
METHOD:PUBLISH
X-WR-CALNAME:Calea cunoașterii
X-ORIGINAL-URL:https://caleacunoasterii.com
X-WR-CALDESC:Events for Calea cunoașterii
REFRESH-INTERVAL;VALUE=DURATION:PT1H
X-Robots-Tag:noindex
X-PUBLISHED-TTL:PT1H
BEGIN:VTIMEZONE
TZID:Europe/Bucharest
BEGIN:DAYLIGHT
TZOFFSETFROM:+0200
TZOFFSETTO:+0300
TZNAME:EEST
DTSTART:20230326T010000
END:DAYLIGHT
BEGIN:STANDARD
TZOFFSETFROM:+0300
TZOFFSETTO:+0200
TZNAME:EET
DTSTART:20231029T010000
END:STANDARD
BEGIN:DAYLIGHT
TZOFFSETFROM:+0200
TZOFFSETTO:+0300
TZNAME:EEST
DTSTART:20240331T010000
END:DAYLIGHT
BEGIN:STANDARD
TZOFFSETFROM:+0300
TZOFFSETTO:+0200
TZNAME:EET
DTSTART:20241027T010000
END:STANDARD
BEGIN:DAYLIGHT
TZOFFSETFROM:+0200
TZOFFSETTO:+0300
TZNAME:EEST
DTSTART:20250330T010000
END:DAYLIGHT
BEGIN:STANDARD
TZOFFSETFROM:+0300
TZOFFSETTO:+0200
TZNAME:EET
DTSTART:20251026T010000
END:STANDARD
END:VTIMEZONE
BEGIN:VEVENT
DTSTART;TZID=Europe/Bucharest:20240529T200000
DTEND;TZID=Europe/Bucharest:20240529T210000
DTSTAMP:20260423T232411
CREATED:20240320T171508Z
LAST-MODIFIED:20240529T101327Z
UID:14262-1717012800-1717016400@caleacunoasterii.com
SUMMARY:Atragerea și acceptarea partenerului potrivit
DESCRIPTION:Când ai alături partenerul potrivit din toate punctele de vedere\, viața este minunată. Este ideal să se întâmple acest lucru\, dar nu întotdeauna se adeverește 100%. Suntem diferiți și nu reușim mereu să găsim perechea ideală aspirațiilor noastre. Acea persoană nu există doar în visele noastre\, e reală\, doar că nu avem răbdare să așteptăm. Ea apare în calea noastră\, însă de cele mai multe ori nu o recunoaștem din prima.  \n\n\n\n \n\n\n\nCalea Cunoașterii\, prin PETRA\, ne oferă acum un Seminar NOU\, care are ca temă chiar această problemă. \n\n\n\nCe veți primi participând la acest Seminar și cum va decurge sesiunea? \n\n\n\n \n\n\n\nPETRA va ghida aceasta lucrare\, ca întotdeauna\, la rândul său fiind ghidată de Divinitate și ne va oferi: \n\n\n\n* Binecuvântarea și curățarea energetică a potențialului partener potrivit \n\n\n\n* Dumneavoastră veți vizualiza corpul/aura energetică a potențialului partener pe care nu îl cunoașteți încă \n\n\n\n* Veți spune în gând\, sau cu voce tare următoarele cuvinte:   \n\n\n\n“Sunt deschis/ă să te cunosc și să te primesc în viața mea. Te aștept să vii cu cele mai clare intenții și cu toate virtuțiile și calitățile tale. Eu vin spre tine cu cele mai curate gânduri pentru a te cunoaște și a trăi voia Divină în relația cu tine.” \n\n\n\n* Se va deschide un portal de armonizare a ambilor parteneri \n\n\n\n* Se va instala un PSY (program psihoinformațional)\, pe care îl veți rula minimum de două ori pe zi\, dimineața și seara \n\n\n\n* Se va cere venirea unei frecvențe speciale\, care să intre în inimile ambilor parteneri\, pentru a se conecta la nivel de suflet și a se recunoaște unul pe celălalt. \n\n\n\n \n\n\n\nAcest eveniment va avea loc pe un link de YouTube special creat pentru această dată\, iar link-ul va fi primit direct prin e-mailul de confirmare. Este posibil ca link-ul să nu fie activ până la începerea evenimentului. Dacă nu primiți e-mailul de confirmare cu link-ul cu o oră înainte de începerea evenimentului\, dar v-ați înregistrat prin formularul din calendar din timp\, vă rugăm să ne contactați la +40762203131. \n\n\n\n \n\n\n\nContribuția de participare: 360 ( 303 +TVA) lei/ 77 (65+TVA) de euro/ persoana‘ \n\n\n\n \n\n\n\nLIBRA INTERNET BANK RO95BREL0002002904570100 leiTransferul bancar in contul de euro se accepta doar din conturi create la bănci din afara Romaniei.RO14BREL0002002904570200 euro \n\n\n\nBRELROBUXXX – BIC / SWIFT CodeDestinatar: CALEA CUNOASTERII SRL\, CUI 42269307 \n\n\n\n \n\n\n\nNU EXISTA CONTRAINDICATII PENTRU PARTICIPAREA LA ACEST SEMINAR. \n\n\nError: Contact form not found.
URL:https://caleacunoasterii.com/event/atragerea-si-acceptarea-partenerului-potrivit/
END:VEVENT
END:VCALENDAR