BEGIN:VCALENDAR
VERSION:2.0
PRODID:-//Calea cunoașterii - ECPv6.15.16//NONSGML v1.0//EN
CALSCALE:GREGORIAN
METHOD:PUBLISH
X-WR-CALNAME:Calea cunoașterii
X-ORIGINAL-URL:https://caleacunoasterii.com
X-WR-CALDESC:Events for Calea cunoașterii
REFRESH-INTERVAL;VALUE=DURATION:PT1H
X-Robots-Tag:noindex
X-PUBLISHED-TTL:PT1H
BEGIN:VTIMEZONE
TZID:Europe/Bucharest
BEGIN:DAYLIGHT
TZOFFSETFROM:+0200
TZOFFSETTO:+0300
TZNAME:EEST
DTSTART:20230326T010000
END:DAYLIGHT
BEGIN:STANDARD
TZOFFSETFROM:+0300
TZOFFSETTO:+0200
TZNAME:EET
DTSTART:20231029T010000
END:STANDARD
BEGIN:DAYLIGHT
TZOFFSETFROM:+0200
TZOFFSETTO:+0300
TZNAME:EEST
DTSTART:20240331T010000
END:DAYLIGHT
BEGIN:STANDARD
TZOFFSETFROM:+0300
TZOFFSETTO:+0200
TZNAME:EET
DTSTART:20241027T010000
END:STANDARD
BEGIN:DAYLIGHT
TZOFFSETFROM:+0200
TZOFFSETTO:+0300
TZNAME:EEST
DTSTART:20250330T010000
END:DAYLIGHT
BEGIN:STANDARD
TZOFFSETFROM:+0300
TZOFFSETTO:+0200
TZNAME:EET
DTSTART:20251026T010000
END:STANDARD
END:VTIMEZONE
BEGIN:VEVENT
DTSTART;TZID=Europe/Bucharest:20240612T200000
DTEND;TZID=Europe/Bucharest:20240612T210000
DTSTAMP:20260423T232349
CREATED:20240508T141007Z
LAST-MODIFIED:20240509T122706Z
UID:14880-1718222400-1718226000@caleacunoasterii.com
SUMMARY:Curățarea și Vindecarea Celor 7 Umbre
DESCRIPTION:REDUCERE 70%  \n\n\n\nContributia de participare de dupa Reducere este de doar 111 lei de persoana\, sau 24 euro de persoana. \n\n\n\nDacă simți adesea că te lupți cu morile de vânt sau că viața îți pare o luptă\, dacă simți că mai mult “supraviețuiești” decât “trăiești”\, dacă întâmpini dificultăți în tot ceea ce faci deși faci tot ce îți stă în putință\, dacă ți se pare că lucrurile ți se refuză și nu curg deloc ușor în viața ta\, dacă ți se pare că ești ținut pe loc în viață\, este posibil să te confrunți cu un blocaj karmic personal si familial. \n\n\n\nSigur\, ne-am dori cu toții să ne naștem  cu o karmă frumoasă\, pozitivă\, amprentată cu iubire\, nu cu sentimente negative astfel încât viețile noastre să fie pe măsură\, doar că adesea nu se întâmplă acest lucru.  \n\n\n\nMulți dintre noi se nasc în familii cu o karmă care nu este perfectă. Venim pe lume\, facem greșeli\, uneori avem ocazia și ne dorim să le îndreptăm\, alteori plecam fără să o facem și fără să vrem o dăm mai departe. Ele se răsfrâng asupra copiilor\, nepoților și urmașilor noștri pentru că în structura lor este înglobat un sistem de preluare a acestor informații. \n\n\n\nCele mai comun intalnite  7 umbre\, 7 pattern-uri energetico-comportamentale înscrise în ADN-ul energetic al tuturor\, sunt cele 7 umbre karmice care sunt scrise în istoria ta si a familiei tale\, sau create de noi insine in vietile anterioare \, din toate timpurile\, spatiile si toate dimensiunile. \n\n\n\nAbuzul           Saracia \n\n\n\nAdicțiile        Tradarea \n\n\n\nAbandonul        Violenta \n\n\n\nBoala \n\n\n\nNe place sau nu\, karma personala si cea familiala este codată în celulele corpului nostru\, în structura mentală a gândurilor noastre\, în fluxul nostru emoțional. Generațiile și membrii unui neam sunt interconectați\, deaceia se transmite cu usurinta de la noi la generatiile care vin.  \n\n\n\nPrin aceasta Lucrare se vor Curata energetic toate cele 7 umbre ale noastre\, ceea ce va face sa se curate si de pe mostenitori\, si de pe Arborele Genealogic toate acele informatii\, care ne blocheaza ascensiunea. \n\n\n\nSa ne Curatam ACUM de toate acestea inseamna sa luam de pe umerii copiilor si nepotilor nostri informatiile nocive care ii pot afecta in vietile lor. \n\n\n\nContribuția de participare: 360 ( 303 +TVA) lei/ 77 (65+TVA) de euro/ persoana \n\n\n\nLIBRA INTERNET BANK \n\n\n\nRO95BREL0002002904570100 lei \n\n\n\nTransferul bancar in contul de euro se accepta doar din conturi create la bănci din afara Romaniei. \n\n\n\nRO14BREL0002002904570200 euro \n\n\n\nBRELROBUXXX – BIC / SWIFT Code \n\n\n\nDestinatar: CALEA CUNOASTERII SRL\, CUI 42269307 \n\n\n\nCONTRAINDICATII: FEMEI GRAVIDE SAU CARE ALĂPTEAZĂ. \n\n\nError: Contact form not found.
URL:https://caleacunoasterii.com/event/curatarea-si-vindecarea-celor-7-umbre/
END:VEVENT
END:VCALENDAR