BEGIN:VCALENDAR
VERSION:2.0
PRODID:-//Calea cunoașterii - ECPv6.15.16//NONSGML v1.0//EN
CALSCALE:GREGORIAN
METHOD:PUBLISH
X-WR-CALNAME:Calea cunoașterii
X-ORIGINAL-URL:https://caleacunoasterii.com
X-WR-CALDESC:Events for Calea cunoașterii
REFRESH-INTERVAL;VALUE=DURATION:PT1H
X-Robots-Tag:noindex
X-PUBLISHED-TTL:PT1H
BEGIN:VTIMEZONE
TZID:Europe/Bucharest
BEGIN:DAYLIGHT
TZOFFSETFROM:+0200
TZOFFSETTO:+0300
TZNAME:EEST
DTSTART:20230326T010000
END:DAYLIGHT
BEGIN:STANDARD
TZOFFSETFROM:+0300
TZOFFSETTO:+0200
TZNAME:EET
DTSTART:20231029T010000
END:STANDARD
BEGIN:DAYLIGHT
TZOFFSETFROM:+0200
TZOFFSETTO:+0300
TZNAME:EEST
DTSTART:20240331T010000
END:DAYLIGHT
BEGIN:STANDARD
TZOFFSETFROM:+0300
TZOFFSETTO:+0200
TZNAME:EET
DTSTART:20241027T010000
END:STANDARD
BEGIN:DAYLIGHT
TZOFFSETFROM:+0200
TZOFFSETTO:+0300
TZNAME:EEST
DTSTART:20250330T010000
END:DAYLIGHT
BEGIN:STANDARD
TZOFFSETFROM:+0300
TZOFFSETTO:+0200
TZNAME:EET
DTSTART:20251026T010000
END:STANDARD
END:VTIMEZONE
BEGIN:VEVENT
DTSTART;TZID=Europe/Bucharest:20240807T200000
DTEND;TZID=Europe/Bucharest:20240807T210000
DTSTAMP:20260423T161602
CREATED:20240726T014311Z
LAST-MODIFIED:20240726T142421Z
UID:15674-1723060800-1723064400@caleacunoasterii.com
SUMMARY:Vindecarea emoțională personală și în raport cu părinții și familia
DESCRIPTION:PREȚUL VERII 2024 \n\n\n\nREDUCERE DE 65%\n\n\n\nContribuția de participare după REDUCERE este: 126 lei (102 +TVA) / 27 euro (22 +TVA) per persoană.\n\n\n\n \n\n\n\nCopilul interior nu este altceva decât: spiritul ludic\, entuziasmul\, creativitatea\, spontaneitatea\, reziliența fizică și psihică\, imaginația\, iubirea de viață\, curiozitatea\, inocența\, optimismul\, expresia liberă a emoțiilor și sentimentelor.Sau\, mai pe scurt\, este partea noastră emoțională\, care are de suferit de-a lungul multor existențe.Fără vindecarea emoțională\, este destul de anevoios să ne dezvoltăm pe toate palierele vieții noastre.Este deja cunoscut că aici\, pe Pământ\, ne întâlnim cu grupul nostru de suflete cu care avem ceva de rezolvat.Nu întâmplător venim într-o anumită familie\, avem deci anumiți părinți\, frați și surori\, rude apropiate și îndepărtate.Toți împreună\, de bun acord\, am venit să ne rezolvăm situațiile rămase neclarificate cândva\, undeva departe.Aici și acum avem șansa de a rezolva și vindeca totul; doar trebuie să găsim exact acele metode prin care să facem acest lucru mai ușor și mai rapid\, ca să nu rămânem din nou cu ele pe lista de făcut.Lucrarea aceasta vine întru ajutorul nostru cu metode și instrumente energetice de remediere și vindecare emoțională\, vindecarea copilului interior\, de orice fel de situație conflictuală între părinți și copii\, între frați și surori și între toți împreună. \n\n\n\nDoar rezolvând și vindecând aceste situații de viață putem avansa într-un ritm alert și sigur pe scara Creșterii Spirituale. Metodele noastre sunt sănătoase și\, cu contribuția dvs. în dezvoltarea personală\, duc la adevărate minuni pe toate planurile vieții. \n\n\n\n \n\n\n\nRECOMANDAT PENTRU: persoane fizice (adulți\, copii\, poză\, nume\, prenume\, data nașterii) \n\n\n\n \n\n\n\nContribuția de participare: 360 lei (303+TVA) sau 77 (65+TVA) euro per persoana\, poza\, nume \n\n\n\n \n\n\n\nAcest eveniment va avea loc pe un link de YouTube special creat pentru această dată\, iar link-ul va fi primit direct prin e-mailul de confirmare. Este posibil ca link-ul să nu fie activ până la începerea evenimentului. Dacă nu primiți e-mailul de confirmare cu link-ul cu o oră înainte de începerea evenimentului\, dar v-ați înregistrat prin formularul din calendar din timp\, vă rugăm să ne contactați la +40762203131. \n\n\n\n \n\n\n\nLIBRA INTERNET BANKRO95BREL0002002904570100 leiTransferul bancar in contul de euro se accepta doar din conturi create la bănci din afara Romaniei.RO14BREL0002002904570200 euro \n\n\n\nBRELROBUXXX – BIC / SWIFT CodeDestinatar: CALEA CUNOASTERII SRL\, CUI 42269307 \n\n\n\n \n\n\n\nNU EXISTA CONTRAINDICATII PENTRU PARTICIPAREA LA ACEST SEMINAR. \n\n\n\nEFECTE SECUNDARE:E posibil sa apara crizele de vindecare\, care in mod normal sunt de scurta durata\, dupa care apare starea de bine\, ca rezultat al reabilitării. \n\n\n\nNU RENUNTAȚI LA TRATAMENTUL INDICAT DE MEDICUL CURANT. \n\n\nError: Contact form not found.
URL:https://caleacunoasterii.com/event/vindecarea-emotionala-personala-si-in-raport-cu-parintii-si-familia/
END:VEVENT
END:VCALENDAR