BEGIN:VCALENDAR
VERSION:2.0
PRODID:-//Calea cunoașterii - ECPv6.15.16//NONSGML v1.0//EN
CALSCALE:GREGORIAN
METHOD:PUBLISH
X-ORIGINAL-URL:https://caleacunoasterii.com
X-WR-CALDESC:Events for Calea cunoașterii
REFRESH-INTERVAL;VALUE=DURATION:PT1H
X-Robots-Tag:noindex
X-PUBLISHED-TTL:PT1H
BEGIN:VTIMEZONE
TZID:Europe/Bucharest
BEGIN:DAYLIGHT
TZOFFSETFROM:+0200
TZOFFSETTO:+0300
TZNAME:EEST
DTSTART:20230326T010000
END:DAYLIGHT
BEGIN:STANDARD
TZOFFSETFROM:+0300
TZOFFSETTO:+0200
TZNAME:EET
DTSTART:20231029T010000
END:STANDARD
BEGIN:DAYLIGHT
TZOFFSETFROM:+0200
TZOFFSETTO:+0300
TZNAME:EEST
DTSTART:20240331T010000
END:DAYLIGHT
BEGIN:STANDARD
TZOFFSETFROM:+0300
TZOFFSETTO:+0200
TZNAME:EET
DTSTART:20241027T010000
END:STANDARD
BEGIN:DAYLIGHT
TZOFFSETFROM:+0200
TZOFFSETTO:+0300
TZNAME:EEST
DTSTART:20250330T010000
END:DAYLIGHT
BEGIN:STANDARD
TZOFFSETFROM:+0300
TZOFFSETTO:+0200
TZNAME:EET
DTSTART:20251026T010000
END:STANDARD
END:VTIMEZONE
BEGIN:VEVENT
DTSTART;TZID=Europe/Bucharest:20240812T200000
DTEND;TZID=Europe/Bucharest:20240812T210000
DTSTAMP:20260423T135422
CREATED:20240726T015548Z
LAST-MODIFIED:20240726T142631Z
UID:15680-1723492800-1723496400@caleacunoasterii.com
SUMMARY:Curățarea energetică a casei
DESCRIPTION:PREȚUL VERII 2024 \n\n\n\nREDUCERE DE 77%\n\n\n\nContribuția de participare după REDUCERE este: 126 lei (102 +TVA) / 27 euro (22 +TVA) per persoană.\n\n\n\n \n\n\n\nLucrarea spiritual-energetică „Curățarea energetică a casei” se efectuează atât pentru case de locuit\, apartamente\, cămine și altele\, cât și pentru sedii de firmă\, magazine\, puncte de lucru\, depozite\, anexe\, câmpuri agricole și altele. Orice locație care are o adresă poate fi curățată în timpul acestei lucrări. \n\n\n\nPETRA va cere de la Sfânta Treime să facă curățarea pentru toți cei implicați în lucrare. Se vor curăța orice tip de informație și energie negativă aflate la adresele indicate\, se vor ridica toate entitățile malefice care s-au acomodat acolo\, toate duhurile terestre și extraterestre captive\, cu sau fără voia lor\, în locurile respective.  \n\n\n\nDe asemenea\, se vor instala Cruci de Lumină\, Scuturi de Protecție\, Dispozitive necesare\, după caz\, și altele. Adresele vor rămâne curate și binecuvântate\, împreună cu cei care locuiesc acolo. \n\n\n\n \n\n\n\nPentru această lucrare spiritual-energetică de grup\, este absolut necesar să aveți scris de mână\, pe o foaie de hârtie pe care o veți păstra lângă dumneavoastră în timpul seminarului\, următoarele date:Adresa locuinței/locației\, numele\, prenumele și data nașterii tuturor persoanelor care locuiesc acolo sau dețin localul respectiv. În cazul firmelor\, scrieți simplu: „Toți angajații la acest moment”. \n\n\n\nATENȚIE! \n\n\n\nAceste date sunt confidențiale și trebuie să le păstrați doar pentru dumneavoastră. Nu le împărtășiți cu noi sau cu altcineva\, decât dacă simțiți că acea persoană este de încredere totală și cu acordul dumneavoastră 100%. \n\n\n\n \n\n\n\nContribuția de participare: 555 lei (466 lei + TVA) / 111 euro (93 euro +TVA) de adresă/locuință indiferent de numărul de persoane care locuiesc acolo. \n\n\n\nEXEMPLU: Dacă aveți două construcții în aceeași curte și doriți să le curățați\, este ca și cum ați avea două locuințe\, adică se achită pentru fiecare. \n\n\n\n \n\n\n\nAcest eveniment va avea loc pe un link de YouTube special creat pentru această dată\, iar link-ul va fi primit direct prin e-mailul de confirmare. Este posibil ca link-ul să nu fie activ până la începerea evenimentului. Dacă nu primiți e-mailul de confirmare cu link-ul cu o oră înainte de începerea evenimentului\, dar v-ați înregistrat prin formularul din calendar din timp\, vă rugăm să ne contactați la +40762203131. \n\n\n\n \n\n\n\nLIBRA INTERNET BANKRO95BREL0002002904570100 leiTransferul bancar in contul de euro se accepta doar din conturi create la bănci din afara Romaniei.RO14BREL0002002904570200 euro \n\n\n\nBRELROBUXXX – BIC / SWIFT CodeDestinatar: CALEA CUNOASTERII SRL\, CUI 42269307 \n\n\n\n \n\n\n\nNU EXISTA CONTRAINDICATII PENTRU PARTICIPAREA LA ACEST SEMINAR. \n\n\n\nEFECTE SECUNDARE:E posibil sa apara crizele de vindecare\, care in mod normal sunt de scurta durata\, dupa care apare starea de bine\, ca rezultat al reabilitării. \n\n\n\nNU RENUNTAȚI LA TRATAMENTUL INDICAT DE MEDICUL CURANT. \n\n\nError: Contact form not found.
URL:https://caleacunoasterii.com/event/curatarea-energetica-a-casei-2/
END:VEVENT
END:VCALENDAR