BEGIN:VCALENDAR
VERSION:2.0
PRODID:-//Calea cunoașterii - ECPv6.15.16//NONSGML v1.0//EN
CALSCALE:GREGORIAN
METHOD:PUBLISH
X-WR-CALNAME:Calea cunoașterii
X-ORIGINAL-URL:https://caleacunoasterii.com
X-WR-CALDESC:Events for Calea cunoașterii
REFRESH-INTERVAL;VALUE=DURATION:PT1H
X-Robots-Tag:noindex
X-PUBLISHED-TTL:PT1H
BEGIN:VTIMEZONE
TZID:Europe/Bucharest
BEGIN:DAYLIGHT
TZOFFSETFROM:+0200
TZOFFSETTO:+0300
TZNAME:EEST
DTSTART:20230326T010000
END:DAYLIGHT
BEGIN:STANDARD
TZOFFSETFROM:+0300
TZOFFSETTO:+0200
TZNAME:EET
DTSTART:20231029T010000
END:STANDARD
BEGIN:DAYLIGHT
TZOFFSETFROM:+0200
TZOFFSETTO:+0300
TZNAME:EEST
DTSTART:20240331T010000
END:DAYLIGHT
BEGIN:STANDARD
TZOFFSETFROM:+0300
TZOFFSETTO:+0200
TZNAME:EET
DTSTART:20241027T010000
END:STANDARD
BEGIN:DAYLIGHT
TZOFFSETFROM:+0200
TZOFFSETTO:+0300
TZNAME:EEST
DTSTART:20250330T010000
END:DAYLIGHT
BEGIN:STANDARD
TZOFFSETFROM:+0300
TZOFFSETTO:+0200
TZNAME:EET
DTSTART:20251026T010000
END:STANDARD
END:VTIMEZONE
BEGIN:VEVENT
DTSTART;TZID=Europe/Bucharest:20240831T100000
DTEND;TZID=Europe/Bucharest:20240831T150000
DTSTAMP:20260423T082519
CREATED:20240623T062649Z
LAST-MODIFIED:20240802T151720Z
UID:15259-1725098400-1725116400@caleacunoasterii.com
SUMMARY:Workshop de 2 zile cu Petra la BUCURESTI - ATELIER DE RESPIRATII RITMICE EGIPTENE
DESCRIPTION:Lucrarea prezentă are loc pe parcursul a două zile: sâmbătă și duminică de la ora 10:00 la ora 13:00. Fiind o lucrare cu foarte multă informație\, necesită explicații elaborate care să conducă la efecte puternice în structurile noastre. \n\n\n\n“Exercițiile ritmice egiptene de respirație” provin din Egiptul antic și au fost practicate doar de către o anumită categorie de oameni. Nu erau pentru oricine\, ci doar pentru elită. Acum 10.000 de ani\, cei care le practicau căpătau foarte multă forță\, o înțelegere superioară a tainelor vieții și aveau nu doar putere energetică fantastică\, ci și putere fizică și mentală. \n\n\n\nSeria de 12 exerciții conține două exerciții pentru inițiere și zece pentru creștere\, evoluție și dezvoltarea abilităților psihochinetice. Aceste 12 exerciții provin dintr-o broșură veche de aproximativ 100 de ani. Ele nu există pe internet\, cel puțin din ce am verificat\, nu le-am găsit. \n\n\n\nExercițiile vor fi împărțite pe două zile de curs pentru a le putea învăța și exersa cât mai bine. Puterea acestor “Exerciții ritmice de respirații egiptene” garantează celor care le practică nivele de conștiință extinsă care vor avea repercusiuni în toate aspectele vieții\, atât ca ființe umane\, cât și ca ființe universale. \n\n\n\nSe recomandă tuturor categoriilor de vârstă\, fără a exista restricții de vreun fel. De asemenea\, este recomandat tuturor celor care au probleme respiratorii\, probleme la nivelul plămânilor sau la nivelul întregului sistem respirator. Este recomandat tuturor celor care au probleme de imunitate\, boli autoimune\, depresii\, frici\, atacuri de panică etc. \n\n\n\nAcest ATELIER DE “RESPIRAȚII RITMICE EGIPTENE” vă oferă prin ENERGIA PETRA curățări energetice\, dispozitive și programe pentru susținerea energetică a ființei umane\, diferite instrumente specifice sistemului respirator\, oxigenării sângelui și implicit a creierului\, cu efecte puternice asupra stării de bine și a confortului psihic. Practicarea acestora aduce pace minții\, liniște interioară și stabilitate emoțională încă din prima zi de practică! \n\n\n\nSunteți invitați să participați cu maximă deschidere la toate aceste stări sufletești de înaltă vibrație\, cu efecte pe termen lung asupra tuturor aspectelor vieții! \n\n\n\nNU EXISTĂ CONTRAINDICAȚII \n\n\n\n \n\n\n\nÎntâlnirea va avea loc la: \n\n\n\nGRAND HOTEL CONTINENTAL\, BUCUREȘTI \n\n\n\nAdresa: Calea Victoriei 56\, (vis-a-vis de Hotel Hovotel). \n\n\n\n \n\n\n\nCONTRIBUȚIA DE PARTICIPARE \n\n\n\n1.000 lei / 200 euro de persoană. \n\n\n\nLa această lucrare nu se plătește anticipat. Plata se va face direct la intrarea în sală. \n\n\n\n \n\n\n\nRECOMANDAT \n\n\n\nToți participanții să vină cu apă și ceva de ronțăit\, în caz că vor simți nevoia de așa ceva. Pauzele vor fi scurte\, iar magazinul alimentar este alături\, afară din hotel. \n\n\n\n \n\n\n\nPentru informații sau rezervări vă rugăm să ne contactați la +40762203131\, telefonic sau WhatsApp
URL:https://caleacunoasterii.com/event/workshop-de-2-zile-cu-petra-la-bucuresti/
END:VEVENT
END:VCALENDAR