BEGIN:VCALENDAR
VERSION:2.0
PRODID:-//Calea cunoașterii - ECPv6.15.16//NONSGML v1.0//EN
CALSCALE:GREGORIAN
METHOD:PUBLISH
X-WR-CALNAME:Calea cunoașterii
X-ORIGINAL-URL:https://caleacunoasterii.com
X-WR-CALDESC:Events for Calea cunoașterii
REFRESH-INTERVAL;VALUE=DURATION:PT1H
X-Robots-Tag:noindex
X-PUBLISHED-TTL:PT1H
BEGIN:VTIMEZONE
TZID:Europe/Bucharest
BEGIN:DAYLIGHT
TZOFFSETFROM:+0200
TZOFFSETTO:+0300
TZNAME:EEST
DTSTART:20230326T010000
END:DAYLIGHT
BEGIN:STANDARD
TZOFFSETFROM:+0300
TZOFFSETTO:+0200
TZNAME:EET
DTSTART:20231029T010000
END:STANDARD
BEGIN:DAYLIGHT
TZOFFSETFROM:+0200
TZOFFSETTO:+0300
TZNAME:EEST
DTSTART:20240331T010000
END:DAYLIGHT
BEGIN:STANDARD
TZOFFSETFROM:+0300
TZOFFSETTO:+0200
TZNAME:EET
DTSTART:20241027T010000
END:STANDARD
BEGIN:DAYLIGHT
TZOFFSETFROM:+0200
TZOFFSETTO:+0300
TZNAME:EEST
DTSTART:20250330T010000
END:DAYLIGHT
BEGIN:STANDARD
TZOFFSETFROM:+0300
TZOFFSETTO:+0200
TZNAME:EET
DTSTART:20251026T010000
END:STANDARD
END:VTIMEZONE
BEGIN:VEVENT
DTSTART;TZID=Europe/Bucharest:20240904T200000
DTEND;TZID=Europe/Bucharest:20240904T210000
DTSTAMP:20260423T163630
CREATED:20240822T170925Z
LAST-MODIFIED:20240827T033111Z
UID:15903-1725480000-1725483600@caleacunoasterii.com
SUMMARY:Curățarea Energetică de Grup\, Format Nou
DESCRIPTION:PREȚUL TOAMNEI 2024 \n\n\n\nREDUCERE DE 58%\n\n\n\nContribuția de participare după REDUCERE este: 150 lei (121 +TVA) / 33 euro (26.7 +TVA) per persoană.\n\n\n\n \n\n\n\nDin când în când curățarea energetică a fiecărei persoane devine obligatorie\, precum este și deparazitarea intestinală\, la fel cum e absolut necesar spălatul pe mâini. \n\n\n\nPână acum programul nostru a avut diferite lucrari de Grup pentru Curățare energetică. Acum am hotărât să combinăm unele dintre Seminare astfel încât beneficiile voastre să fie cât mai mari iar cheltuielile cât mai mici.  \n\n\n\nÎn acest Seminar veți beneficia de: \n\n\n\n– Curățarea personala \n\n\n\n– Curățarea Arborelui Genealogic \n\n\n\n– Curățarea Karmei personale \n\n\n\n– Curățarea Karmei Astrale \n\n\n\n– Curățarea Karmei de neam \n\n\n\n– Curățarea și binecuvântarea urmașilor până la a 9-a generație. \n\n\n\nÎn funcție de fiecare Grup\, Petra primește diferite mesaje\, pe care le va dărui sub forma de informații și frecvențe direct de la Divinitate. \n\n\n\nFiecare persoană prezentă la acest Seminar în direct\, fie că este pe lista celui care a plătit contribuția de participare sau pentru cel în cauză\, în funcție de Drepturile Divine pe care le are\, se va curăța de toate acele informații și energii negative stocate/blocate pe corpul energetic și care sunt mereu gata să coboare pe corpul fizic sub forma unor afecțiuni sau boli uneori incurabile.  \n\n\n\nDe aceea aceste Curățări Energetice au un rol extrem de important în păstrarea sănătății noastre pe toate planurile. Scoase la timp din sistemul nostru\, energiile negative\, nu mai au cum să ne provoace afecțiuni sau boli despre care nu avem idee de unde apar. \n\n\n\n \n\n\n\nAcest eveniment va avea loc pe un link de YouTube special creat pentru această dată\, iar link-ul va fi primit direct prin e-mailul de confirmare. Este posibil ca link-ul să nu fie activ până la începerea evenimentului. Dacă nu primiți e-mailul de confirmare cu link-ul cu o oră înainte de începerea evenimentului\, dar v-ați înregistrat prin formularul din calendar din timp\, vă rugăm să ne contactați la +40762203131. \n\n\n\n \n\n\n\nRecomandat pentru: adolescenți\, adulți. \n\n\n\n \n\n\n\nContribuția de participare: 250 lei (210+TVA) sau 50 (42+TVA) euro de persoană/poză/nume sau data nașterii. \n\n\n\n \n\n\n\nLIBRA INTERNET BANK RO95BREL0002002904570100 leiTransferul bancar in contul de euro se accepta doar din conturi create la bănci din afara Romaniei.RO14BREL0002002904570200 euro \n\n\n\nBRELROBUXXX – BIC / SWIFT CodeDestinatar: CALEA CUNOASTERII SRL\, CUI 42269307 \n\n\n\n \n\n\n\nCONTRAINDICATII: FEMEI GRAVIDE SAU CARE ALĂPTEAZĂ. \n\n\nError: Contact form not found.
URL:https://caleacunoasterii.com/event/curatarea-energetica-de-grup-format-nou/
END:VEVENT
END:VCALENDAR