BEGIN:VCALENDAR
VERSION:2.0
PRODID:-//Calea cunoașterii - ECPv6.15.16//NONSGML v1.0//EN
CALSCALE:GREGORIAN
METHOD:PUBLISH
X-ORIGINAL-URL:https://caleacunoasterii.com
X-WR-CALDESC:Events for Calea cunoașterii
REFRESH-INTERVAL;VALUE=DURATION:PT1H
X-Robots-Tag:noindex
X-PUBLISHED-TTL:PT1H
BEGIN:VTIMEZONE
TZID:Europe/Bucharest
BEGIN:DAYLIGHT
TZOFFSETFROM:+0200
TZOFFSETTO:+0300
TZNAME:EEST
DTSTART:20230326T010000
END:DAYLIGHT
BEGIN:STANDARD
TZOFFSETFROM:+0300
TZOFFSETTO:+0200
TZNAME:EET
DTSTART:20231029T010000
END:STANDARD
BEGIN:DAYLIGHT
TZOFFSETFROM:+0200
TZOFFSETTO:+0300
TZNAME:EEST
DTSTART:20240331T010000
END:DAYLIGHT
BEGIN:STANDARD
TZOFFSETFROM:+0300
TZOFFSETTO:+0200
TZNAME:EET
DTSTART:20241027T010000
END:STANDARD
BEGIN:DAYLIGHT
TZOFFSETFROM:+0200
TZOFFSETTO:+0300
TZNAME:EEST
DTSTART:20250330T010000
END:DAYLIGHT
BEGIN:STANDARD
TZOFFSETFROM:+0300
TZOFFSETTO:+0200
TZNAME:EET
DTSTART:20251026T010000
END:STANDARD
END:VTIMEZONE
BEGIN:VEVENT
DTSTART;TZID=Europe/Bucharest:20240918T200000
DTEND;TZID=Europe/Bucharest:20240918T210000
DTSTAMP:20260423T043624
CREATED:20240822T171934Z
LAST-MODIFIED:20240827T033531Z
UID:15914-1726689600-1726693200@caleacunoasterii.com
SUMMARY:CONEXIUNEA CU IISUS ȘI CODURILE CRISTICE - NOU
DESCRIPTION:PREȚUL TOAMNEI 2024 \n\n\n\nREDUCERE DE 58%\n\n\n\nContribuția de participare după REDUCERE este: 150 lei (121 +TVA) / 33 euro (26.7 +TVA) per persoană.\n\n\n\nUn seminar adus la un nivel mult mai înalt față de cele de până acum. \n\n\n\nCa să fii cu adevărat spiritual\, este nevoie cel puțin să știi cine a fost Iisus\, cum a acționat el în diferite ipostaze\, situații de cumpănă\, ce fel de viață a dus cu adevărat și multe altele. \n\n\n\nEste mult mai simplu atunci când toate aceste informații vin spre noi direct de la Sursă\, ghidate de PETRA prin Canal Spiritual și introduse și integrate direct în noi\, în memoria noastră celulară. \n\n\n\nConexiunea cu Iisus aduce cu ea și Codurile Cristice\, cu ajutorul cărora vom acționa și vom crește spiritual cu o mai mare ușurință și succes. \n\n\n\n \n\n\n\nAcest eveniment va avea loc pe un link de YouTube special creat pentru această dată\, iar link-ul va fi primit direct prin e-mailul de confirmare. Este posibil ca link-ul să nu fie activ până la începerea evenimentului. Dacă nu primiți e-mailul de confirmare cu link-ul cu o oră înainte de începerea evenimentului\, dar v-ați înregistrat prin formularul din calendar din timp\, vă rugăm să ne contactați la +40762203131. \n\n\n\nRECOMANDAT: Adulti\, adolescenti. \n\n\n\n \n\n\n\nContribuția de participare: 360 ( 303 +TVA) lei/ 77 (65+TVA) de euro/ persoana‘ \n\n\n\n \n\n\n\nLIBRA INTERNET BANK RO95BREL0002002904570100 leiTransferul bancar in contul de euro se accepta doar din conturi create la bănci din afara Romaniei.RO14BREL0002002904570200 euro \n\n\n\nBRELROBUXXX – BIC / SWIFT CodeDestinatar: CALEA CUNOASTERII SRL\, CUI 42269307 \n\n\n\n \n\n\n\nNU EXISTA CONTRAINDICATII PENTRU PARTICIPAREA LA ACEST SEMINAR. \n\n\nError: Contact form not found.
URL:https://caleacunoasterii.com/event/conexiunea-cu-iisus-si-codurile-cristice-nou-2/
END:VEVENT
END:VCALENDAR