BEGIN:VCALENDAR
VERSION:2.0
PRODID:-//Calea cunoașterii - ECPv6.15.16//NONSGML v1.0//EN
CALSCALE:GREGORIAN
METHOD:PUBLISH
X-ORIGINAL-URL:https://caleacunoasterii.com
X-WR-CALDESC:Events for Calea cunoașterii
REFRESH-INTERVAL;VALUE=DURATION:PT1H
X-Robots-Tag:noindex
X-PUBLISHED-TTL:PT1H
BEGIN:VTIMEZONE
TZID:Europe/Bucharest
BEGIN:DAYLIGHT
TZOFFSETFROM:+0200
TZOFFSETTO:+0300
TZNAME:EEST
DTSTART:20230326T010000
END:DAYLIGHT
BEGIN:STANDARD
TZOFFSETFROM:+0300
TZOFFSETTO:+0200
TZNAME:EET
DTSTART:20231029T010000
END:STANDARD
BEGIN:DAYLIGHT
TZOFFSETFROM:+0200
TZOFFSETTO:+0300
TZNAME:EEST
DTSTART:20240331T010000
END:DAYLIGHT
BEGIN:STANDARD
TZOFFSETFROM:+0300
TZOFFSETTO:+0200
TZNAME:EET
DTSTART:20241027T010000
END:STANDARD
BEGIN:DAYLIGHT
TZOFFSETFROM:+0200
TZOFFSETTO:+0300
TZNAME:EEST
DTSTART:20250330T010000
END:DAYLIGHT
BEGIN:STANDARD
TZOFFSETFROM:+0300
TZOFFSETTO:+0200
TZNAME:EET
DTSTART:20251026T010000
END:STANDARD
END:VTIMEZONE
BEGIN:VEVENT
DTSTART;TZID=Europe/Bucharest:20240925T200000
DTEND;TZID=Europe/Bucharest:20240925T210000
DTSTAMP:20260423T200635
CREATED:20240822T172731Z
LAST-MODIFIED:20240827T033731Z
UID:15907-1727294400-1727298000@caleacunoasterii.com
SUMMARY:Vindecarea Sufletului și Fericirea lui
DESCRIPTION:PREȚUL TOAMNEI 2024 \n\n\n\nREDUCERE DE 58%\n\n\n\nContribuția de participare după REDUCERE este: 150 lei (121 +TVA) / 33 euro (26.7 +TVA) per persoană.\n\n\n\n \n\n\n\n\n\n\n\nEUL nu exist dacă nu există SUFLET. \n\n\n\nCorpul nostru fizic\, de care adesea avem atâta grijă să arate bine\, să mănânce sănătos\, să se îmbrace frumos și altele de genul acesta\, este doar un ambalaj al SUFLETULUI. Aș zice că SUFLETUL nu putea umbla „gol” și și-a găsit metoda cea mai simplă de a se „îmbrăca” cu un corp fizic din carne și oase. \n\n\n\n \n\n\n\nAcest corp fizic este sănătos și frumos atâta timp cât sufletul este bine. Din momentul în care sufletul se „îmbolnăvește”\, nu durează prea mult până când acele suferințe coboară în corpul fizic. Boala este\, în primul rând\, o consecință a suferinței SUFLETULUI. Că mai există și o alimentație nesănătoasă\, o lipsă de respect pentru corpul fizic și abuzuri diverse\, nocive din punct de vedere fizic\, acestea sunt doar efectele secundare ale suferinței sufletului. Dacă omul nu ar suferi sufletește\, nici într-un caz nu ar abuza de alcool\, tutun\, droguri\, medicamente inutile\, jocuri de noroc și altele. \n\n\n\n \n\n\n\nVindecarea sufletului aduce după sine și vindecarea/reabilitarea fizică\, mai ales dacă fizicul este ajutat de produse naturiste\, sănătoase și potrivite fiecăruia în parte. Sufletul este nemuritor în univers\, dar corpul fizic nu este. De aceea\, primul lucru de care trebuie să avem grijă este sufletul. \n\n\n\n \n\n\n\nAvem nevoie să trăim două aspecte importante ale ființei: „a fi” și „a avea”. Pentru a le putea trăi pe toate acestea\, avem nevoie de vindecare\, pentru a putea trăi în valorile iubirii universale! Și cum altfel am putea\, fără să ne iubim pe noi înșine? \n\n\n\n \n\n\n\nVindecarea sufletului începe cu noi și cu suferințele noastre\, care\, odată vindecate\, duc la bucuria vieții! \n\n\n\n\n\n\n\n \n\n\n\nLIBRA INTERNET BANK RO95BREL0002002904570100 leiTransferul bancar in contul de euro se accepta doar din conturi create la bănci din afara Romaniei.RO14BREL0002002904570200 euro \n\n\n\nBRELROBUXXX – BIC / SWIFT CodeDestinatar: CALEA CUNOASTERII SRL\, CUI 42269307 \n\n\n\n \n\n\n\nNU EXISTA CONTRAINDICATII PENTRU PARTICIPAREA LA ACEST SEMINAR. \n\n\nError: Contact form not found.
URL:https://caleacunoasterii.com/event/vindecarea-sufletului-si-fericirea-lui-2/
END:VEVENT
END:VCALENDAR