BEGIN:VCALENDAR
VERSION:2.0
PRODID:-//Calea cunoașterii - ECPv6.15.16//NONSGML v1.0//EN
CALSCALE:GREGORIAN
METHOD:PUBLISH
X-WR-CALNAME:Calea cunoașterii
X-ORIGINAL-URL:https://caleacunoasterii.com
X-WR-CALDESC:Events for Calea cunoașterii
REFRESH-INTERVAL;VALUE=DURATION:PT1H
X-Robots-Tag:noindex
X-PUBLISHED-TTL:PT1H
BEGIN:VTIMEZONE
TZID:Europe/Bucharest
BEGIN:DAYLIGHT
TZOFFSETFROM:+0200
TZOFFSETTO:+0300
TZNAME:EEST
DTSTART:20230326T010000
END:DAYLIGHT
BEGIN:STANDARD
TZOFFSETFROM:+0300
TZOFFSETTO:+0200
TZNAME:EET
DTSTART:20231029T010000
END:STANDARD
BEGIN:DAYLIGHT
TZOFFSETFROM:+0200
TZOFFSETTO:+0300
TZNAME:EEST
DTSTART:20240331T010000
END:DAYLIGHT
BEGIN:STANDARD
TZOFFSETFROM:+0300
TZOFFSETTO:+0200
TZNAME:EET
DTSTART:20241027T010000
END:STANDARD
BEGIN:DAYLIGHT
TZOFFSETFROM:+0200
TZOFFSETTO:+0300
TZNAME:EEST
DTSTART:20250330T010000
END:DAYLIGHT
BEGIN:STANDARD
TZOFFSETFROM:+0300
TZOFFSETTO:+0200
TZNAME:EET
DTSTART:20251026T010000
END:STANDARD
END:VTIMEZONE
BEGIN:VEVENT
DTSTART;TZID=Europe/Bucharest:20241019T100000
DTEND;TZID=Europe/Bucharest:20241019T130000
DTSTAMP:20260423T134601
CREATED:20241008T163540Z
LAST-MODIFIED:20241008T163541Z
UID:16374-1729332000-1729342800@caleacunoasterii.com
SUMMARY:Atelier cu Codrin Dan si Svetlana Coseacova
DESCRIPTION:Partea introductivă a acestui ATELIER va fi ghidată de Svetlana Coseacova\, fondatorul “Calea Cunoașterii”\, administrator și consultant spiritual. \n\n\n\nVom răspunde la câteva întrebări de bază despre Evoluția Spirituală: piedici\, motive de stagnare\, involuție și alte aspecte. Vom redescoperi cauzele din noi care ne-au ridicat și cele care ne-au tras în jos. Vom lucra interactiv cu publicul\, folosind exemple vii\, pentru a înțelege esența eșecului și a succesului nostru. Ne vom regăsi și vom decide să privim doar în sus! \n\n\n\nPartea a doua este cea mai atractivă. \n\n\n\nTema principală a acestei lucrări este “VINDECAREA PRIN IUBIRE”. \n\n\n\nGhidată de o persoană înzestrată cu multiple Haruri Divine încă de la naștere\, această întâlnire ne va aduce numeroase beneficii și schimbări pe toate nivelurile vieții. \n\n\n\nClarviziunea\, clarcunoașterea\, cunoștințele în psihologie și teologie\, precum și experiența ca Terapeut în diverse domenii și numeroasele școli\, cursuri și călătorii spirituale în Tibet\, pe El Camino\, în Locurile Sfinte din Israel și Palestina\, Mănăstiri din toată Europa și nu numai\, au amplificat cu mult toate darurile și harurile deja existente. Cu un bagaj de experiență vast acumulat de-a lungul vieții\, vine acum în fața noastră pentru a ne împărtăși din ceea ce are de oferit. \n\n\n\nA ajutat prin consultațiile parapsihologice nenumărate suflete\, care și-au schimbat destinele în urma acestora. \n\n\n\nGhid spiritual pentru sute de persoane până în prezent\, cu rezultate fenomenale obținute\, va lucra pentru noi tot ceea ce este necesar în acest moment. \n\n\n\nVom beneficia de curățare energetică și vom avea meditații pentru reabilitarea energetică și fizică. \n\n\n\nSe vor ridica informațiile și energiile negative de pe cei prezenți\, se vor tăia cordoanele/șirurile energetice care adesea ne blochează și ne împiedică să avansăm. În funcție de caz\, se vor oferi metode simple și ușor de realizat prin rugăciune și credință. \n\n\n\nAura fiecărei persoane din sală va fi reglată\, unora chiar individual\, și se vor oferi diverse activări pentru reabilitarea stării fizice și energetice. \n\n\n\nVom avea parte de meditații și alte activități legate de tematica lucrării. \n\n\n\nEste un atelier interactiv\, în cadrul căruia se vor alege aleatoriu câteva persoane din lista de participanți\, care vor lansa în gând o întrebare și vor primi un răspuns. \n\n\n\nPe toată durata lucrării\, pot apărea informații sau indicații divine care nu sunt planificate inițial. \n\n\n\nTotul se va desfășura sub ghidarea Sfintei Treimi și a tuturor Lucrătorilor în Lumină din ceruri. \n\n\n\n \n\n\n\nATELIER DE REABILITARE “VINDECAREA PRIN IUBIRE” \n\n\n\nAdresa: Calea Victoriei 56\, Grand Hotel Continental. \n\n\n\nContribuția de participare este de 250 lei de persoană.Plata se face la intrarea în sală.Înregistrarea la acest Atelier se face prin:Tel. contact: +40762203131\, mesaj WhatsApp. \n\n\n\nNU EXISTĂ CONTRAINDICAȚII.
URL:https://caleacunoasterii.com/event/atelier-cu-codrin-dan-si-svetlana-coseacova/
END:VEVENT
END:VCALENDAR