BEGIN:VCALENDAR
VERSION:2.0
PRODID:-//Calea cunoașterii - ECPv6.15.16//NONSGML v1.0//EN
CALSCALE:GREGORIAN
METHOD:PUBLISH
X-WR-CALNAME:Calea cunoașterii
X-ORIGINAL-URL:https://caleacunoasterii.com
X-WR-CALDESC:Events for Calea cunoașterii
REFRESH-INTERVAL;VALUE=DURATION:PT1H
X-Robots-Tag:noindex
X-PUBLISHED-TTL:PT1H
BEGIN:VTIMEZONE
TZID:Europe/Bucharest
BEGIN:DAYLIGHT
TZOFFSETFROM:+0200
TZOFFSETTO:+0300
TZNAME:EEST
DTSTART:20230326T010000
END:DAYLIGHT
BEGIN:STANDARD
TZOFFSETFROM:+0300
TZOFFSETTO:+0200
TZNAME:EET
DTSTART:20231029T010000
END:STANDARD
BEGIN:DAYLIGHT
TZOFFSETFROM:+0200
TZOFFSETTO:+0300
TZNAME:EEST
DTSTART:20240331T010000
END:DAYLIGHT
BEGIN:STANDARD
TZOFFSETFROM:+0300
TZOFFSETTO:+0200
TZNAME:EET
DTSTART:20241027T010000
END:STANDARD
BEGIN:DAYLIGHT
TZOFFSETFROM:+0200
TZOFFSETTO:+0300
TZNAME:EEST
DTSTART:20250330T010000
END:DAYLIGHT
BEGIN:STANDARD
TZOFFSETFROM:+0300
TZOFFSETTO:+0200
TZNAME:EET
DTSTART:20251026T010000
END:STANDARD
END:VTIMEZONE
BEGIN:VEVENT
DTSTART;TZID=Europe/Bucharest:20241104T200000
DTEND;TZID=Europe/Bucharest:20241104T210000
DTSTAMP:20260422T201609
CREATED:20240915T064303Z
LAST-MODIFIED:20240915T064304Z
UID:16081-1730750400-1730754000@caleacunoasterii.com
SUMMARY:Program de Gestionare a Energiilor Nivel 1
DESCRIPTION:CURS PRACTIC PENTRU FOLOSIREA ENERGIILOR IN SCOP TERAPEUTIC \n\n\n\n \n\n\n\nAcest PROGRAM este recomandat tuturor persoanelor interesate de metode de manipulare si utilizare a energiilor in scopul reabilitarii energetice si fizice a intregului Sistem Uman\, fizic si energetic\, atat pentru sine\, cat si pentru altii. \n\n\n\nRecomandat Terapeutilor si persoanelor fizice\, care au interese personale in a se mentine intr-o stare de sanatate energetica si fizica de nivel inalt. \n\n\n\n \n\n\n\nDESFASURATOR “PROGRAM DE GESTIONARE A ENERGIILOR” \n\n\n\nTERAPII EXTINSE \n\n\n\nNIVEL 1 \n\n\n\nPERSONAL \n\n\n\n– Deblocarea energiilor personale \n\n\n\n– Curatarea energiilor cu incarcatura negativa \n\n\n\n– Curatarea centrelor energetice \n\n\n\n– Curatarea meridianelor energetice \n\n\n\n– Conexiunea energetica cu natura: plante\, animale\, biosisteme\, etc. \n\n\n\n– Aplicarea in practica: \n\n\n\n  – munca cu subconstiientul \n\n\n\n  – munca cu energiile \n\n\n\n  – munca cu Sinele Personal. \n\n\n\nActivari definitive \n\n\n\n1.Activarea centrelor energetice secundare \n\n\n\n2.Activarea Canalului central \n\n\n\n3.Activarea centrului energetic al inimii. \n\n\n\n \n\n\n\nNIVEL 2 \n\n\n\nPERSONAL AVANSAT \n\n\n\n– Sisteme de protectie si activarea lor \n\n\n\n– Autovindecarea: metode de autovindecare \n\n\n\n– Munca cu noi si cu membrii familiei. \n\n\n\nActivari definitive \n\n\n\n1.Activarea si extinderea nivelului energetic personal \n\n\n\n2.Activarea filtrului selectiv \n\n\n\n3.Activarea stringului de cristal (care face legatura intre noi si membrii familiei\, ulterior va face legatura si cu subiectii care solicita terapie la distanta.) \n\n\n\n \n\n\n\nNIVEL3 \n\n\n\nEXTINS \n\n\n\n– Perceptii senzitive (teorie si practica) \n\n\n\n– Munca cu persoane live (teorie) \n\n\n\n– Rafinarea perceptiilor prin exercitii folosind cele 5 simturi. \n\n\n\nActivari definitive \n\n\n\n1.Activarea perceptiei vizuale \n\n\n\n2.Activarea perceptiei auditive \n\n\n\n3.Activarea perceptiei olfactive \n\n\n\n4.Activarea perceptiei gustative \n\n\n\n5.Activarea perceptiei tactile. \n\n\n\n \n\n\n\nNIVEL 4 \n\n\n\nTERAPIA DISTALA \n\n\n\n– Munca pe subiecti aflati la distanta \n\n\n\n– Munca pe grupuri mari aflate la distanta\, sau live. \n\n\n\n– Munca la distanta cu grupuri aflate in situatii de razboi\, dezastre naturale\, cataclisme\, etc. \n\n\n\n– Munca cu cei trecuti in plan astral. \n\n\n\nActivari definitive \n\n\n\nActivarea celor 5 puteri ale sistemului energetic personal \n\n\n\n1.Activarea conexiunii cu Divinitatea\, centrul crestetului \n\n\n\n2.Activarea centrului energetic al fruntii \n\n\n\n3.Activarea centrului energetic al inimii\, forta vindecatoare a iubirii \n\n\n\n4.Activarea centrului energetic al ombilicului\,cultivarea energiei creative \n\n\n\n5.Activarea centrului energetic bazal\, pentru puterea personala. \n\n\n\nSe achizitioneaza tot Pachetul\, care dureaza aproximativ 40 zile.  \n\n\n\nSe lucreaza un NIVEL la aproximativ 10 zile. \n\n\n\nGrupul se creaza si se inchide. Nu se poate adera ulterior la Grupul in derulare. \n\n\n\nDupa terminarea/absolvirea unui Grup\, se va crea altul si la fel se va inchide si lucra pana la final. \n\n\n\n \n\n\n\nContributia de participare:  \n\n\n\n3 000 lei (2521 lei + TVA)\, sau 600 euro (504 euro + TVA) de persoana majora cu varsta de peste minim 18 ani. \n\n\n\nCont: \n\n\n\nLIBRA INTERNET BANK \n\n\n\nRO95BREL0002002904570100    lei \n\n\n\nRO14BREL0002002904570200    euro \n\n\n\nSwift cod : BRELROBUXXX \n\n\n\nDestinatar: CALEA CUNOASTERII SRL \n\n\n\nSediu:  \n\n\n\noras Pantelimon\, str Gradinarilor 30\, bl 5\, et 2\, ap 9\, judet Ilfov\, cod postal: 077145 \n\n\n\nCUI:   RO42269307 din 17.02.2020 \n\n\n\nR.C.: J23/769/14.02.2020 \n\n\n\n \n\n\n\nCONTRAINDICATII: NU EXISTA \n\n\n\nÎnregistrarea se face la nr. tel. +40762203131\, mesaj Whatsapp.
URL:https://caleacunoasterii.com/event/program-de-gestionare-a-energiilor-nivel-1-2/
END:VEVENT
BEGIN:VEVENT
DTSTART;TZID=Europe/Bucharest:20241104T210000
DTEND;TZID=Europe/Bucharest:20241104T220000
DTSTAMP:20260422T201609
CREATED:20241025T060720Z
LAST-MODIFIED:20241025T065822Z
UID:16541-1730754000-1730757600@caleacunoasterii.com
SUMMARY:Abundența divina și activarea surselor de venit material - 2 în 1
DESCRIPTION:Două lucrări\, “Banii și Abundența” și “Activarea surselor de venit material” au fost combinate într-un singur seminar pentru a vă putea oferi mai multe beneficii în același interval de timp pentru binele dumneavoastră suprem.\n\n\n\n \n\n\n\nAbundența se va răsfrânge asupra tuturor domeniilor vieții din această realitate și prin puterea cuvântului. Petra va cere activarea tuturor surselor de venituri materiale. \n\n\n\nIndiferent de sursele dumneavoastră de venit\, fie că sunt salariale sau din afaceri sau altele\, se va cere înlăturarea tuturor blocajelor financiare de pe ele. Veți fi introduși în flux\, se va deschide canalul de abundență peste dumneavoastră\, peste afacerile dumneavoastră\, peste toate sursele de venituri auxiliare și veți deveni un magnet pentru atragerea a tot ce este întru binele dumneavoastră superior\, cu voia și acordul divin. \n\n\n\n \n\n\n\nFiecare va fi binecuvântat cu tot ce e mai bun și cu ceea ce merită de la Dumnezeu. \n\n\n\nAcest seminar este unul practic\, lucrativ. Durata evenimentului este de cel puțin o oră. \n\n\n\nPuțină teorie sub forma unor informații\, care vin direct de la sursă în acel moment pentru grupul creat. \n\n\n\n\nRugăciunea de început\, pentru a primi acceptul Divinității.\n\n\n\nDeschiderea portalurilor necesare lucrării\, peste participanții din grup.\n\n\n\nRugăciunea de încheiere\, recunoștință și mulțumire pentru tot ce am primit.\n\n\n\n\nEnergia primită prin aceste portaluri ale abundenței va lucra în noi până la 40 de zile și ne va susține și ajuta în toate acțiunile benefice atât noua\, cât și celor din jur. \n\n\n\n \n\n\n\nNU ARE EFECT PENTRU CERERILE NEGATIVE! \n\n\n\n \n\n\n\nSeminarul se repetă lunar\, deoarece unii dintre noi vor consuma rezerva de energie primită mai rapid de 40 zile. Aceasta se va consuma și pe reabilitarea sănătății\, în măsura permisă de Divinitate. \n\n\n\nSeminarul se repetă lunar\, deoarece unii dintre noi vor consuma rezerva de energie primită mai rapid de 40 zile. Aceasta se va consuma și pe reabilitarea sănătății\, în măsura permisă de Divinitate. \n\n\n\n \n\n\n\nLa acest eveniment care atrage Abundenta asupra noastră\, pot participa persoane care nu vor fi prezente pe youtube\, ci vor fi scrise de cel care a plătit pentru ei\, pe o listă cu  NUME\, PRENUME\, data nașterii\, sau doar o poză\, pe care o veți păstra lângă dumneavoastră în timpul lucrării. \n\n\n\n \n\n\n\nContribuția de participare: minimum 39 (33+TVA) ron sau minimum 8.33 (7+TVA) euro.\n\n\n\nDe ce minimum? \n\n\n\nPrimești după cât dăruiești. Fiecare plătește cât dorește\, fără regrete\, începând de la cel puțin 39 ron sau 8.33 euro. \n\n\n\n \n\n\n\nDomnul Isus a afirmat în Luca 6:38: “Dați\, și vi se va da; se va turna în sânul vostru o măsură bună\, îndesată\, clătinată și care va vărsa cu prisosință. Căci cu măsura cu care măsurați\, vi se va măsura și vouă”.  \n\n\n\nAcest principiu spiritual stabilit de Isus afirmă că cu cât dăm mai mult\, cu atât primim mai mult. Prin dărnicie\, Dumnezeu ne binecuvântează material. Motivul pentru care lucrăm este să putem ajuta pe cei slabi prin dărnicia noastră\, pentru că e mai ferice să dăruim decât să primim. \n\n\n\nPe măsură ce dăm\, Dumnezeu nu îți va înmulți doar sămânța\, ci îți va mări capacitatea de a da și de a primi chiar mai mult. Prin urmare\, cel care dăruiește este avantajat în orice situație: “Iar Dumnezeu poate să vă umple cu tot felul de har\, ca\, având totdeauna în toate lucrurile destul\, să aveți și să fiți în stare să faceți fapte bune în orice situație” (2 Corinteni 9:8). \n\n\n\n \n\n\n\nAcest eveniment va avea loc pe un link de YouTube special creat pentru această dată\, iar link-ul va fi primit direct prin e-mailul de confirmare. Este posibil ca link-ul să nu fie activ până la începerea evenimentului. Dacă nu primiți e-mailul de confirmare cu link-ul cu o oră înainte de începerea evenimentului\, dar v-ați înregistrat prin formularul din calendar din timp\, vă rugăm să ne contactați la +40762203131. \n\n\n\n \n\n\n\nLIBRA INTERNET BANK RO95BREL0002002904570100 leiTransferul bancar in contul de euro se accepta doar din conturi create la bănci din afara Romaniei.RO14BREL0002002904570200 euro \n\n\n\nBRELROBUXXX – BIC / SWIFT Code \n\n\n\nPrevent Duplicate EntryForm Submission is restrictedÎnregistrarea s-a făcut cu succes!2024.11.04 Abundența și activarea surselor de venit materialName*Nume PrenumeTelefon*Email*Contribuția trimisă*Atașați confirmarea plății UploadNo file selectedAcord de prelucrare a datelor personale*Prin completarea acestui formular consimt la inregistrarea și prelucrarea datelor personale pentru accesul la eveniment. Înregistrare
URL:https://caleacunoasterii.com/event/abundenta-divina-si-activarea-surselor-de-venit-material-2-in-1/
END:VEVENT
END:VCALENDAR