BEGIN:VCALENDAR
VERSION:2.0
PRODID:-//Calea cunoașterii - ECPv6.15.16//NONSGML v1.0//EN
CALSCALE:GREGORIAN
METHOD:PUBLISH
X-WR-CALNAME:Calea cunoașterii
X-ORIGINAL-URL:https://caleacunoasterii.com
X-WR-CALDESC:Events for Calea cunoașterii
REFRESH-INTERVAL;VALUE=DURATION:PT1H
X-Robots-Tag:noindex
X-PUBLISHED-TTL:PT1H
BEGIN:VTIMEZONE
TZID:Europe/Bucharest
BEGIN:DAYLIGHT
TZOFFSETFROM:+0200
TZOFFSETTO:+0300
TZNAME:EEST
DTSTART:20230326T010000
END:DAYLIGHT
BEGIN:STANDARD
TZOFFSETFROM:+0300
TZOFFSETTO:+0200
TZNAME:EET
DTSTART:20231029T010000
END:STANDARD
BEGIN:DAYLIGHT
TZOFFSETFROM:+0200
TZOFFSETTO:+0300
TZNAME:EEST
DTSTART:20240331T010000
END:DAYLIGHT
BEGIN:STANDARD
TZOFFSETFROM:+0300
TZOFFSETTO:+0200
TZNAME:EET
DTSTART:20241027T010000
END:STANDARD
BEGIN:DAYLIGHT
TZOFFSETFROM:+0200
TZOFFSETTO:+0300
TZNAME:EEST
DTSTART:20250330T010000
END:DAYLIGHT
BEGIN:STANDARD
TZOFFSETFROM:+0300
TZOFFSETTO:+0200
TZNAME:EET
DTSTART:20251026T010000
END:STANDARD
END:VTIMEZONE
BEGIN:VEVENT
DTSTART;TZID=Europe/Bucharest:20241218T200000
DTEND;TZID=Europe/Bucharest:20241218T210000
DTSTAMP:20260422T050702
CREATED:20241025T064508Z
LAST-MODIFIED:20241025T072515Z
UID:16559-1734552000-1734555600@caleacunoasterii.com
SUMMARY:Puterea iertării
DESCRIPTION:PREȚUL LUNII DECEMBRIE 2024 \n\n\n\nREDUCERE DE 63% \n\n\n\nContribuția de participare după REDUCERE este: 133 lei (112 +TVA) / 29 euro (24 +TVA) per persoană.. \n\n\n\n \n\n\n\nDe ce este important să iertăm pe cei care ne-au greșit? Ce înseamnă\, de fapt\, a ierta? De ce mulți oameni se feresc de iertare? \n\n\n\nIertarea este scara spre sursa creației noastre. Este trenul expres pentru creșterea spirituală. Este cea mai scurtă cale spre cele mai înalte niveluri de conștiință. \n\n\n\nMulte persoane înțeleg greșit ce înseamnă a ierta. Este normal să te distanțezi de persoana care ți-a făcut un rău\, dacă aceasta nu are nici acum gânduri prea bune în ceea ce te privește. Este firesc să simți că nu poate fi de încredere și să nu o poți tolera în preajma ta. Ar fi nesănătos să te apropii de ea pentru că e foarte posibil să te rănească din nou. A ierta nu înseamnă a te duce la persoana care te-a rănit și a-i spune că o ierți din tot sufletul. A ierta\, în primul rând\, înseamnă a te detașa de încărcătura emoțională provocată de trădarea acelei persoane\, de mizeria lăsată în urma ei. Înseamnă a lăsa să plece toată furia\, ura\, resentimentele și frustrările acumulate. Căci răul făcut de aceasta e dublat de sentimentele negative care te macină pe dinăuntru. Trăirile de ură și furie ne urâțesc sufletul și caracterul\, căci ne mențin în negativism și tristețe\, conducând la o viziune distorsionată asupra lumii. \n\n\n\nCând cineva ne-a rănit și continuăm să ducem cu noi povara acelor răni sângerânde\, tindem să-l vedem pe agresor în toți oamenii\, să generalizăm și să vedem partea negativă a lucrurilor. Când ne înconjurăm de iubire și bunătate\, când reușim să iertăm și ni se întâmplă și lucruri bune\, parcă ura și furia nu-și mai găsesc locul nicăieri în noi. \n\n\n\nÎnvățând să iertăm și să ne detașăm de cei care ne-au făcut rău\, de amintirile chinuitoare ale trădării\, cruzimii și egoismului\, ne învăluim sufletul în pace și armonie. Răul făcut odată nu mai are acum nicio forță asupra noastră.Nu este o poveste de adormit copiii. Suntem creați pentru a fi fericiți și pentru a transmite mai departe lumii din această energie. Prin natura noastră\, căutăm armonia și pacea sufletească. Atunci când suntem nefericiți\, devenim răi. Atunci când suntem răi\, devenim nefericiți. E un cerc vicios. \n\n\n\nIertarea înseamnă și a ne ierta pe noi înșine că n-am reușit să ne apărăm de cel care ne-a făcut rău.A ne ierta pe noi și pe cel care ne-a greșit înseamnă a ne dezvolta personal\, a evolua ca persoane\, a deveni mai înțelepte și mai puternice. Din orice experiență negativă putem lua învățăminte care să ne folosească în viață. Depinde doar de noi. Să ne asumăm responsabilitatea pentru propria sănătate emoțională. Să lăsăm în urmă tot acel bagaj afectiv cu care ne-am intoxicat atâta timp\, să nu ne mai atingă niciun rău făcut odată. \n\n\n\n \n\n\n\nRECOMANDAT PENTRU: persoane fizice (adulți\, copii\, poză\, nume\, prenume\, data nașterii) \n\n\n\n \n\n\n\nContribuția de participare: 360 lei (303+TVA) sau 77 (65+TVA) euro per persoana\, poza\, nume \n\n\n\n \n\n\n\nAcest eveniment va avea loc pe un link de YouTube special creat pentru această dată\, iar link-ul va fi primit direct prin e-mailul de confirmare. Este posibil ca link-ul să nu fie activ până la începerea evenimentului. Dacă nu primiți e-mailul de confirmare cu link-ul cu o oră înainte de începerea evenimentului\, dar v-ați înregistrat prin formularul din calendar din timp\, vă rugăm să ne contactați la +40762203131. \n\n\n\n \n\n\n\nLIBRA INTERNET BANKRO95BREL0002002904570100 leiTransferul bancar in contul de euro se accepta doar din conturi create la bănci din afara Romaniei.RO14BREL0002002904570200 euro \n\n\n\nBRELROBUXXX – BIC / SWIFT CodeDestinatar: CALEA CUNOASTERII SRL\, CUI 42269307 \n\n\n\n \n\n\n\nNU EXISTA CONTRAINDICATII PENTRU PARTICIPAREA LA ACEST SEMINAR. \n\n\n\nEFECTE SECUNDARE:E posibil sa apara crizele de vindecare\, care in mod normal sunt de scurta durata\, dupa care apare starea de bine\, ca rezultat al reabilitării. \n\n\n\nNU RENUNTAȚI LA TRATAMENTUL INDICAT DE MEDICUL CURANT. \n\n\n\nPrevent Duplicate EntryForm Submission is restrictedÎnregistrarea s-a făcut cu succes!2024.12.18 Puterea iertăriiName*Nume PrenumeTelefon*Email*Contribuția trimisă*Atașați confirmarea plății UploadNo file selectedAcord de prelucrare a datelor personale*Prin completarea acestui formular consimt la inregistrarea și prelucrarea datelor personale pentru accesul la eveniment. Înregistrare
URL:https://caleacunoasterii.com/event/puterea-iertarii-2/
END:VEVENT
END:VCALENDAR