BEGIN:VCALENDAR
VERSION:2.0
PRODID:-//Calea cunoașterii - ECPv6.15.16//NONSGML v1.0//EN
CALSCALE:GREGORIAN
METHOD:PUBLISH
X-WR-CALNAME:Calea cunoașterii
X-ORIGINAL-URL:https://caleacunoasterii.com
X-WR-CALDESC:Events for Calea cunoașterii
REFRESH-INTERVAL;VALUE=DURATION:PT1H
X-Robots-Tag:noindex
X-PUBLISHED-TTL:PT1H
BEGIN:VTIMEZONE
TZID:Europe/Bucharest
BEGIN:DAYLIGHT
TZOFFSETFROM:+0200
TZOFFSETTO:+0300
TZNAME:EEST
DTSTART:20240331T010000
END:DAYLIGHT
BEGIN:STANDARD
TZOFFSETFROM:+0300
TZOFFSETTO:+0200
TZNAME:EET
DTSTART:20241027T010000
END:STANDARD
BEGIN:DAYLIGHT
TZOFFSETFROM:+0200
TZOFFSETTO:+0300
TZNAME:EEST
DTSTART:20250330T010000
END:DAYLIGHT
BEGIN:STANDARD
TZOFFSETFROM:+0300
TZOFFSETTO:+0200
TZNAME:EET
DTSTART:20251026T010000
END:STANDARD
BEGIN:DAYLIGHT
TZOFFSETFROM:+0200
TZOFFSETTO:+0300
TZNAME:EEST
DTSTART:20260329T010000
END:DAYLIGHT
BEGIN:STANDARD
TZOFFSETFROM:+0300
TZOFFSETTO:+0200
TZNAME:EET
DTSTART:20261025T010000
END:STANDARD
END:VTIMEZONE
BEGIN:VEVENT
DTSTART;TZID=Europe/Bucharest:20250108T200000
DTEND;TZID=Europe/Bucharest:20250108T210000
DTSTAMP:20260421T191002
CREATED:20241112T181955Z
LAST-MODIFIED:20241130T112634Z
UID:16765-1736366400-1736370000@caleacunoasterii.com
SUMMARY:Planificarea și Activarea Proiectelor și Dorințelor pentru anul 2025
DESCRIPTION:Contributia de participare dupa reducere este de 180 lei (151.5 +TVA) / 38 euro (31.93 +TVA) per persoană.\n\n\n\n\n\n\n\n-Pune-ți o dorință. \n\n\n\n– Mi-am pus. \n\n\n\n– Bravo. Acum\, îndeplinește-ți-o! \n\n\n\nAșa funcționează totul în Univers. Și acum urmează întrebarea majorității: \n\n\n\n– Cum să o îndeplinesc? Ce să fac? Cât să fac? Ș.a.m.d. \n\n\n\nPentru a vă ușura calea îndeplinirii dorințelor proprii\, am hotărât să vă oferim un seminar cu tematica adecvată. Momentul este ideal – începutul anului\, deși\, în realitate\, un nou început poate fi făcut oricând. De data aceasta\, însă\, ne va susține și energia Universului specifică începutului de an. \n\n\n\nPentru participarea la acest seminar\, este necesar să pregătiți deja un plan sau o listă cu ceea ce doriți să se împlinească în decursul acestui an. Vă sugerez să faceți această listă într-un caiet\, agendă sau alt suport\, pe care să-l păstrați până la sfârșitul anului\, când veți putea evalua ce s-a împlinit deja și veți putea trece pe o nouă listă dorințele pentru anul următor. Desigur\, puteți folosi și foi pe care să le păstrați pentru a verifica rezultatele. Așadar\, toți cei care se vor înregistra pentru participare la seminar să vină cu această sarcină îndeplinită. \n\n\n\nÎn timpul lucrării\, PETRA va realiza tot ceea ce este specificat în titlul seminarului și\, posibil\, și altele. Suntem deja obișnuiți cu faptul că\, de multe ori\, Dumnezeu ne trimite diverse mesaje sau cadouri instantanee pentru grupul creat. Ne vom bucura din plin de toate beneficiile primite cu drag de la Sfânta Treime. \n\n\n\nSeminarul este recomandat oricui știe ce dorește – copii\, tineri\, adulți. \n\n\n\nContribuția de participare: 360 lei (303 + TVA) / 77 euro (65 + TVA) per persoană \n\n\n\n \n\n\n\nLIBRA INTERNET BANK RO95BREL0002002904570100 leiTransferul bancar in contul de euro se accepta doar din conturi create la bănci din afara Romaniei.RO14BREL0002002904570200 euro \n\n\n\nBRELROBUXXX – BIC / SWIFT CodeDestinatar: CALEA CUNOASTERII SRL\, CUI 42269307 \n\n\n\n \n\n\n\nNU EXISTĂ CONTRAINDICAȚII PENTRU PARTICIPAREA LA ACEST SEMINAR. \n\n\n\nPrevent Duplicate EntryForm Submission is restrictedÎnregistrarea s-a făcut cu succes!2025.01.08 Planificarea și Activarea Proiectelor și Dorințelor pentru anul 2025Name*Nume PrenumeTelefon*Email*Contribuția trimisă*Atașați confirmarea plății UploadNo file selectedAcord de prelucrare a datelor personale*Prin completarea acestui formular consimt la inregistrarea și prelucrarea datelor personale pentru accesul la eveniment. Înregistrare
URL:https://caleacunoasterii.com/event/planificarea-si-activarea-proiectelor-si-dorintelor-pentru-anul-2025/
END:VEVENT
END:VCALENDAR