BEGIN:VCALENDAR
VERSION:2.0
PRODID:-//Calea cunoașterii - ECPv6.15.16//NONSGML v1.0//EN
CALSCALE:GREGORIAN
METHOD:PUBLISH
X-WR-CALNAME:Calea cunoașterii
X-ORIGINAL-URL:https://caleacunoasterii.com
X-WR-CALDESC:Events for Calea cunoașterii
REFRESH-INTERVAL;VALUE=DURATION:PT1H
X-Robots-Tag:noindex
X-PUBLISHED-TTL:PT1H
BEGIN:VTIMEZONE
TZID:Europe/Bucharest
BEGIN:DAYLIGHT
TZOFFSETFROM:+0200
TZOFFSETTO:+0300
TZNAME:EEST
DTSTART:20240331T010000
END:DAYLIGHT
BEGIN:STANDARD
TZOFFSETFROM:+0300
TZOFFSETTO:+0200
TZNAME:EET
DTSTART:20241027T010000
END:STANDARD
BEGIN:DAYLIGHT
TZOFFSETFROM:+0200
TZOFFSETTO:+0300
TZNAME:EEST
DTSTART:20250330T010000
END:DAYLIGHT
BEGIN:STANDARD
TZOFFSETFROM:+0300
TZOFFSETTO:+0200
TZNAME:EET
DTSTART:20251026T010000
END:STANDARD
BEGIN:DAYLIGHT
TZOFFSETFROM:+0200
TZOFFSETTO:+0300
TZNAME:EEST
DTSTART:20260329T010000
END:DAYLIGHT
BEGIN:STANDARD
TZOFFSETFROM:+0300
TZOFFSETTO:+0200
TZNAME:EET
DTSTART:20261025T010000
END:STANDARD
END:VTIMEZONE
BEGIN:VEVENT
DTSTART;TZID=Europe/Bucharest:20250114T200000
DTEND;TZID=Europe/Bucharest:20250114T210000
DTSTAMP:20260421T152201
CREATED:20241222T085014Z
LAST-MODIFIED:20241231T184323Z
UID:17268-1736884800-1736888400@caleacunoasterii.com
SUMMARY:Manifestarea unei relații armonioase de cuplu - NOU
DESCRIPTION:Acest seminar este recomandat tuturor! Cei care deja sunt într-un cuplu vor beneficia de actualizarea relației\, iar cei care sunt în căutarea unui partener potrivit vor atrage acea persoană cu ușurință și vor crea și manifesta un cuplu fericit. \n\n\n\nScopul lucrării este să manifestăm în viața noastră o relație sănătoasă\, plină de bucurii și realizări comune\, aducând fericirea pe primul plan. \n\n\n\nCâteva puncte care se vor lucra la acest seminar: \n\n\n\n\nConexiunea cu partenerul existent deja sau cu cel potențial.\n\n\n\nDizolvarea blocajelor dintre parteneri.\n\n\n\nArmonizări și echilibrări energetice între parteneri.\n\n\n\nȘtergerea și dizolvarea tiparelor comportamentale privind relațiile și relaționările dintre parteneri.\n\n\n\nProgramarea rețelei neuronale pentru armonizarea relației și comunicării dintre parteneri.\n\n\n\n\nPe lângă programul afișat în descrierea lucrării\, pot apărea și alte elemente venite de la Divinitate în timpul seminarului\, care sunt benefice și necesare grupului creat. Bonusurile divine sunt mereu binevenite pentru noi toți. \n\n\n\nContribuție de participare: 250 RON (210 RON + TVA)\, 55 EUR (46 EUR + TVA) de persoană. \n\n\n\nLIBRA INTERNET BANK RO95BREL0002002904570100 leiTransferul bancar in contul de euro se accepta doar din conturi create la bănci din afara Romaniei.RO14BREL0002002904570200 euro \n\n\n\nBRELROBUXXX – BIC / SWIFT CodeDestinatar: CALEA CUNOASTERII SRL\,  \n\n\n\nCUI 42269307 / 17.02.2020\, J23/769 / 14.02.2020 \n\n\n\nPrevent Duplicate EntryForm Submission is restrictedÎnregistrarea s-a făcut cu succes!2025.01.14 Manifestarea unei relații armonioase de cuplu - NOUName*Nume PrenumeTelefon*Email*Contribuția trimisă*Atașați confirmarea plății UploadNo file selectedAcord de prelucrare a datelor personale*Prin completarea acestui formular consimt la inregistrarea și prelucrarea datelor personale pentru accesul la eveniment. Înregistrare
URL:https://caleacunoasterii.com/event/manifestarea-unei-relatii-armonioase-de-cuplu-nou/
END:VEVENT
END:VCALENDAR