BEGIN:VCALENDAR
VERSION:2.0
PRODID:-//Calea cunoașterii - ECPv6.15.16//NONSGML v1.0//EN
CALSCALE:GREGORIAN
METHOD:PUBLISH
X-WR-CALNAME:Calea cunoașterii
X-ORIGINAL-URL:https://caleacunoasterii.com
X-WR-CALDESC:Events for Calea cunoașterii
REFRESH-INTERVAL;VALUE=DURATION:PT1H
X-Robots-Tag:noindex
X-PUBLISHED-TTL:PT1H
BEGIN:VTIMEZONE
TZID:Europe/Bucharest
BEGIN:DAYLIGHT
TZOFFSETFROM:+0200
TZOFFSETTO:+0300
TZNAME:EEST
DTSTART:20240331T010000
END:DAYLIGHT
BEGIN:STANDARD
TZOFFSETFROM:+0300
TZOFFSETTO:+0200
TZNAME:EET
DTSTART:20241027T010000
END:STANDARD
BEGIN:DAYLIGHT
TZOFFSETFROM:+0200
TZOFFSETTO:+0300
TZNAME:EEST
DTSTART:20250330T010000
END:DAYLIGHT
BEGIN:STANDARD
TZOFFSETFROM:+0300
TZOFFSETTO:+0200
TZNAME:EET
DTSTART:20251026T010000
END:STANDARD
BEGIN:DAYLIGHT
TZOFFSETFROM:+0200
TZOFFSETTO:+0300
TZNAME:EEST
DTSTART:20260329T010000
END:DAYLIGHT
BEGIN:STANDARD
TZOFFSETFROM:+0300
TZOFFSETTO:+0200
TZNAME:EET
DTSTART:20261025T010000
END:STANDARD
END:VTIMEZONE
BEGIN:VEVENT
DTSTART;TZID=Europe/Bucharest:20250116T200000
DTEND;TZID=Europe/Bucharest:20250116T210000
DTSTAMP:20260422T100347
CREATED:20241222T091143Z
LAST-MODIFIED:20241231T184516Z
UID:17270-1737057600-1737061200@caleacunoasterii.com
SUMMARY:Program de inițieri pe dezvoltare extinsă; Prima inițiere: "Comunicarea"
DESCRIPTION:Un program de inițieri mai lejer\, cu ajutorul căruia ne vom reactiva și dezvolta și mai mult calitățile umane\, pe care le are fiecare în sine încă de la planul primordial conceput de Divinitate. Estomparea sau chiar pierderea unor calități native duce spre degradarea conștiinței\, care duce la rândul ei la deteriorarea conexiunii cu Dumnezeu. Această lipsă de conexiune duce la boală și chiar la trecerea în neființă în moduri destul de neplăcute. \n\n\n\nAcest program este mai lejer\, deoarece nu contează când vă alăturați grupului de inițiați. Puteți începe oricând\, cu oricare dintre ele\, doar să ajungeți să le faceți pe toate\, căci ele creează un complex\, ca un cerc\, pe care e indicat să-l închideți. În fiecare lună vom avea câte o inițiere\, care va avea o anume temă. \n\n\n\nLista inițierilor: \n\n\n\n\nInițierea pe comunicare.\n\n\n\nInițierea pe cunoaștere și învățare.\n\n\n\nInițierea pe dezvoltare emoțională.\n\n\n\nInițierea pe dezvoltare personală.\n\n\n\nInițierea pe acceptare și eliberare.\n\n\n\nInițierea pe creativitate.\n\n\n\nInițierea pe logică.\n\n\n\nInițierea pe focusare și atenție.\n\n\n\nInițierea pe conștientizare\, descoperire și dezvăluire.\n\n\n\n\nSe poate începe cu oricare dintre ele\, care este în acest moment în calendar\, oricând. Ele sunt independente\, dar creează un tot întreg\, un program destul de important. \n\n\n\n \n\n\n\nContribuție de participare per inițiere: \n\n\n\n300 RON (252 RON + TVA)\, 65 EUR (88 EUR + TVA) de persoană. \n\n\n\nLIBRA INTERNET BANK RO95BREL0002002904570100 leiTransferul bancar in contul de euro se accepta doar din conturi create la bănci din afara Romaniei.RO14BREL0002002904570200 euro \n\n\n\nBRELROBUXXX – BIC / SWIFT CodeDestinatar: CALEA CUNOASTERII SRL\,  \n\n\n\nCUI 42269307 / 17.02.2020\, J23/769 / 14.02.2020 \n\n\n\nPrevent Duplicate EntryForm Submission is restrictedÎnregistrarea s-a făcut cu succes!2025.01.16 Program de inițieri pe dezvoltare extinsă; Prima inițiere: "Comunicarea"Name*Nume PrenumeTelefon*Email*Contribuția trimisă*Atașați confirmarea plății UploadNo file selectedAcord de prelucrare a datelor personale*Prin completarea acestui formular consimt la inregistrarea și prelucrarea datelor personale pentru accesul la eveniment. Înregistrare
URL:https://caleacunoasterii.com/event/program-de-initieri-pe-dezvoltare-extinsa-prima-initiere-comunicarea/
END:VEVENT
END:VCALENDAR