BEGIN:VCALENDAR
VERSION:2.0
PRODID:-//Calea cunoașterii - ECPv6.15.16//NONSGML v1.0//EN
CALSCALE:GREGORIAN
METHOD:PUBLISH
X-ORIGINAL-URL:https://caleacunoasterii.com
X-WR-CALDESC:Events for Calea cunoașterii
REFRESH-INTERVAL;VALUE=DURATION:PT1H
X-Robots-Tag:noindex
X-PUBLISHED-TTL:PT1H
BEGIN:VTIMEZONE
TZID:Europe/Bucharest
BEGIN:DAYLIGHT
TZOFFSETFROM:+0200
TZOFFSETTO:+0300
TZNAME:EEST
DTSTART:20240331T010000
END:DAYLIGHT
BEGIN:STANDARD
TZOFFSETFROM:+0300
TZOFFSETTO:+0200
TZNAME:EET
DTSTART:20241027T010000
END:STANDARD
BEGIN:DAYLIGHT
TZOFFSETFROM:+0200
TZOFFSETTO:+0300
TZNAME:EEST
DTSTART:20250330T010000
END:DAYLIGHT
BEGIN:STANDARD
TZOFFSETFROM:+0300
TZOFFSETTO:+0200
TZNAME:EET
DTSTART:20251026T010000
END:STANDARD
BEGIN:DAYLIGHT
TZOFFSETFROM:+0200
TZOFFSETTO:+0300
TZNAME:EEST
DTSTART:20260329T010000
END:DAYLIGHT
BEGIN:STANDARD
TZOFFSETFROM:+0300
TZOFFSETTO:+0200
TZNAME:EET
DTSTART:20261025T010000
END:STANDARD
END:VTIMEZONE
BEGIN:VEVENT
DTSTART;TZID=Europe/Bucharest:20250204T200000
DTEND;TZID=Europe/Bucharest:20250204T210000
DTSTAMP:20260421T142727
CREATED:20250125T200446Z
LAST-MODIFIED:20250127T093814Z
UID:17855-1738699200-1738702800@caleacunoasterii.com
SUMMARY:Curățarea energetică de frici și atacuri de panică
DESCRIPTION:Frica este cel mai mare dușman al nostru.Această lucrare are ca scop curățarea energetică și dezintegrarea tuturor fricilor și fobiilor posibile. \n\n\n\nAtacurile de panică provin din frici bine înrădăcinate în structurile noastre\, inclusiv în memoria celulară. De aceea\, vom ridica duhurile de frică și elementele perturbatoare din câmpul auric. Vom extrage toate elementele de frecvență joasă din rețeaua neuronală\, sub formă de tipare preluate de la ceilalți\, de la rude\, din arborele genealogic sau din fricile aduse din alte existențe\, timpuri și dimensiuni. \n\n\n\nRestabilim încrederea personală și ne luăm autoritatea în propriile mâini. Puterea interioară va fi instalată în sistemele noastre prin frecvențe și coduri acordate perfect fiecărei persoane. Instrumentul de lucru folosit pentru a ne acorda direct și instant la puterea noastră interioară este Lira de Cristal. \n\n\n\nAcest eveniment are loc pe un link de YouTube special creat pentru data respectivă. Linkul îl veți primi în e-mailul de confirmare a înregistrării prin formularul de înregistrare. Se va crea un grup de WhatsApp special pentru acest seminar\, destinat socializării de după lucrare. \n\n\n\nIMPORTANT:Dacă nu vă regăsiți în grup cu o oră înainte de începerea evenimentului\, dar v-ați înregistrat din timp prin formularul de înregistrare din calendar și ați primit e-mailul de confirmare\, vă rugăm să ne contactați la +40762203131. \n\n\n\n\n\n\n\nContribuția de participare: \n\n\n\n\n250 lei (210 + TVA) sau\n\n\n\n55 euro (46 + TVA) per persoană.\n\n\n\n\nContul bancar pentru contribuția de participare: \n\n\n\nLIBRA INTERNET BANK \n\n\n\n\nCont în lei: RO95BREL0002002904570100\n\n\n\nCont în euro (doar din conturi create la bănci din afara României):RO14BREL0002002904570200\n\n\n\n\nBIC/SWIFT Code: BRELROBUXXXDestinatar: CALEA CUNOAȘTERII SRL\, CUI 42269307 \n\n\n\n\n\n\n\nCONTRAINDICAȚII: NU EXISTĂ. \n\n\n\nRECOMANDAT PENTRU: \n\n\n\nPersoane fizice (adulți\, copii – poză\, nume\, prenume și data nașterii scrise pe o listă). \n\n\n\n\n\n\n\nEFECTE SECUNDARE:Este posibil să apară un val de detoxifiere și curățare a organismului\, incluzând: \n\n\n\n\nEliminarea șlacurilor și a reziduurilor metabolice de la nivel celular;\n\n\n\nDureri de cap\, stări de greață sau amețeli\, toate fiind temporare.\n\n\n\n\nRecomandări: \n\n\n\n\nConsumați cât mai multă apă pentru a ajuta eliminarea toxinelor;\n\n\n\nDacă aveți stări de greață\, este indicat să vomitați – acest lucru ajută la eliminarea rapidă a toxinelor\, fără a trece prin ficat și rinichi;\n\n\n\nAdoptați o alimentație ușoară\, preferabil de post;\n\n\n\nBeți ceaiuri din plante adecvate afecțiunilor.\n\n\n\n\nIMPORTANT: Nu renunțați la tratamentul indicat de medicul curant. \n\n\n\nPrevent Duplicate EntryForm Submission is restrictedÎnregistrarea s-a făcut cu succes!2025.02.04 Curățarea energetică de frici și atacuri de panicăName*Nume PrenumeTelefon*Email*Contribuția trimisă*Atașați confirmarea plății UploadNo file selectedAcord de prelucrare a datelor personale*Prin completarea acestui formular consimt la inregistrarea și prelucrarea datelor personale pentru accesul la eveniment. Înregistrare
URL:https://caleacunoasterii.com/event/curatarea-energetica-de-frici-si-atacuri-de-panica/
END:VEVENT
END:VCALENDAR