BEGIN:VCALENDAR
VERSION:2.0
PRODID:-//Calea cunoașterii - ECPv6.15.16//NONSGML v1.0//EN
CALSCALE:GREGORIAN
METHOD:PUBLISH
X-WR-CALNAME:Calea cunoașterii
X-ORIGINAL-URL:https://caleacunoasterii.com
X-WR-CALDESC:Events for Calea cunoașterii
REFRESH-INTERVAL;VALUE=DURATION:PT1H
X-Robots-Tag:noindex
X-PUBLISHED-TTL:PT1H
BEGIN:VTIMEZONE
TZID:Europe/Bucharest
BEGIN:DAYLIGHT
TZOFFSETFROM:+0200
TZOFFSETTO:+0300
TZNAME:EEST
DTSTART:20240331T010000
END:DAYLIGHT
BEGIN:STANDARD
TZOFFSETFROM:+0300
TZOFFSETTO:+0200
TZNAME:EET
DTSTART:20241027T010000
END:STANDARD
BEGIN:DAYLIGHT
TZOFFSETFROM:+0200
TZOFFSETTO:+0300
TZNAME:EEST
DTSTART:20250330T010000
END:DAYLIGHT
BEGIN:STANDARD
TZOFFSETFROM:+0300
TZOFFSETTO:+0200
TZNAME:EET
DTSTART:20251026T010000
END:STANDARD
BEGIN:DAYLIGHT
TZOFFSETFROM:+0200
TZOFFSETTO:+0300
TZNAME:EEST
DTSTART:20260329T010000
END:DAYLIGHT
BEGIN:STANDARD
TZOFFSETFROM:+0300
TZOFFSETTO:+0200
TZNAME:EET
DTSTART:20261025T010000
END:STANDARD
END:VTIMEZONE
BEGIN:VEVENT
DTSTART;TZID=Europe/Bucharest:20250211T200000
DTEND;TZID=Europe/Bucharest:20250211T210000
DTSTAMP:20260421T191942
CREATED:20250125T201018Z
LAST-MODIFIED:20250127T093730Z
UID:17857-1739304000-1739307600@caleacunoasterii.com
SUMMARY:Curățarea energetică de magie neagră
DESCRIPTION:EXISTĂ MAGIE NEAGRĂ? \n\n\n\nPărerile sunt împărțite: da sau nu. \n\n\n\nInteresant este că cei care susțin că nu există reprezintă un procent foarte mic\, față de cei care afirmă că aceasta există 100%. Adevărul este undeva la mijloc. \n\n\n\nPentru cei mai mulți\, magia neagră chiar există și îi afectează adesea profund. Se poate face ceva pentru a scăpa de influențele acestor energii malefice? DA\, se poate. \n\n\n\nDupă ce scăpăm de ele\, ne mai pot ataca?DA\, pot\, dacă frecvențele energetice ale dumneavoastră nu sunt suficient de înalte pentru a vă proteja. \n\n\n\nVrăji\, blesteme\, farmece\, făcături\, lucrături\, contracte energetice\, jurăminte\, promisiuni și alte energii joase\, provenite din această viață sau din alte existențe\, create de noi înșine\, moștenite de pe arborele genealogic sau generate de persoane care nu înțeleg\, ori nu le pasă\, că toate acestea se plătesc – uneori chiar prea scump\, prin suferințele celor dragi nouă – vor fi curățate în timpul acestei lucrări. \n\n\n\nVom lucra cu Sfânta Treime și vom cere curățarea\, dezintegrarea și anularea acestor energii pentru totdeauna. Vom primi protecții împotriva agresiunilor energetice și vom fi ridicați la un nivel vibrațional mai înalt\, atât cât ne permit propriile sisteme. \n\n\n\nSe recomandă să participați de mai multe ori la această lucrare. De fiecare dată\, veți primi vibrații tot mai înalte\, pentru binele vostru superior\, personalizat. În timp\, veți deveni capabili să nu mai recepționați energiile de frecvențe joase. \n\n\n\n\n\n\n\nDetalii eveniment: \n\n\n\nAcest eveniment are loc pe un link de YouTube special creat pentru data respectivă. \n\n\n\n\nLinkul îl veți primi în e-mailul de confirmare a înregistrării\, prin formularul de înscriere.\n\n\n\nSe va crea un grup de WhatsApp dedicat acestui seminar\, pentru socializarea de după lucrare.\n\n\n\n\nIMPORTANT:Dacă nu vă regăsiți în grup cu o oră înainte de începerea evenimentului\, dar v-ați înregistrat din timp și ați primit e-mailul de confirmare\, vă rugăm să ne contactați la +40762203131. \n\n\n\n\n\n\n\nContribuția de participare: \n\n\n\n\n250 lei (210 + TVA) sau\n\n\n\n55 euro (46 + TVA) per persoană.\n\n\n\n\nContul bancar pentru contribuția de participare: \n\n\n\nLIBRA INTERNET BANK \n\n\n\n\nCont în lei: RO95BREL0002002904570100\n\n\n\nCont în euro: RO14BREL0002002904570200(Transferurile în euro sunt acceptate doar din conturi deschise la bănci din afara României.)\n\n\n\n\nBIC/SWIFT Code: BRELROBUXXXDestinatar: CALEA CUNOAȘTERII SRL\, CUI 42269307 \n\n\n\n\n\n\n\nCONTRAINDICAȚII: NU EXISTĂ. \n\n\n\nRECOMANDAT PENTRU: \n\n\n\nPersoane fizice (adulți\, copii – poză\, nume\, prenume și data nașterii scrise pe o listă). \n\n\n\n\n\n\n\nEFECTE SECUNDARE:Este posibil să apară: \n\n\n\n\nDureri de cap\, greață\, amețeli (toate temporare);\n\n\n\nDetoxifierea organismului de reziduuri metabolice și toxine.\n\n\n\n\nRecomandări: \n\n\n\n\nBeți multă apă pentru a ajuta eliminarea toxinelor;\n\n\n\nDacă aveți greață\, este bine să vomitați – astfel eliminați toxinele fără a solicita ficatul sau rinichii;\n\n\n\nAdoptați o alimentație ușoară\, de post;\n\n\n\nConsumați ceaiuri din plante adecvate.\n\n\n\n\nIMPORTANT:Nu renunțați la tratamentul indicat de medicul curant. \n\n\n\nPrevent Duplicate EntryForm Submission is restrictedÎnregistrarea s-a făcut cu succes!2025.02.11 Curățarea energetică de magie neagrăName*Nume PrenumeTelefon*Email*Contribuția trimisă*Atașați confirmarea plății UploadNo file selectedAcord de prelucrare a datelor personale*Prin completarea acestui formular consimt la inregistrarea și prelucrarea datelor personale pentru accesul la eveniment. Înregistrare
URL:https://caleacunoasterii.com/event/curatarea-energetica-de-magie-neagra/
END:VEVENT
END:VCALENDAR