BEGIN:VCALENDAR
VERSION:2.0
PRODID:-//Calea cunoașterii - ECPv6.15.16//NONSGML v1.0//EN
CALSCALE:GREGORIAN
METHOD:PUBLISH
X-WR-CALNAME:Calea cunoașterii
X-ORIGINAL-URL:https://caleacunoasterii.com
X-WR-CALDESC:Events for Calea cunoașterii
REFRESH-INTERVAL;VALUE=DURATION:PT1H
X-Robots-Tag:noindex
X-PUBLISHED-TTL:PT1H
BEGIN:VTIMEZONE
TZID:Europe/Bucharest
BEGIN:DAYLIGHT
TZOFFSETFROM:+0200
TZOFFSETTO:+0300
TZNAME:EEST
DTSTART:20240331T010000
END:DAYLIGHT
BEGIN:STANDARD
TZOFFSETFROM:+0300
TZOFFSETTO:+0200
TZNAME:EET
DTSTART:20241027T010000
END:STANDARD
BEGIN:DAYLIGHT
TZOFFSETFROM:+0200
TZOFFSETTO:+0300
TZNAME:EEST
DTSTART:20250330T010000
END:DAYLIGHT
BEGIN:STANDARD
TZOFFSETFROM:+0300
TZOFFSETTO:+0200
TZNAME:EET
DTSTART:20251026T010000
END:STANDARD
BEGIN:DAYLIGHT
TZOFFSETFROM:+0200
TZOFFSETTO:+0300
TZNAME:EEST
DTSTART:20260329T010000
END:DAYLIGHT
BEGIN:STANDARD
TZOFFSETFROM:+0300
TZOFFSETTO:+0200
TZNAME:EET
DTSTART:20261025T010000
END:STANDARD
END:VTIMEZONE
BEGIN:VEVENT
DTSTART;TZID=Europe/Bucharest:20250304T200000
DTEND;TZID=Europe/Bucharest:20250304T210000
DTSTAMP:20260421T084513
CREATED:20250203T094608Z
LAST-MODIFIED:20250203T095813Z
UID:17949-1741118400-1741122000@caleacunoasterii.com
SUMMARY:Reabilitarea sistemului genital
DESCRIPTION:Această lucrare spiritual-energetică este destinată atât femeilor\, cât și bărbaților\, în egală măsură. \n\n\n\nStructura sistemului/aparatului genital (conform literaturii medicale)\n\n\n\n\nAparatul genital feminin este alcătuit din glande sexuale (ovare)\, trompe uterine\, uter\, vagin\, vulvă\, localizate în partea inferioară a cavității abdominale. De asemenea\, includem aici și glandele mamare.\n\n\n\nAparatul genital masculin este un ansamblu de organe numite organe sexuale\, care joacă un rol important în procesul de reproducere umană. Aceste organe sunt situate atât în interiorul corpului\, cât și în exteriorul pelvisului.\n\nPenisul este organul intromitent masculin. Atunci când bărbatul devine excitat sexual\, penisul devine erect și pregătit pentru activitate sexuală.\n\n\n\nTesticulele au două funcții majore:\n\nProducerea spermatozoizilor prin divizarea meiotică a celulelor germinale în tubulii seminiferi.\n\n\n\nSinteza și secreția hormonilor androgeni\, care reglează funcțiile de reproducere masculină.\n\n\n\n\n\n\n\n\nObiectivul lucrării\n\n\n\nPe măsură ce înaintăm în vârstă\, sistemul genital își diminuează sau chiar își încetează activitatea\, ceea ce poate duce la apariția unor afecțiuni și boli\, uneori grave. Noi venim cu această lucrare de reabilitare energetică\, care\, în timp\, poate contribui și la reabilitarea fizică. \n\n\n\nNu vom enumera diagnostice specifice ale sistemului genital și mamar\, atât la femei\, cât și la bărbați\, deoarece fiecare caz este unic. Vom lucra exact pe toate aspectele necesare reabilitării. \n\n\n\nVom realiza o echilibrare energetică a întregului sistem genital\, astfel încât să se obțină îmbunătățiri în funcționarea acestuia\, reducerea disconfortului și\, în unele cazuri\, chiar reabilitarea totală a organelor afectate. Acest proces poate avea loc în timp\, prin participarea la mai multe sesiuni. \n\n\n\nÎn timpul lucrării\, Petra poate primi și alte informații utile procesului de reabilitare\, în funcție de nevoile grupului creat. \n\n\n\nLucrăm cu Sfânta Treime și cu toate Puterile Cerești în toate lucrările noastre. Din această cauză\, nu există excese sau efecte negative care să nu conducă la îmbunătățirea stării participanților. \n\n\n\n\n\n\n\nDetalii organizatorice\n\n\n\nAcest eveniment are loc pe un link de YouTube special creat pentru data respectivă. Linkul îl veți primi în e-mailul de confirmare a înregistrării\, după completarea formularului de înscriere. \n\n\n\nSe va crea un grup de WhatsApp special pentru acest seminar\, destinat socializării după lucrare. \n\n\n\nDacă nu vă regăsiți în grup cu o oră înainte de începerea evenimentului\, dar v-ați înregistrat din timp și ați primit e-mailul de confirmare\, vă rugăm să ne contactați la +40762203131. \n\n\n\n\n\n\n\nContribuția de participare\n\n\n\n\n250 lei (210+TVA)\n\n\n\n55 euro (46+TVA)\n\n\n\n\nCont bancar pentru contribuția de participare:\n\n\n\nLIBRA INTERNET BANK \n\n\n\n\nRO95BREL0002002904570100 (lei)\n\n\n\nRO14BREL0002002904570200 (euro – transfer acceptat doar din conturi create la bănci din afara României)\n\n\n\nBRELROBUXXX – BIC / SWIFT Code\n\n\n\nDestinatar: CALEA CUNOASTERII SRL\, CUI 42269307\n\n\n\n\n\n\n\n\nCONTRAINDICAȚII: NU EXISTĂ.\n\n\n\nRECOMANDAT PENTRU:\n\n\n\nPersoane fizice (adulți\, copii – poză\, nume\, prenume și data nașterii scrise pe o listă). \n\n\n\n\n\n\n\nEFECTE SECUNDARE\n\n\n\nEste posibil să apară un val de detoxifiere și curățare a organismului de toxine și reziduuri metabolice la nivel celular. Pot apărea: \n\n\n\n\nDureri de cap\n\n\n\nStări de greață\n\n\n\nAmețeli\n\n\n\n\nRecomandări:\n\n\n\n\nBeți cât mai multă apă pentru a facilita eliminarea toxinelor din organism.\n\n\n\nDacă aveți stări de greață\, este bine să vomitați. Acest lucru va ajuta la eliminarea unei cantități mari de toxine\, fără a trece prin filtrele organismului (ficat\, rinichi).\n\n\n\nAdoptați o alimentație ușoară\, de post.\n\n\n\nConsumați ceaiuri din plante potrivite afecțiunilor.\n\n\n\n\n\n\n\n\nNU RENUNȚAȚI LA TRATAMENTUL INDICAT DE MEDICUL CURANT.\n\n\n\n\n\n\n\nPrevent Duplicate EntryForm Submission is restrictedÎnregistrarea s-a făcut cu succes!2025.03.04 Reabilitarea sistemului genitalName*Nume PrenumeTelefon*Email*Contribuția trimisă*Atașați confirmarea plății UploadNo file selectedAcord de prelucrare a datelor personale*Prin completarea acestui formular consimt la inregistrarea și prelucrarea datelor personale pentru accesul la eveniment. Înregistrare
URL:https://caleacunoasterii.com/event/reabilitarea-sistemului-genital/
END:VEVENT
END:VCALENDAR