BEGIN:VCALENDAR
VERSION:2.0
PRODID:-//Calea cunoașterii - ECPv6.15.16//NONSGML v1.0//EN
CALSCALE:GREGORIAN
METHOD:PUBLISH
X-ORIGINAL-URL:https://caleacunoasterii.com
X-WR-CALDESC:Events for Calea cunoașterii
REFRESH-INTERVAL;VALUE=DURATION:PT1H
X-Robots-Tag:noindex
X-PUBLISHED-TTL:PT1H
BEGIN:VTIMEZONE
TZID:Europe/Bucharest
BEGIN:DAYLIGHT
TZOFFSETFROM:+0200
TZOFFSETTO:+0300
TZNAME:EEST
DTSTART:20240331T010000
END:DAYLIGHT
BEGIN:STANDARD
TZOFFSETFROM:+0300
TZOFFSETTO:+0200
TZNAME:EET
DTSTART:20241027T010000
END:STANDARD
BEGIN:DAYLIGHT
TZOFFSETFROM:+0200
TZOFFSETTO:+0300
TZNAME:EEST
DTSTART:20250330T010000
END:DAYLIGHT
BEGIN:STANDARD
TZOFFSETFROM:+0300
TZOFFSETTO:+0200
TZNAME:EET
DTSTART:20251026T010000
END:STANDARD
BEGIN:DAYLIGHT
TZOFFSETFROM:+0200
TZOFFSETTO:+0300
TZNAME:EEST
DTSTART:20260329T010000
END:DAYLIGHT
BEGIN:STANDARD
TZOFFSETFROM:+0300
TZOFFSETTO:+0200
TZNAME:EET
DTSTART:20261025T010000
END:STANDARD
END:VTIMEZONE
BEGIN:VEVENT
DTSTART;TZID=Europe/Bucharest:20250306T200000
DTEND;TZID=Europe/Bucharest:20250306T210000
DTSTAMP:20260421T023709
CREATED:20250220T115624Z
LAST-MODIFIED:20250220T115625Z
UID:18249-1741291200-1741294800@caleacunoasterii.com
SUMMARY:Prima inițiere Grad III\, Program de creștere spirituală
DESCRIPTION:Programul este destinat tuturor celor care au terminat “Programul de Creștere Spirituală\, GRAD II” . \n\n\n\nInformarea despre continuarea acestui “Program de Creștere Spirituală” a venit ca mesaj Divin și este ghidat de PETRA . \n\n\n\nGRAD III\, ca instrument de Inițiere are “Lotusul cu o mie de petale”. \n\n\n\nProgramul conține 7 inițieri\, una la 40 zile. \n\n\n\nLa fiecare inițiere Isus Hristos va instala câte un “Lotus cu o mie de petale”\, direct pe creștetul capului nostru. \n\n\n\nExplicația pentru alegerea acestui instrument de Inițiere este că simbolul Florii de lotus este asociat cu puritatea\, transformarea\, iluminarea și renașterea. \n\n\n\nCRESTETUL CAPULUI NOSTRU\, SAHASHRARA\, ULTIMA ŞI CEA MAI IMPORTANTĂ CHAKRĂ\, CEA PRIN CARE SUFLETUL INTRĂ\, RESPECTIV IESE DIN TRUP\, ESTE SIMBOLIZATĂ DE LOTUSUL CU O MIE DE PETALE.  \n\n\n\nTrezirea acestui centru înseamnă iluminarea finală\, eliberarea de karmă şi totalitatea revelării creaţiei. \n\n\n\nFiecare inițiere are ca scop creșterea dumneavoastră spirituală pe nivelele energetic-vibraționale.  \n\n\n\nÎn perioadă de 40 zile dintre inițieri\, fiecare dintre dumneavoastră trebuie să vă monitorizați\, să fiți mai atenți ca de obicei la ce gândiți\, ce vorbiți și ce acțiuni faceți. Toate acestea vor contribui la creșterea dumneavoastră spirituală\, sau dimpotrivă. \n\n\n\nOdată cu ridicarea nivelului dumneavoastră vibrațional\, veți începe să primiți subtil informații diverse sub diferite forme conceptuale\, de la un alt nivel si vi se poate deschide clarvăzul\, clarauzul și alte simțuri care țin de partea spirituală\, daca acestea încă nu sunt deschise\, spre nivelul de ILUMINAT. \n\n\n\nComparația între noi nu are sens\, deoarece toți suntem diferiți în calitățile noastre. \n\n\n\nCum acest Program este creat pentru Creșterea dumneavoastră Spirituală\, nu sunteți obligați să luați parte la toate inițierile. \n\n\n\nPuteți participa la câte doriți\, deoarece fiecare vă va aduce un salt pe nivelul dumneavoastră vibrațional. \n\n\n\nRECOMANDATĂ PENTRU: \n\n\n\n\npersoane fizice (copii cu vârsta peste 16 ani\, adulți)\, care au terminat GRAD I.\n\n\n\n\n \n\n\n\nAcest eveniment are loc pe un link de ZOOM special creat pentru data respectivă. Linkul îl veți primi in Grupul de WhatsApp creat pentru acest Seminar\, la care veți fi invitat. In cazul în care nu vă regăsiți in grup cu o oră inainte de încperea evenimentului\, dar v-ați înregistrat prin formularul din calendar din timp și ați primit emailul de confirmare\, vă rugăm să ne contactați la +40762203131. \n\n\n\n \n\n\n\nContribuția de participare: 330 (277+TVA) lei/ 66 (55+TVA) de euro – per inițiere \n\n\n\nLIBRA INTERNET BANKRO95BREL0002002904570100 leiTransferul bancar in contul de euro se accepta doar din conturi create la bănci din afara Romaniei.RO14BREL0002002904570200 euro \n\n\n\nBRELROBUXXX – BIC / SWIFT CodeDestinatar: CALEA CUNOASTERII SRL\, CUI 42269307 \n\n\n\n \n\n\n\nCONTRAINDICAȚII: Femei gravide sau care alăptează. \n\n\n\nEFECTE SECUNDARE: \n\n\n\nEste posibil să se pornească un val de detoxifiere\, curățare a organismului de șlacuri\, reziduuri metabolice de la nivel celular\, este posibil să aveți dureri de cap\, stări de greață amețeli.Se recomandă să beți cât mai multă apă\, până se elimină acestea din organism.Dacă aveți stări de greață\, ar fi bine să vomitați. Asta va ajută să eliminați direct o cantitate mare de toxine\, fără să treacă prin filtrele corpului dumneavoastră\, (ficat\, rinichi).Este indicată o alimentație ușoară\, de post. Beți ceaiuri din plante aferente afecțiunilor. \n\n\n\nNU RENUNTAȚI LA TRATAMENTUL INDICAT DE MEDICUL CURANT. \n\n\nError: Contact form not found.
URL:https://caleacunoasterii.com/event/prima-initiere-grad-iii-program-de-crestere-spirituala-3/
END:VEVENT
BEGIN:VEVENT
DTSTART;TZID=Europe/Bucharest:20250306T200000
DTEND;TZID=Europe/Bucharest:20250306T210000
DTSTAMP:20260421T023709
CREATED:20250220T115742Z
LAST-MODIFIED:20250220T115744Z
UID:18250-1741291200-1741294800@caleacunoasterii.com
SUMMARY:A doua inițiere Grad III\, Program de creștere spirituală
DESCRIPTION:Programul este destinat tuturor celor care au terminat “Programul de Creștere Spirituală\, GRAD II” . \n\n\n\nInformarea despre continuarea acestui “Program de Creștere Spirituală” a venit ca mesaj Divin și este ghidat de PETRA . \n\n\n\nGRAD III\, ca instrument de Inițiere are “Lotusul cu o mie de petale”. \n\n\n\nProgramul conține 7 inițieri\, una la 40 zile. \n\n\n\nLa fiecare inițiere Isus Hristos va instala câte un “Lotus cu o mie de petale”\, direct pe creștetul capului nostru. \n\n\n\nExplicația pentru alegerea acestui instrument de Inițiere este că simbolul Florii de lotus este asociat cu puritatea\, transformarea\, iluminarea și renașterea. \n\n\n\nCRESTETUL CAPULUI NOSTRU\, SAHASHRARA\, ULTIMA ŞI CEA MAI IMPORTANTĂ CHAKRĂ\, CEA PRIN CARE SUFLETUL INTRĂ\, RESPECTIV IESE DIN TRUP\, ESTE SIMBOLIZATĂ DE LOTUSUL CU O MIE DE PETALE.  \n\n\n\nTrezirea acestui centru înseamnă iluminarea finală\, eliberarea de karmă şi totalitatea revelării creaţiei. \n\n\n\nFiecare inițiere are ca scop creșterea dumneavoastră spirituală pe nivelele energetic-vibraționale.  \n\n\n\nÎn perioadă de 40 zile dintre inițieri\, fiecare dintre dumneavoastră trebuie să vă monitorizați\, să fiți mai atenți ca de obicei la ce gândiți\, ce vorbiți și ce acțiuni faceți. Toate acestea vor contribui la creșterea dumneavoastră spirituală\, sau dimpotrivă. \n\n\n\nOdată cu ridicarea nivelului dumneavoastră vibrațional\, veți începe să primiți subtil informații diverse sub diferite forme conceptuale\, de la un alt nivel si vi se poate deschide clarvăzul\, clarauzul și alte simțuri care țin de partea spirituală\, daca acestea încă nu sunt deschise\, spre nivelul de ILUMINAT. \n\n\n\nComparația între noi nu are sens\, deoarece toți suntem diferiți în calitățile noastre. \n\n\n\nCum acest Program este creat pentru Creșterea dumneavoastră Spirituală\, nu sunteți obligați să luați parte la toate inițierile. \n\n\n\nPuteți participa la câte doriți\, deoarece fiecare vă va aduce un salt pe nivelul dumneavoastră vibrațional. \n\n\n\nRECOMANDATĂ PENTRU: \n\n\n\n\npersoane fizice (copii cu vârsta peste 16 ani\, adulți)\, care au terminat GRAD I.\n\n\n\n\n \n\n\n\nAcest eveniment are loc pe un link de ZOOM special creat pentru data respectivă. Linkul îl veți primi in Grupul de WhatsApp creat pentru acest Seminar\, la care veți fi invitat. In cazul în care nu vă regăsiți in grup cu o oră inainte de încperea evenimentului\, dar v-ați înregistrat prin formularul din calendar din timp și ați primit emailul de confirmare\, vă rugăm să ne contactați la +40762203131. \n\n\n\n \n\n\n\nContribuția de participare: 330 (277+TVA) lei/ 66 (55+TVA) de euro – per inițiere \n\n\n\nLIBRA INTERNET BANKRO95BREL0002002904570100 leiTransferul bancar in contul de euro se accepta doar din conturi create la bănci din afara Romaniei.RO14BREL0002002904570200 euro \n\n\n\nBRELROBUXXX – BIC / SWIFT CodeDestinatar: CALEA CUNOASTERII SRL\, CUI 42269307 \n\n\n\n \n\n\n\nCONTRAINDICAȚII: Femei gravide sau care alăptează. \n\n\n\nEFECTE SECUNDARE: \n\n\n\nEste posibil să se pornească un val de detoxifiere\, curățare a organismului de șlacuri\, reziduuri metabolice de la nivel celular\, este posibil să aveți dureri de cap\, stări de greață amețeli.Se recomandă să beți cât mai multă apă\, până se elimină acestea din organism.Dacă aveți stări de greață\, ar fi bine să vomitați. Asta va ajută să eliminați direct o cantitate mare de toxine\, fără să treacă prin filtrele corpului dumneavoastră\, (ficat\, rinichi).Este indicată o alimentație ușoară\, de post. Beți ceaiuri din plante aferente afecțiunilor. \n\n\n\nNU RENUNTAȚI LA TRATAMENTUL INDICAT DE MEDICUL CURANT. \n\n\nError: Contact form not found.
URL:https://caleacunoasterii.com/event/a-doua-initiere-grad-iii-program-de-crestere-spirituala-3/
END:VEVENT
BEGIN:VEVENT
DTSTART;TZID=Europe/Bucharest:20250306T200000
DTEND;TZID=Europe/Bucharest:20250306T210000
DTSTAMP:20260421T023709
CREATED:20250220T115839Z
LAST-MODIFIED:20250220T115840Z
UID:18251-1741291200-1741294800@caleacunoasterii.com
SUMMARY:A treia inițiere Grad III\, Program de creștere spirituală
DESCRIPTION:Programul este destinat tuturor celor care au terminat “Programul de Creștere Spirituală\, GRAD II” . \n\n\n\nInformarea despre continuarea acestui “Program de Creștere Spirituală” a venit ca mesaj Divin și este ghidat de PETRA . \n\n\n\nGRAD III\, ca instrument de Inițiere are “Lotusul cu o mie de petale”. \n\n\n\nProgramul conține 7 inițieri\, una la 40 zile. \n\n\n\nLa fiecare inițiere Isus Hristos va instala câte un “Lotus cu o mie de petale”\, direct pe creștetul capului nostru. \n\n\n\nExplicația pentru alegerea acestui instrument de Inițiere este că simbolul Florii de lotus este asociat cu puritatea\, transformarea\, iluminarea și renașterea. \n\n\n\nCRESTETUL CAPULUI NOSTRU\, SAHASHRARA\, ULTIMA ŞI CEA MAI IMPORTANTĂ CHAKRĂ\, CEA PRIN CARE SUFLETUL INTRĂ\, RESPECTIV IESE DIN TRUP\, ESTE SIMBOLIZATĂ DE LOTUSUL CU O MIE DE PETALE.  \n\n\n\nTrezirea acestui centru înseamnă iluminarea finală\, eliberarea de karmă şi totalitatea revelării creaţiei. \n\n\n\nFiecare inițiere are ca scop creșterea dumneavoastră spirituală pe nivelele energetic-vibraționale.  \n\n\n\nÎn perioadă de 40 zile dintre inițieri\, fiecare dintre dumneavoastră trebuie să vă monitorizați\, să fiți mai atenți ca de obicei la ce gândiți\, ce vorbiți și ce acțiuni faceți. Toate acestea vor contribui la creșterea dumneavoastră spirituală\, sau dimpotrivă. \n\n\n\nOdată cu ridicarea nivelului dumneavoastră vibrațional\, veți începe să primiți subtil informații diverse sub diferite forme conceptuale\, de la un alt nivel si vi se poate deschide clarvăzul\, clarauzul și alte simțuri care țin de partea spirituală\, daca acestea încă nu sunt deschise\, spre nivelul de ILUMINAT. \n\n\n\nComparația între noi nu are sens\, deoarece toți suntem diferiți în calitățile noastre. \n\n\n\nCum acest Program este creat pentru Creșterea dumneavoastră Spirituală\, nu sunteți obligați să luați parte la toate inițierile. \n\n\n\nPuteți participa la câte doriți\, deoarece fiecare vă va aduce un salt pe nivelul dumneavoastră vibrațional. \n\n\n\nRECOMANDATĂ PENTRU: \n\n\n\n\npersoane fizice (copii cu vârsta peste 16 ani\, adulți)\, care au terminat GRAD I.\n\n\n\n\n \n\n\n\nAcest eveniment are loc pe un link de ZOOM special creat pentru data respectivă. Linkul îl veți primi in Grupul de WhatsApp creat pentru acest Seminar\, la care veți fi invitat. In cazul în care nu vă regăsiți in grup cu o oră inainte de încperea evenimentului\, dar v-ați înregistrat prin formularul din calendar din timp și ați primit emailul de confirmare\, vă rugăm să ne contactați la +40762203131. \n\n\n\n \n\n\n\nContribuția de participare: 330 (277+TVA) lei/ 66 (55+TVA) de euro – per inițiere \n\n\n\nLIBRA INTERNET BANKRO95BREL0002002904570100 leiTransferul bancar in contul de euro se accepta doar din conturi create la bănci din afara Romaniei.RO14BREL0002002904570200 euro \n\n\n\nBRELROBUXXX – BIC / SWIFT CodeDestinatar: CALEA CUNOASTERII SRL\, CUI 42269307 \n\n\n\n \n\n\n\nCONTRAINDICAȚII: Femei gravide sau care alăptează. \n\n\n\nEFECTE SECUNDARE: \n\n\n\nEste posibil să se pornească un val de detoxifiere\, curățare a organismului de șlacuri\, reziduuri metabolice de la nivel celular\, este posibil să aveți dureri de cap\, stări de greață amețeli.Se recomandă să beți cât mai multă apă\, până se elimină acestea din organism.Dacă aveți stări de greață\, ar fi bine să vomitați. Asta va ajută să eliminați direct o cantitate mare de toxine\, fără să treacă prin filtrele corpului dumneavoastră\, (ficat\, rinichi).Este indicată o alimentație ușoară\, de post. Beți ceaiuri din plante aferente afecțiunilor. \n\n\n\nNU RENUNTAȚI LA TRATAMENTUL INDICAT DE MEDICUL CURANT. \n\n\nError: Contact form not found.
URL:https://caleacunoasterii.com/event/a-treia-initiere-grad-iii-program-de-crestere-spirituala-3/
END:VEVENT
BEGIN:VEVENT
DTSTART;TZID=Europe/Bucharest:20250306T200000
DTEND;TZID=Europe/Bucharest:20250306T210000
DTSTAMP:20260421T023709
CREATED:20250220T120001Z
LAST-MODIFIED:20250220T120003Z
UID:18252-1741291200-1741294800@caleacunoasterii.com
SUMMARY:A patra inițiere Grad III\, Program de creștere spirituală
DESCRIPTION:Programul este destinat tuturor celor care au terminat “Programul de Creștere Spirituală\, GRAD II” . \n\n\n\nInformarea despre continuarea acestui “Program de Creștere Spirituală” a venit ca mesaj Divin și este ghidat de PETRA . \n\n\n\nGRAD III\, ca instrument de Inițiere are “Lotusul cu o mie de petale”. \n\n\n\nProgramul conține 7 inițieri\, una la 40 zile. \n\n\n\nLa fiecare inițiere Isus Hristos va instala câte un “Lotus cu o mie de petale”\, direct pe creștetul capului nostru. \n\n\n\nExplicația pentru alegerea acestui instrument de Inițiere este că simbolul Florii de lotus este asociat cu puritatea\, transformarea\, iluminarea și renașterea. \n\n\n\nCRESTETUL CAPULUI NOSTRU\, SAHASHRARA\, ULTIMA ŞI CEA MAI IMPORTANTĂ CHAKRĂ\, CEA PRIN CARE SUFLETUL INTRĂ\, RESPECTIV IESE DIN TRUP\, ESTE SIMBOLIZATĂ DE LOTUSUL CU O MIE DE PETALE.  \n\n\n\nTrezirea acestui centru înseamnă iluminarea finală\, eliberarea de karmă şi totalitatea revelării creaţiei. \n\n\n\nFiecare inițiere are ca scop creșterea dumneavoastră spirituală pe nivelele energetic-vibraționale.  \n\n\n\nÎn perioadă de 40 zile dintre inițieri\, fiecare dintre dumneavoastră trebuie să vă monitorizați\, să fiți mai atenți ca de obicei la ce gândiți\, ce vorbiți și ce acțiuni faceți. Toate acestea vor contribui la creșterea dumneavoastră spirituală\, sau dimpotrivă. \n\n\n\nOdată cu ridicarea nivelului dumneavoastră vibrațional\, veți începe să primiți subtil informații diverse sub diferite forme conceptuale\, de la un alt nivel si vi se poate deschide clarvăzul\, clarauzul și alte simțuri care țin de partea spirituală\, daca acestea încă nu sunt deschise\, spre nivelul de ILUMINAT. \n\n\n\nComparația între noi nu are sens\, deoarece toți suntem diferiți în calitățile noastre. \n\n\n\nCum acest Program este creat pentru Creșterea dumneavoastră Spirituală\, nu sunteți obligați să luați parte la toate inițierile. \n\n\n\nPuteți participa la câte doriți\, deoarece fiecare vă va aduce un salt pe nivelul dumneavoastră vibrațional. \n\n\n\nRECOMANDATĂ PENTRU: \n\n\n\n\npersoane fizice (copii cu vârsta peste 16 ani\, adulți)\, care au terminat GRAD I.\n\n\n\n\n \n\n\n\nAcest eveniment are loc pe un link de ZOOM special creat pentru data respectivă. Linkul îl veți primi in Grupul de WhatsApp creat pentru acest Seminar\, la care veți fi invitat. In cazul în care nu vă regăsiți in grup cu o oră inainte de încperea evenimentului\, dar v-ați înregistrat prin formularul din calendar din timp și ați primit emailul de confirmare\, vă rugăm să ne contactați la +40762203131. \n\n\n\n \n\n\n\nContribuția de participare: 330 (277+TVA) lei/ 66 (55+TVA) de euro – per inițiere \n\n\n\nLIBRA INTERNET BANKRO95BREL0002002904570100 leiTransferul bancar in contul de euro se accepta doar din conturi create la bănci din afara Romaniei.RO14BREL0002002904570200 euro \n\n\n\nBRELROBUXXX – BIC / SWIFT CodeDestinatar: CALEA CUNOASTERII SRL\, CUI 42269307 \n\n\n\n \n\n\n\nCONTRAINDICAȚII: Femei gravide sau care alăptează. \n\n\n\nEFECTE SECUNDARE: \n\n\n\nEste posibil să se pornească un val de detoxifiere\, curățare a organismului de șlacuri\, reziduuri metabolice de la nivel celular\, este posibil să aveți dureri de cap\, stări de greață amețeli.Se recomandă să beți cât mai multă apă\, până se elimină acestea din organism.Dacă aveți stări de greață\, ar fi bine să vomitați. Asta va ajută să eliminați direct o cantitate mare de toxine\, fără să treacă prin filtrele corpului dumneavoastră\, (ficat\, rinichi).Este indicată o alimentație ușoară\, de post. Beți ceaiuri din plante aferente afecțiunilor. \n\n\n\nNU RENUNTAȚI LA TRATAMENTUL INDICAT DE MEDICUL CURANT. \n\n\nError: Contact form not found.
URL:https://caleacunoasterii.com/event/a-patra-initiere-grad-iii-program-de-crestere-spirituala-2/
END:VEVENT
BEGIN:VEVENT
DTSTART;TZID=Europe/Bucharest:20250306T200000
DTEND;TZID=Europe/Bucharest:20250306T210000
DTSTAMP:20260421T023709
CREATED:20250220T120115Z
LAST-MODIFIED:20250220T120116Z
UID:18253-1741291200-1741294800@caleacunoasterii.com
SUMMARY:A cincea inițiere Grad III\, Program de creștere spirituală
DESCRIPTION:Programul este destinat tuturor celor care au terminat “Programul de Creștere Spirituală\, GRAD II” . \n\n\n\nInformarea despre continuarea acestui “Program de Creștere Spirituală” a venit ca mesaj Divin și este ghidat de PETRA . \n\n\n\nGRAD III\, ca instrument de Inițiere are “Lotusul cu o mie de petale”. \n\n\n\nProgramul conține 7 inițieri\, una la 40 zile. \n\n\n\nLa fiecare inițiere Isus Hristos va instala câte un “Lotus cu o mie de petale”\, direct pe creștetul capului nostru. \n\n\n\nExplicația pentru alegerea acestui instrument de Inițiere este că simbolul Florii de lotus este asociat cu puritatea\, transformarea\, iluminarea și renașterea. \n\n\n\nCRESTETUL CAPULUI NOSTRU\, SAHASHRARA\, ULTIMA ŞI CEA MAI IMPORTANTĂ CHAKRĂ\, CEA PRIN CARE SUFLETUL INTRĂ\, RESPECTIV IESE DIN TRUP\, ESTE SIMBOLIZATĂ DE LOTUSUL CU O MIE DE PETALE.  \n\n\n\nTrezirea acestui centru înseamnă iluminarea finală\, eliberarea de karmă şi totalitatea revelării creaţiei. \n\n\n\nFiecare inițiere are ca scop creșterea dumneavoastră spirituală pe nivelele energetic-vibraționale.  \n\n\n\nÎn perioadă de 40 zile dintre inițieri\, fiecare dintre dumneavoastră trebuie să vă monitorizați\, să fiți mai atenți ca de obicei la ce gândiți\, ce vorbiți și ce acțiuni faceți. Toate acestea vor contribui la creșterea dumneavoastră spirituală\, sau dimpotrivă. \n\n\n\nOdată cu ridicarea nivelului dumneavoastră vibrațional\, veți începe să primiți subtil informații diverse sub diferite forme conceptuale\, de la un alt nivel si vi se poate deschide clarvăzul\, clarauzul și alte simțuri care țin de partea spirituală\, daca acestea încă nu sunt deschise\, spre nivelul de ILUMINAT. \n\n\n\nComparația între noi nu are sens\, deoarece toți suntem diferiți în calitățile noastre. \n\n\n\nCum acest Program este creat pentru Creșterea dumneavoastră Spirituală\, nu sunteți obligați să luați parte la toate inițierile. \n\n\n\nPuteți participa la câte doriți\, deoarece fiecare vă va aduce un salt pe nivelul dumneavoastră vibrațional. \n\n\n\nRECOMANDATĂ PENTRU: \n\n\n\n\npersoane fizice (copii cu vârsta peste 16 ani\, adulți)\, care au terminat GRAD I.\n\n\n\n\n \n\n\n\nAcest eveniment are loc pe un link de ZOOM special creat pentru data respectivă. Linkul îl veți primi in Grupul de WhatsApp creat pentru acest Seminar\, la care veți fi invitat. In cazul în care nu vă regăsiți in grup cu o oră inainte de încperea evenimentului\, dar v-ați înregistrat prin formularul din calendar din timp și ați primit emailul de confirmare\, vă rugăm să ne contactați la +40762203131. \n\n\n\n \n\n\n\nContribuția de participare: 330 (277+TVA) lei/ 66 (55+TVA) de euro – per inițiere \n\n\n\nLIBRA INTERNET BANKRO95BREL0002002904570100 leiTransferul bancar in contul de euro se accepta doar din conturi create la bănci din afara Romaniei.RO14BREL0002002904570200 euro \n\n\n\nBRELROBUXXX – BIC / SWIFT CodeDestinatar: CALEA CUNOASTERII SRL\, CUI 42269307 \n\n\n\n \n\n\n\nCONTRAINDICAȚII: Femei gravide sau care alăptează. \n\n\n\nEFECTE SECUNDARE: \n\n\n\nEste posibil să se pornească un val de detoxifiere\, curățare a organismului de șlacuri\, reziduuri metabolice de la nivel celular\, este posibil să aveți dureri de cap\, stări de greață amețeli.Se recomandă să beți cât mai multă apă\, până se elimină acestea din organism.Dacă aveți stări de greață\, ar fi bine să vomitați. Asta va ajută să eliminați direct o cantitate mare de toxine\, fără să treacă prin filtrele corpului dumneavoastră\, (ficat\, rinichi).Este indicată o alimentație ușoară\, de post. Beți ceaiuri din plante aferente afecțiunilor. \n\n\n\nNU RENUNTAȚI LA TRATAMENTUL INDICAT DE MEDICUL CURANT. \n\n\nError: Contact form not found.
URL:https://caleacunoasterii.com/event/a-cincea-initiere-grad-iii-program-de-crestere-spirituala/
END:VEVENT
BEGIN:VEVENT
DTSTART;TZID=Europe/Bucharest:20250306T200000
DTEND;TZID=Europe/Bucharest:20250306T210000
DTSTAMP:20260421T023709
CREATED:20250220T120213Z
LAST-MODIFIED:20250220T120215Z
UID:18254-1741291200-1741294800@caleacunoasterii.com
SUMMARY:A sasea inițiere Grad III\, Program de creștere spirituală
DESCRIPTION:Programul este destinat tuturor celor care au terminat “Programul de Creștere Spirituală\, GRAD II” . \n\n\n\nInformarea despre continuarea acestui “Program de Creștere Spirituală” a venit ca mesaj Divin și este ghidat de PETRA . \n\n\n\nGRAD III\, ca instrument de Inițiere are “Lotusul cu o mie de petale”. \n\n\n\nProgramul conține 7 inițieri\, una la 40 zile. \n\n\n\nLa fiecare inițiere Isus Hristos va instala câte un “Lotus cu o mie de petale”\, direct pe creștetul capului nostru. \n\n\n\nExplicația pentru alegerea acestui instrument de Inițiere este că simbolul Florii de lotus este asociat cu puritatea\, transformarea\, iluminarea și renașterea. \n\n\n\nCRESTETUL CAPULUI NOSTRU\, SAHASHRARA\, ULTIMA ŞI CEA MAI IMPORTANTĂ CHAKRĂ\, CEA PRIN CARE SUFLETUL INTRĂ\, RESPECTIV IESE DIN TRUP\, ESTE SIMBOLIZATĂ DE LOTUSUL CU O MIE DE PETALE.  \n\n\n\nTrezirea acestui centru înseamnă iluminarea finală\, eliberarea de karmă şi totalitatea revelării creaţiei. \n\n\n\nFiecare inițiere are ca scop creșterea dumneavoastră spirituală pe nivelele energetic-vibraționale.  \n\n\n\nÎn perioadă de 40 zile dintre inițieri\, fiecare dintre dumneavoastră trebuie să vă monitorizați\, să fiți mai atenți ca de obicei la ce gândiți\, ce vorbiți și ce acțiuni faceți. Toate acestea vor contribui la creșterea dumneavoastră spirituală\, sau dimpotrivă. \n\n\n\nOdată cu ridicarea nivelului dumneavoastră vibrațional\, veți începe să primiți subtil informații diverse sub diferite forme conceptuale\, de la un alt nivel si vi se poate deschide clarvăzul\, clarauzul și alte simțuri care țin de partea spirituală\, daca acestea încă nu sunt deschise\, spre nivelul de ILUMINAT. \n\n\n\nComparația între noi nu are sens\, deoarece toți suntem diferiți în calitățile noastre. \n\n\n\nCum acest Program este creat pentru Creșterea dumneavoastră Spirituală\, nu sunteți obligați să luați parte la toate inițierile. \n\n\n\nPuteți participa la câte doriți\, deoarece fiecare vă va aduce un salt pe nivelul dumneavoastră vibrațional. \n\n\n\nRECOMANDATĂ PENTRU: \n\n\n\n\npersoane fizice (copii cu vârsta peste 16 ani\, adulți)\, care au terminat GRAD I.\n\n\n\n\n \n\n\n\nAcest eveniment are loc pe un link de ZOOM special creat pentru data respectivă. Linkul îl veți primi in Grupul de WhatsApp creat pentru acest Seminar\, la care veți fi invitat. In cazul în care nu vă regăsiți in grup cu o oră inainte de încperea evenimentului\, dar v-ați înregistrat prin formularul din calendar din timp și ați primit emailul de confirmare\, vă rugăm să ne contactați la +40762203131. \n\n\n\n \n\n\n\nContribuția de participare: 330 (277+TVA) lei/ 66 (55+TVA) de euro – per inițiere \n\n\n\nLIBRA INTERNET BANKRO95BREL0002002904570100 leiTransferul bancar in contul de euro se accepta doar din conturi create la bănci din afara Romaniei.RO14BREL0002002904570200 euro \n\n\n\nBRELROBUXXX – BIC / SWIFT CodeDestinatar: CALEA CUNOASTERII SRL\, CUI 42269307 \n\n\n\n \n\n\n\nCONTRAINDICAȚII: Femei gravide sau care alăptează. \n\n\n\nEFECTE SECUNDARE: \n\n\n\nEste posibil să se pornească un val de detoxifiere\, curățare a organismului de șlacuri\, reziduuri metabolice de la nivel celular\, este posibil să aveți dureri de cap\, stări de greață amețeli.Se recomandă să beți cât mai multă apă\, până se elimină acestea din organism.Dacă aveți stări de greață\, ar fi bine să vomitați. Asta va ajută să eliminați direct o cantitate mare de toxine\, fără să treacă prin filtrele corpului dumneavoastră\, (ficat\, rinichi).Este indicată o alimentație ușoară\, de post. Beți ceaiuri din plante aferente afecțiunilor. \n\n\n\nNU RENUNTAȚI LA TRATAMENTUL INDICAT DE MEDICUL CURANT. \n\n\nError: Contact form not found.
URL:https://caleacunoasterii.com/event/a-sasea-initiere-grad-iii-program-de-crestere-spirituala-9/
END:VEVENT
BEGIN:VEVENT
DTSTART;TZID=Europe/Bucharest:20250306T200000
DTEND;TZID=Europe/Bucharest:20250306T210000
DTSTAMP:20260421T023709
CREATED:20250220T120443Z
LAST-MODIFIED:20250220T120444Z
UID:18255-1741291200-1741294800@caleacunoasterii.com
SUMMARY:A saptea inițiere Grad III\, Program de creștere spirituală
DESCRIPTION:Programul este destinat tuturor celor care au terminat “Programul de Creștere Spirituală\, GRAD II” . \n\n\n\nInformarea despre continuarea acestui “Program de Creștere Spirituală” a venit ca mesaj Divin și este ghidat de PETRA . \n\n\n\nGRAD III\, ca instrument de Inițiere are “Lotusul cu o mie de petale”. \n\n\n\nProgramul conține 7 inițieri\, una la 40 zile. \n\n\n\nLa fiecare inițiere Isus Hristos va instala câte un “Lotus cu o mie de petale”\, direct pe creștetul capului nostru. \n\n\n\nExplicația pentru alegerea acestui instrument de Inițiere este că simbolul Florii de lotus este asociat cu puritatea\, transformarea\, iluminarea și renașterea. \n\n\n\nCRESTETUL CAPULUI NOSTRU\, SAHASHRARA\, ULTIMA ŞI CEA MAI IMPORTANTĂ CHAKRĂ\, CEA PRIN CARE SUFLETUL INTRĂ\, RESPECTIV IESE DIN TRUP\, ESTE SIMBOLIZATĂ DE LOTUSUL CU O MIE DE PETALE.  \n\n\n\nTrezirea acestui centru înseamnă iluminarea finală\, eliberarea de karmă şi totalitatea revelării creaţiei. \n\n\n\nFiecare inițiere are ca scop creșterea dumneavoastră spirituală pe nivelele energetic-vibraționale.  \n\n\n\nÎn perioadă de 40 zile dintre inițieri\, fiecare dintre dumneavoastră trebuie să vă monitorizați\, să fiți mai atenți ca de obicei la ce gândiți\, ce vorbiți și ce acțiuni faceți. Toate acestea vor contribui la creșterea dumneavoastră spirituală\, sau dimpotrivă. \n\n\n\nOdată cu ridicarea nivelului dumneavoastră vibrațional\, veți începe să primiți subtil informații diverse sub diferite forme conceptuale\, de la un alt nivel si vi se poate deschide clarvăzul\, clarauzul și alte simțuri care țin de partea spirituală\, daca acestea încă nu sunt deschise\, spre nivelul de ILUMINAT. \n\n\n\nComparația între noi nu are sens\, deoarece toți suntem diferiți în calitățile noastre. \n\n\n\nCum acest Program este creat pentru Creșterea dumneavoastră Spirituală\, nu sunteți obligați să luați parte la toate inițierile. \n\n\n\nPuteți participa la câte doriți\, deoarece fiecare vă va aduce un salt pe nivelul dumneavoastră vibrațional. \n\n\n\nRECOMANDATĂ PENTRU: \n\n\n\n\npersoane fizice (copii cu vârsta peste 16 ani\, adulți)\, care au terminat GRAD I.\n\n\n\n\n \n\n\n\nAcest eveniment are loc pe un link de ZOOM special creat pentru data respectivă. Linkul îl veți primi in Grupul de WhatsApp creat pentru acest Seminar\, la care veți fi invitat. In cazul în care nu vă regăsiți in grup cu o oră inainte de încperea evenimentului\, dar v-ați înregistrat prin formularul din calendar din timp și ați primit emailul de confirmare\, vă rugăm să ne contactați la +40762203131. \n\n\n\n \n\n\n\nContribuția de participare: 330 (277+TVA) lei/ 66 (55+TVA) de euro – per inițiere \n\n\n\nLIBRA INTERNET BANKRO95BREL0002002904570100 leiTransferul bancar in contul de euro se accepta doar din conturi create la bănci din afara Romaniei.RO14BREL0002002904570200 euro \n\n\n\nBRELROBUXXX – BIC / SWIFT CodeDestinatar: CALEA CUNOASTERII SRL\, CUI 42269307 \n\n\n\n \n\n\n\nCONTRAINDICAȚII: Femei gravide sau care alăptează. \n\n\n\nEFECTE SECUNDARE: \n\n\n\nEste posibil să se pornească un val de detoxifiere\, curățare a organismului de șlacuri\, reziduuri metabolice de la nivel celular\, este posibil să aveți dureri de cap\, stări de greață amețeli.Se recomandă să beți cât mai multă apă\, până se elimină acestea din organism.Dacă aveți stări de greață\, ar fi bine să vomitați. Asta va ajută să eliminați direct o cantitate mare de toxine\, fără să treacă prin filtrele corpului dumneavoastră\, (ficat\, rinichi).Este indicată o alimentație ușoară\, de post. Beți ceaiuri din plante aferente afecțiunilor. \n\n\n\nNU RENUNTAȚI LA TRATAMENTUL INDICAT DE MEDICUL CURANT. \n\n\nError: Contact form not found.
URL:https://caleacunoasterii.com/event/a-saptea-initiere-grad-iii-program-de-crestere-spirituala-8/
END:VEVENT
END:VCALENDAR