BEGIN:VCALENDAR
VERSION:2.0
PRODID:-//Calea cunoașterii - ECPv6.15.16//NONSGML v1.0//EN
CALSCALE:GREGORIAN
METHOD:PUBLISH
X-WR-CALNAME:Calea cunoașterii
X-ORIGINAL-URL:https://caleacunoasterii.com
X-WR-CALDESC:Events for Calea cunoașterii
REFRESH-INTERVAL;VALUE=DURATION:PT1H
X-Robots-Tag:noindex
X-PUBLISHED-TTL:PT1H
BEGIN:VTIMEZONE
TZID:Europe/Bucharest
BEGIN:DAYLIGHT
TZOFFSETFROM:+0200
TZOFFSETTO:+0300
TZNAME:EEST
DTSTART:20240331T010000
END:DAYLIGHT
BEGIN:STANDARD
TZOFFSETFROM:+0300
TZOFFSETTO:+0200
TZNAME:EET
DTSTART:20241027T010000
END:STANDARD
BEGIN:DAYLIGHT
TZOFFSETFROM:+0200
TZOFFSETTO:+0300
TZNAME:EEST
DTSTART:20250330T010000
END:DAYLIGHT
BEGIN:STANDARD
TZOFFSETFROM:+0300
TZOFFSETTO:+0200
TZNAME:EET
DTSTART:20251026T010000
END:STANDARD
BEGIN:DAYLIGHT
TZOFFSETFROM:+0200
TZOFFSETTO:+0300
TZNAME:EEST
DTSTART:20260329T010000
END:DAYLIGHT
BEGIN:STANDARD
TZOFFSETFROM:+0300
TZOFFSETTO:+0200
TZNAME:EET
DTSTART:20261025T010000
END:STANDARD
END:VTIMEZONE
BEGIN:VEVENT
DTSTART;TZID=Europe/Bucharest:20250325T200000
DTEND;TZID=Europe/Bucharest:20250325T210000
DTSTAMP:20260421T071511
CREATED:20250203T110016Z
LAST-MODIFIED:20250203T110040Z
UID:17967-1742932800-1742936400@caleacunoasterii.com
SUMMARY:Manifestă Divinul din tine
DESCRIPTION:Ce este acest DIVIN din noi? Unde e situat el în noi? La ce îmi folosește? \n\n\n\nÎntrebări grele cu răspuns simplu și pe înțelesul tuturor. Dumnezeu spune că ne-a creat după chipul și asemănarea Sa. Toți știm că avem în noi Scânteia Divină. Viața în sine este ceva Divin! Căci Dumnezeu a suflat viață în noi după ce ne-a clădit din lut. Prin urmare\, dacă suntem chipul și asemănarea lui Dumnezeu\, care este CREATORUL\, atunci și noi suntem CREATORI. Când a suflat viață în noi\, a suflat o părticică din Sine\, o Scânteie care să ne învie. Deci\, Dumnezeu este în noi! El este Creatorul. Mai tragem o concluzie: OMUL este precum Dumnezeu\, Creator. Omul are Divinul în sine! \n\n\n\nCine își mai amintește acest lucru? Trăim vremuri în care suntem într-o schimbare permanentă a Conștiinței\, de aceea cel mai interesant lucru de făcut ar fi să trezim\, într-un final\, acel Divin din noi și să îl lăsăm să creeze\, că doar asta e menirea sa\, să fie creator. Lucrarea aceasta are menirea de a trezi Divinul din noi și de a învăța și a ne obișnui\, în final\, să-l manifestăm clipă de clipă. Manifestarea Divinului din noi este obligația noastră ca oameni\, este lecția noastră de viață pentru care suntem aici pe Pământ. Divinul din noi este: compasiunea\, iubirea\, iertarea\, lumina și multe alte atribute pozitive necesare pentru creșterea spirituală și diminuarea karmelor noastre. Lucrarea se face cu acordul conștiinței noastre și permisiunea Sfintei Treimi prin Petra. Ca și restul lucrărilor din calendar. \n\n\n\nAcest eveniment are loc pe un link de YouTube special creat pentru data respectivă. Linkul îl veți primi în e-mailul de confirmare a înregistrării prin Formularul de înregistrare. Se va crea un Grup de WhatsApp\, special pentru acest Seminar\, pentru socializarea de după lucrare. În cazul în care nu vă regăsiți în grup cu o oră înainte de începerea evenimentului\, dar v-ați înregistrat prin formularul de înregistrare din calendar din timp și ați primit e-mailul de confirmare\, vă rugăm să ne contactați la +40762203131. \n\n\n\nContribuția de participare: 250 (210+TVA) lei sau 55 (46+TVA) euro de persoană. \n\n\n\nContul bancar pentru Contribuția de participare: \n\n\n\nLIBRA INTERNET BANK \n\n\n\nRO95BREL0002002904570100 lei \n\n\n\nTransferul bancar în contul de euro se acceptă doar din conturi create la bănci din afara României. \n\n\n\nRO14BREL0002002904570200 euro \n\n\n\nBRELROBUXXX – BIC / SWIFT CodeDestinatar: CALEA CUNOAȘTERII SRL\, CUI 42269307 \n\n\n\nCONTRAINDICAȚII: NU EXISTĂ. \n\n\n\nRECOMANDAT PENTRU: persoane fizice (adulți\, copii\, poză\, nume\, prenume și data nașterii scrise pe o listă). \n\n\n\nEFECTE SECUNDARE: \n\n\n\nEste posibil să se pornească un val de detoxifiere\, curățare a organismului de șlacuri\, reziduuri metabolice de la nivel celular\, este posibil să aveți dureri de cap\, stări de greață\, amețeli. Se recomandă să beți cât mai multă apă\, până se elimină acestea din organism. Dacă aveți stări de greață\, ar fi bine să vomitați. Asta vă ajută să eliminați direct o cantitate mare de toxine\, fără să treacă prin filtrele corpului dumneavoastră (ficat\, rinichi). Este indicată o alimentație ușoară\, de post. Beți ceaiuri din plante aferente afecțiunilor. \n\n\n\nNU RENUNȚAȚI LA TRATAMENTUL INDICAT DE MEDICUL CURANT. \n\n\n\nPrevent Duplicate EntryForm Submission is restrictedÎnregistrarea s-a făcut cu succes!2025.03.25 Manifestă Divinul din tineName*Nume PrenumeTelefon*Email*Contribuția trimisă*Atașați confirmarea plății UploadNo file selectedAcord de prelucrare a datelor personale*Prin completarea acestui formular consimt la inregistrarea și prelucrarea datelor personale pentru accesul la eveniment. Înregistrare
URL:https://caleacunoasterii.com/event/manifesta-divinul-din-tine/
END:VEVENT
END:VCALENDAR