BEGIN:VCALENDAR
VERSION:2.0
PRODID:-//Calea cunoașterii - ECPv6.15.16//NONSGML v1.0//EN
CALSCALE:GREGORIAN
METHOD:PUBLISH
X-ORIGINAL-URL:https://caleacunoasterii.com
X-WR-CALDESC:Events for Calea cunoașterii
REFRESH-INTERVAL;VALUE=DURATION:PT1H
X-Robots-Tag:noindex
X-PUBLISHED-TTL:PT1H
BEGIN:VTIMEZONE
TZID:Europe/Bucharest
BEGIN:DAYLIGHT
TZOFFSETFROM:+0200
TZOFFSETTO:+0300
TZNAME:EEST
DTSTART:20240331T010000
END:DAYLIGHT
BEGIN:STANDARD
TZOFFSETFROM:+0300
TZOFFSETTO:+0200
TZNAME:EET
DTSTART:20241027T010000
END:STANDARD
BEGIN:DAYLIGHT
TZOFFSETFROM:+0200
TZOFFSETTO:+0300
TZNAME:EEST
DTSTART:20250330T010000
END:DAYLIGHT
BEGIN:STANDARD
TZOFFSETFROM:+0300
TZOFFSETTO:+0200
TZNAME:EET
DTSTART:20251026T010000
END:STANDARD
BEGIN:DAYLIGHT
TZOFFSETFROM:+0200
TZOFFSETTO:+0300
TZNAME:EEST
DTSTART:20260329T010000
END:DAYLIGHT
BEGIN:STANDARD
TZOFFSETFROM:+0300
TZOFFSETTO:+0200
TZNAME:EET
DTSTART:20261025T010000
END:STANDARD
END:VTIMEZONE
BEGIN:VEVENT
DTSTART;TZID=Europe/Bucharest:20250428T210000
DTEND;TZID=Europe/Bucharest:20250428T220000
DTSTAMP:20260420T163839
CREATED:20250319T211624Z
LAST-MODIFIED:20250319T211625Z
UID:18590-1745874000-1745877600@caleacunoasterii.com
SUMMARY:Abundența divină și activarea surselor de venit material
DESCRIPTION:Ce este abundența?Abundența înseamnă mai mult decât strictul necesar – o cantitate mare\, un belșug. Sinonime: bogăție\, prisos\, îndestulare.De multe ori\, abundența este asociată doar cu bunurile materiale (precum banii)\, ignorându-se dimensiunea energetică și spirituală. \n\n\n\nAbundența în sănătate este cea mai importantă!Începem să înțelegem acest lucru abia după ce sănătatea ne lipsește. Este bine știut că\, oricâți bani am avea\, sănătatea nu poate fi cumpărată atunci când a fost irosită. Exemple precum cel al lui Steve Jobs ne demonstrează acest lucru. \n\n\n\nÎn această lucrare\, abundența se extinde asupra tuturor domeniilor vieții – nu doar material\, ci și energetic și spiritual. Prin puterea cuvântului\, Petra va cere abundență divină și activarea tuturor surselor de venit materiale. \n\n\n\n\n\n\n\nCum funcționează? \n\n\n\nIndiferent de sursele actuale de venit – salarii\, afaceri proprii sau alte surse curate – se va cere: \n\n\n\n\nÎnlăturarea blocajelor financiare;\n\n\n\nDeschiderea canalului de abundență pentru dumneavoastră\, afaceri și toate sursele de venit;\n\n\n\nActivarea unui flux care să vă transforme într-un magnet pentru binele superior\, cu voia și acordul divin.\n\n\n\n\nFiecare participant va fi binecuvântat cu ceea ce este mai bun și meritat din partea Divinității. \n\n\n\n\n\n\n\nDesfășurarea seminarului \n\n\n\nAcesta este un seminar practic\, lucrativ\, care durează o oră. \n\n\n\nStructura: \n\n\n\n\nPuțină teorie despre abundența divină\, modul corect de atragere a abundenței și alte informații primite în momentul lucrării\, direct de la sursă.\n\n\n\nRugăciuni:\n\nRugăciunea de început – pentru acceptul Divinității și deschiderea portalurilor;\n\n\n\nRugăciunea de încheiere – pentru recunoștință și mulțumire.\n\n\n\n\n\n\nEnergia primită prin aceste portaluri divine va lucra în fiecare participant timp de până la 40 de zile\, susținând toate acțiunile benefice. \n\n\n\n\n\n\n\nDe ce este util să participați lunar? \n\n\n\nRezerva de energie primită se poate consuma înainte de cele 40 de zile\, mai ales dacă este folosită pentru: \n\n\n\n\nReabilitarea sănătății (în măsura permisă de Divinitate);\n\n\n\nSprijinirea altor planuri ale vieții.\n\n\n\n\n\n\n\n\nCine poate participa? \n\n\n\nLa acest seminar pot participa: \n\n\n\n\nPersoane prezente în direct pe YouTube;\n\n\n\nPersoane înscrise pe o listă cu nume\, prenume\, data nașterii sau printr-o poză (pe care o veți păstra lângă dumneavoastră în timpul lucrării).\n\n\n\n\n\n\n\n\nContribuția de participare \n\n\n\nMinimum: \n\n\n\n\n39 RON (33 + TVA);\n\n\n\n9 EURO (7.56 + TVA).\n\n\n\n\nDe ce minimum?Conform principiului spiritual afirmat de Isus (Luca 6:38)\, „Cu cât dăruim mai mult\, cu atât primim mai mult”. Fiecare contribuie cât dorește\, începând de la suma minimă\, fără regrete. \n\n\n\n\n\n\n\nDetalii de plată \n\n\n\nLIBRA INTERNET BANK \n\n\n\n\nCont RON: RO95BREL0002002904570100\n\n\n\nCont EURO: RO14BREL0002002904570200 (pentru transferuri din conturi deschise la bănci din afara României)\n\n\n\nBIC/SWIFT Code: BRELROBUXXX\n\n\n\nDestinatar: CALEA CUNOAȘTERII SRL\, CUI 42269307\n\n\n\n\n\n\n\n\nContraindicații \n\n\n\nNU EXISTĂ. \n\n\n\nRecomandat pentru: \n\n\n\n\nPersoane fizice (adulți\, copii);\n\n\n\nListe cu nume\, prenume\, data nașterii sau poze.\n\n\n\n\n\n\n\n\nEfecte secundare \n\n\n\nPosibile reacții temporare: \n\n\n\n\nDureri de cap\, greață\, amețeli;\n\n\n\nDetoxifierea organismului (eliminarea reziduurilor metabolice și a toxinelor).\n\n\n\n\nRecomandări: \n\n\n\n\nBeți multă apă pentru a ajuta eliminarea toxinelor;\n\n\n\nÎn caz de greață\, este bine să vomitați (ajută la eliminarea toxinelor fără a solicita ficatul și rinichii);\n\n\n\nAdoptați o alimentație ușoară\, de post;\n\n\n\nConsumați ceaiuri din plante.\n\n\n\n\nIMPORTANT:Nu renunțați la tratamentul indicat de medicul curant. \n\n\n\nPrevent Duplicate EntryForm Submission is restrictedÎnregistrarea s-a făcut cu succes!2025.04.28 Abundența divină și activarea surselor de venit materialName*Nume PrenumeTelefon*Email*Contribuția trimisă*Atașați confirmarea plății UploadNo file selectedAcord de prelucrare a datelor personale*Prin completarea acestui formular consimt la inregistrarea și prelucrarea datelor personale pentru accesul la eveniment. Înregistrare
URL:https://caleacunoasterii.com/event/abundenta-divina-si-activarea-surselor-de-venit-material-3/
END:VEVENT
END:VCALENDAR