BEGIN:VCALENDAR
VERSION:2.0
PRODID:-//Calea cunoașterii - ECPv6.15.16//NONSGML v1.0//EN
CALSCALE:GREGORIAN
METHOD:PUBLISH
X-ORIGINAL-URL:https://caleacunoasterii.com
X-WR-CALDESC:Events for Calea cunoașterii
REFRESH-INTERVAL;VALUE=DURATION:PT1H
X-Robots-Tag:noindex
X-PUBLISHED-TTL:PT1H
BEGIN:VTIMEZONE
TZID:Europe/Bucharest
BEGIN:DAYLIGHT
TZOFFSETFROM:+0200
TZOFFSETTO:+0300
TZNAME:EEST
DTSTART:20240331T010000
END:DAYLIGHT
BEGIN:STANDARD
TZOFFSETFROM:+0300
TZOFFSETTO:+0200
TZNAME:EET
DTSTART:20241027T010000
END:STANDARD
BEGIN:DAYLIGHT
TZOFFSETFROM:+0200
TZOFFSETTO:+0300
TZNAME:EEST
DTSTART:20250330T010000
END:DAYLIGHT
BEGIN:STANDARD
TZOFFSETFROM:+0300
TZOFFSETTO:+0200
TZNAME:EET
DTSTART:20251026T010000
END:STANDARD
BEGIN:DAYLIGHT
TZOFFSETFROM:+0200
TZOFFSETTO:+0300
TZNAME:EEST
DTSTART:20260329T010000
END:DAYLIGHT
BEGIN:STANDARD
TZOFFSETFROM:+0300
TZOFFSETTO:+0200
TZNAME:EET
DTSTART:20261025T010000
END:STANDARD
END:VTIMEZONE
BEGIN:VEVENT
DTSTART;TZID=Europe/Bucharest:20250429T200000
DTEND;TZID=Europe/Bucharest:20250429T210000
DTSTAMP:20260420T152017
CREATED:20250319T212026Z
LAST-MODIFIED:20250319T212028Z
UID:18592-1745956800-1745960400@caleacunoasterii.com
SUMMARY:Fuziunea dintre minte si suflet  NOU
DESCRIPTION:O lucrare pentru absolut toti cei care nu reusesc sa foloseasca propria minte ca instrument de manifestare si se afla in mare parte a timpului sub controlul Eului fals. \n\n\n\nFuziunea dintre minte și suflet este un concept profund care explorează echilibrul dintre rațiune și emoție\, dintre logică și intuiție\, dintre conștient și subconștient. \n\n\n\nMintea reprezintă gândirea analitică\, logică și critică. Ea e responsabilă pentru raționament\, luarea deciziilor și înțelegerea lumii prin fapte și argumente. Pe de altă parte\, sufletul este legat de emoții\, intuiție\, creativitate și esența noastră interioară\, conectată la ceea ce simțim și la sensul mai profund al existenței. \n\n\n\nAtunci când mintea și sufletul fuzionează armonios\, apare o stare de echilibru interior. O astfel de fuziune poate fi atinsă prin: \n\n\n\nAutocunoaștere și reflecție – înțelegerea atât a gândurilor\, cât și a emoțiilor noastre. \n\n\n\nMeditație și mindfulness – tehnici care ajută la conectarea minții cu sufletul. \n\n\n\nArmonizarea dintre rațiune și intuiție – folosirea atât a logicii\, cât și a simțirii în luarea deciziilor. \n\n\n\nExprimarea autentică – trăirea în acord cu valorile și dorințele sufletului\, fără a ignora raționamentul. \n\n\n\nFuziunea minte-suflet duce la o stare de împlinire\, claritate și autenticitate\, unde deciziile nu sunt dictate doar de frică sau de logică pură\, ci de o înțelegere holistică a sinelui și a lumii. \n\n\n\nAcest eveniment va avea loc pe un link de YouTube special creat pentru această dată\, iar link-ul va fi primit direct prin e-mailul de confirmare a inregistrarii in calendar.   \n\n\n\nLink-ul nu este activ până la începerea evenimentului.  \n\n\n\nDacă nu primiți e-mailul de confirmare cu link-ul cu o oră înainte de începerea evenimentului\, dar v-ați înregistrat prin formularul din calendar din timp\, vă rugăm să ne contactați la +40762203131. \n\n\n\nContribuția de participare: \n\n\n\n250 lei (210+TVA) \n\n\n\n55 euro (46+TVA) \n\n\n\nCont bancar pentru contribuție \n\n\n\nLIBRA INTERNET BANK \n\n\n\nRO95BREL0002002904570100 (lei) \n\n\n\nRO14BREL0002002904570200 (euro – doar pentru transferuri din afara României) \n\n\n\nBRELROBUXXX – BIC / SWIFT Code \n\n\n\nDestinatar: CALEA CUNOASTERII SRL\, CUI 42269307 \n\n\n\nRecomandat pentru: \n\n\n\nAdulți\, copii peste 14 ani\, prezenti in direct\, sau pusi pe o lista\, sau prin poză\, nume\, prenume și data nașterii. \n\n\n\nCopiii pana in 14 ani pot participa gratuit. \n\n\n\nCONTRAINDICATII: FEMEI GRAVIDE SAU CARE ALĂPTEAZĂ\, se poate porni un val de detoxifiere. \n\n\n\nEfecte secundare posibile: \n\n\n\nPosibilă detoxifiere și curățare a organismului de toxine și reziduuri metabolice. \n\n\n\nPot apărea: \n\n\n\nDureri de cap \n\n\n\nStări de greață \n\n\n\nAmețeli \n\n\n\nRecomandări: \n\n\n\nConsumați multă apă pentru a facilita eliminarea toxinelor. \n\n\n\nDacă aveți greață\, vomitați pentru a elimina direct toxinele\, fără a suprasolicita ficatul și rinichii. \n\n\n\nAdoptați o alimentație ușoară\, de post. \n\n\n\nConsumați ceaiuri din plante specifice afecțiunilor. \n\n\n\nNu renunțați la tratamentul indicat de medicul curant. \n\n\n\nPrevent Duplicate EntryForm Submission is restrictedÎnregistrarea s-a făcut cu succes!2025.04.29 Fuziunea dintre minte si sufletName*Nume PrenumeTelefon*Email*Contribuția trimisă*Atașați confirmarea plății UploadNo file selectedAcord de prelucrare a datelor personale*Prin completarea acestui formular consimt la inregistrarea și prelucrarea datelor personale pentru accesul la eveniment. Înregistrare
URL:https://caleacunoasterii.com/event/fuziunea-dintre-minte-si-suflet-nou/
END:VEVENT
END:VCALENDAR