BEGIN:VCALENDAR
VERSION:2.0
PRODID:-//Calea cunoașterii - ECPv6.15.16//NONSGML v1.0//EN
CALSCALE:GREGORIAN
METHOD:PUBLISH
X-ORIGINAL-URL:https://caleacunoasterii.com
X-WR-CALDESC:Events for Calea cunoașterii
REFRESH-INTERVAL;VALUE=DURATION:PT1H
X-Robots-Tag:noindex
X-PUBLISHED-TTL:PT1H
BEGIN:VTIMEZONE
TZID:Europe/Bucharest
BEGIN:DAYLIGHT
TZOFFSETFROM:+0200
TZOFFSETTO:+0300
TZNAME:EEST
DTSTART:20240331T010000
END:DAYLIGHT
BEGIN:STANDARD
TZOFFSETFROM:+0300
TZOFFSETTO:+0200
TZNAME:EET
DTSTART:20241027T010000
END:STANDARD
BEGIN:DAYLIGHT
TZOFFSETFROM:+0200
TZOFFSETTO:+0300
TZNAME:EEST
DTSTART:20250330T010000
END:DAYLIGHT
BEGIN:STANDARD
TZOFFSETFROM:+0300
TZOFFSETTO:+0200
TZNAME:EET
DTSTART:20251026T010000
END:STANDARD
BEGIN:DAYLIGHT
TZOFFSETFROM:+0200
TZOFFSETTO:+0300
TZNAME:EEST
DTSTART:20260329T010000
END:DAYLIGHT
BEGIN:STANDARD
TZOFFSETFROM:+0300
TZOFFSETTO:+0200
TZNAME:EET
DTSTART:20261025T010000
END:STANDARD
END:VTIMEZONE
BEGIN:VEVENT
DTSTART;TZID=Europe/Bucharest:20250430T200000
DTEND;TZID=Europe/Bucharest:20250430T210000
DTSTAMP:20260420T134713
CREATED:20250319T211214Z
LAST-MODIFIED:20250329T080759Z
UID:18588-1746043200-1746046800@caleacunoasterii.com
SUMMARY:Initierea Virtutilor
DESCRIPTION:Inițierile sunt instrumente prețioase\, care facilitează atingerea nivelelor de vibrații înalte necesare în procesul de evoluție spirituală. Această inițiere este anume pentru scopul de creștere și dezvoltare nelimitată a tuturor virtuților personale\, în vederea creșterii spirituale. \n\n\n\nConține 8 (opt) piramide\, care se vor instala în zona capului. Piramida principală este de aur și se instalează în așa fel încât să cuprindă întreg capul și gâtul de la umeri în sus. În jurul ei se vor instala alte 7 (șapte) piramide de dimensiuni mai mici\, colorate în culoarea specifică virtuții cu care sunt înzestrate. \n\n\n\nLista virtuților și culorile lor: \n\n\n\n\nVerticalitate\, albastru.\n\n\n\nAdevăr\, galben.\n\n\n\nCale spirituală\, alb.\n\n\n\nCredință\, verde.\n\n\n\nPutere\, roșu.\n\n\n\nVoință\, violet.\n\n\n\nÎncredere\, portocaliu.\n\n\n\n\nEste o inițiere singulară\, independentă\, cu o putere spectaculoasă\, care va susține dezvoltarea și înnobilarea celor 7 virtuți enumerate mai sus. Cu puterea acestor virtuți\, orice om are cale liberă spre dezvoltarea și creșterea spirituală dorită. \n\n\n\n \n\n\n\nContribuție de participare per persoană: \n\n\n\n500 RON (421 RON + TVA)\, 105 EUR (88 EUR + TVA). \n\n\n\nLIBRA INTERNET BANK RO95BREL0002002904570100 leiTransferul bancar in contul de euro se accepta doar din conturi create la bănci din afara Romaniei.RO14BREL0002002904570200 euro \n\n\n\nBRELROBUXXX – BIC / SWIFT CodeDestinatar: CALEA CUNOASTERII SRL\,  \n\n\n\nCUI 42269307 / 17.02.2020\, J23/769 / 14.02.2020 \n\n\n\nPrevent Duplicate EntryForm Submission is restrictedÎnregistrarea s-a făcut cu succes!2025.04.30 Inițierea Virtuților - NOUName*Nume PrenumeTelefon*Email*Contribuția trimisă*Atașați confirmarea plății UploadNo file selectedAcord de prelucrare a datelor personale*Prin completarea acestui formular consimt la inregistrarea și prelucrarea datelor personale pentru accesul la eveniment. Înregistrare
URL:https://caleacunoasterii.com/event/initierea-virtutilor/
END:VEVENT
END:VCALENDAR