BEGIN:VCALENDAR
VERSION:2.0
PRODID:-//Calea cunoașterii - ECPv6.15.16//NONSGML v1.0//EN
CALSCALE:GREGORIAN
METHOD:PUBLISH
X-WR-CALNAME:Calea cunoașterii
X-ORIGINAL-URL:https://caleacunoasterii.com
X-WR-CALDESC:Events for Calea cunoașterii
REFRESH-INTERVAL;VALUE=DURATION:PT1H
X-Robots-Tag:noindex
X-PUBLISHED-TTL:PT1H
BEGIN:VTIMEZONE
TZID:Europe/Bucharest
BEGIN:DAYLIGHT
TZOFFSETFROM:+0200
TZOFFSETTO:+0300
TZNAME:EEST
DTSTART:20240331T010000
END:DAYLIGHT
BEGIN:STANDARD
TZOFFSETFROM:+0300
TZOFFSETTO:+0200
TZNAME:EET
DTSTART:20241027T010000
END:STANDARD
BEGIN:DAYLIGHT
TZOFFSETFROM:+0200
TZOFFSETTO:+0300
TZNAME:EEST
DTSTART:20250330T010000
END:DAYLIGHT
BEGIN:STANDARD
TZOFFSETFROM:+0300
TZOFFSETTO:+0200
TZNAME:EET
DTSTART:20251026T010000
END:STANDARD
BEGIN:DAYLIGHT
TZOFFSETFROM:+0200
TZOFFSETTO:+0300
TZNAME:EEST
DTSTART:20260329T010000
END:DAYLIGHT
BEGIN:STANDARD
TZOFFSETFROM:+0300
TZOFFSETTO:+0200
TZNAME:EET
DTSTART:20261025T010000
END:STANDARD
END:VTIMEZONE
BEGIN:VEVENT
DTSTART;TZID=Europe/Bucharest:20250506T200000
DTEND;TZID=Europe/Bucharest:20250506T210000
DTSTAMP:20260421T081802
CREATED:20250417T065404Z
LAST-MODIFIED:20250506T104747Z
UID:18778-1746561600-1746565200@caleacunoasterii.com
SUMMARY:Program de inițieri pe dezvoltare extinsă – Dezvoltare personală\, IV
DESCRIPTION:Un Program de initieri mai lejer\, cu ajutorul caruia ne vom reactiva si dezvolta si mai mult calitatile umane\, pe care le are fiecare in sine inca de la planul primordial conceput de Divinitate. Estomparea\, sau chiar pierderea unor calitati native duce spre degradarea constiintei\, care duce la randul ei la deteriorarea conexiunii cu Dumnezeu. Aceasta lipsa de conexiune duce la boala si chiar la trecerea in nefiinta in moduri destul de neplacute. \n\n\n\nAcest program este mai lejer\, deoarece nu conteaza cand va alaturati grupului de initiati. Puteti incepe oricand\, cu oricare dintre ele\, doar sa ajungeti sa le faceti pe toate\, caci ele creaza un complex\, ca un cerc\, pe care e indicat sa-l inchideti. \n\n\n\nIn fiecare luna vom avea cate o initiere\, care v-a avea o anume tema. \n\n\n\nLista initierilor: \n\n\n\n1. Initierea pe comunicare. \n\n\n\n2. Initierea pe cunoastere si invatare. \n\n\n\n3. Initierea pe dezvoltatre emotionala. \n\n\n\n4. Initierea pe dezvoltare personala. \n\n\n\n5. Initierea pe Acceptare si eliberare. \n\n\n\n6. Initierea pe Creativitate. \n\n\n\n7. Initierea pe logica. \n\n\n\n8. Initierea pe focusare si atentie. \n\n\n\n9. Initierea pe constientizare\, descoperire si dezvaluire. \n\n\n\n \n\n\n\nSe poate incepe cu oricare dintre ele\, care este in acest moment in calendar\, oricand. Ele sunt independente\, dar creaza un tot intreg\, un program destul de important. \n\n\n\n \n\n\n\nAcest eveniment are loc pe un link de ZOOM special creat pentru data respectivă. Linkul îl veți primi in Grupul de WhatsApp creat pentru acest Seminar\, la care veți fi invitat. In cazul în care nu vă regăsiți in grup cu o oră inainte de încperea evenimentului\, dar v-ați înregistrat prin formularul din calendar din timp și ați primit emailul de confirmare\, vă rugăm să ne contactați la +40762203131. \n\n\n\n \n\n\n\nContributie de participare per initiere:  \n\n\n\n300 ron (252 ron + TVA)\,  \n\n\n\n65 euro (55 euro + TVA) de persoana. \n\n\n\nLIBRA INTERNET BANK \n\n\n\nRO95BREL0002002904570100    lei \n\n\n\nRO14BREL0002002904570200    euro \n\n\n\nSwift cod : BRELROBUXXX \n\n\n\nDestinatar: CALEA CUNOASTERII SRL \n\n\n\nCUI:   RO42269307 din 17.02.2020 \n\n\n\n       J23/769/14.02.2020; \n\n\n\nPrevent Duplicate EntryForm Submission is restrictedÎnregistrarea s-a făcut cu succes!2025.05.06 Program de inițieri pe dezvoltare extinsăName*Nume PrenumeTelefon*Email*Contribuția trimisă*Atașați confirmarea plății UploadNo file selectedAcord de prelucrare a datelor personale*Prin completarea acestui formular consimt la inregistrarea și prelucrarea datelor personale pentru accesul la eveniment. Înregistrare
URL:https://caleacunoasterii.com/event/program-de-initieri-pe-dezvoltare-extinsa-dezvoltare-personala-iv/
END:VEVENT
END:VCALENDAR