BEGIN:VCALENDAR
VERSION:2.0
PRODID:-//Calea cunoașterii - ECPv6.15.16//NONSGML v1.0//EN
CALSCALE:GREGORIAN
METHOD:PUBLISH
X-WR-CALNAME:Calea cunoașterii
X-ORIGINAL-URL:https://caleacunoasterii.com
X-WR-CALDESC:Events for Calea cunoașterii
REFRESH-INTERVAL;VALUE=DURATION:PT1H
X-Robots-Tag:noindex
X-PUBLISHED-TTL:PT1H
BEGIN:VTIMEZONE
TZID:Europe/Bucharest
BEGIN:DAYLIGHT
TZOFFSETFROM:+0200
TZOFFSETTO:+0300
TZNAME:EEST
DTSTART:20240331T010000
END:DAYLIGHT
BEGIN:STANDARD
TZOFFSETFROM:+0300
TZOFFSETTO:+0200
TZNAME:EET
DTSTART:20241027T010000
END:STANDARD
BEGIN:DAYLIGHT
TZOFFSETFROM:+0200
TZOFFSETTO:+0300
TZNAME:EEST
DTSTART:20250330T010000
END:DAYLIGHT
BEGIN:STANDARD
TZOFFSETFROM:+0300
TZOFFSETTO:+0200
TZNAME:EET
DTSTART:20251026T010000
END:STANDARD
BEGIN:DAYLIGHT
TZOFFSETFROM:+0200
TZOFFSETTO:+0300
TZNAME:EEST
DTSTART:20260329T010000
END:DAYLIGHT
BEGIN:STANDARD
TZOFFSETFROM:+0300
TZOFFSETTO:+0200
TZNAME:EET
DTSTART:20261025T010000
END:STANDARD
END:VTIMEZONE
BEGIN:VEVENT
DTSTART;TZID=Europe/Bucharest:20250701T200000
DTEND;TZID=Europe/Bucharest:20250701T210000
DTSTAMP:20260420T070817
CREATED:20250517T090132Z
LAST-MODIFIED:20250610T192108Z
UID:19092-1751400000-1751403600@caleacunoasterii.com
SUMMARY:CURĂȚAREA ENERGETICĂ DE TRAUME\, ABUZURI ȘI VIOLURI
DESCRIPTION:REDUCEREA DE VARĂ -20% \n\n\n\nCONTRIBUȚIA DE PARTICIPARE DUPĂ REDUCEREA DE 20%:200 (168+TVA) lei\, sau 42 (35+TVA) euro de persoană. \n\n\n\n \n\n\n\nCURĂȚAREA ENERGETICĂ DE TRAUME\, ABUZURI ȘI VIOLURI \n\n\n\nUn seminar care vă oferă posibilitatea de a primi un pachet întreg de curățare energetică\, o șansă imensă de a curăța și recrea propria viață într-un mod unic\, prin puterea cuvântului Petrei și a voii divine.Prin această lucrare complexă\, toată lumea are de câștigat. \n\n\n\nTRAUME DIVERSE \n\n\n\n– Traumă simplă: un eveniment unic (de exemplu\, accident de mașină\, fenomene grave ale naturii etc.)– Traumă complexă: situații traumatizante de lungă durată\, repetitive\, prelungite (abuz fizic sau sexual\, abuz emoțional\, violență domestică\, război etc.)– Traumele existențiale: apar atunci când viața îți este pusă în pericol– Traumele de pierdere: sunt cauzate de pierderea unei persoane de care te-ai atașat puternic la nivel emoțional– Traumele de identitate: sunt o formă de traumatizare care apare atunci când nu ești dorit de propria mamă (de multe ori\, nici de propriul tată)– Traumele de iubire: apar atunci când un copil nu primește afecțiune și iubire de la mama lui sau de la tatăl lui– Traumele de sexualitate: abuzul sexual\, sub diferitele lui forme de stimulare sexuală forțată (viol\, atingeri\, masturbare\, vizionare de scene sexuale etc.) și alteleUn tip de traumă duce la un alt tip de traumă și astfel omul trăiește cu o permanentă luptă internă\, desprins de el însuși\, cu un gol intern pe care nu reușește niciodată să îl umple. Traumele sunt încărcături energetice care blochează fluxul normal în sistemele noastre energetice\, iar după un timp\, blocajele apar și pe corpul fizic sub formă de dureri și diferite boli (inclusiv cele autoimune).Traumele sunt psihosomatizări emoționale care\, formând blocaje în toate sistemele noastre\, determină centrele energetice și meridianele să se inactiveze. \n\n\n\nExistă posibilitatea ca anumite centre energetice\, în urma traumelor sau șocurilor\, să își inverseze rotația. \n\n\n\nLucrarea de față oferă soluții\, prin frecvențe și coduri specifice corecțiilor. Prin frecvențele și codurile accesate și integrate\, se instalează în timp starea de bine care conduce la ameliorarea și reabilitarea sănătății. \n\n\n\nABUZURI DIVERSE \n\n\n\nAbuzul este orice acțiune care are intenția de a exercita control sau de a răni o altă ființă\, având ca scop stabilirea și demonstrarea puterii și a controlului asupra altei persoane. \n\n\n\nAbuzurile pot fi foarte diferite: \n\n\n\n\nabuzul emoțional\, manipulare\n\n\n\nabuzul fizic\, vătămare fizică\n\n\n\nabuzul sexual\, impunerea de activități sau experiențe sexuale nedorite\n\n\n\nneglijarea\, lipsa sprijinului la nevoile umane de bază pentru bunăstarea fizică și emoțională\n\n\n\nabuzul financiar\, folosirea controlului financiar asupra partenerului\n\n\n\nabuzurile verbale: țipete\, înjurături\, porecle\, acuzații\, amenințări ș.a.\n\n\n\nabuzurile de substanțe nocive: alcool\, tutun\, droguri\n\n\n\nabuzul psihologic\, influențarea psihică\n\n\n\nși alteleA pune capăt abuzului nu este la fel de ușor ca și cum „pur și simplu pleci”. Este firesc dacă vă temeți pentru siguranța dumneavoastră sau a copiilor dumneavoastră.Este\, de asemenea\, valabil dacă simțiți că nu aveți resursele necesare pentru a ieși din situație. Toate acestea sunt situații obișnuite de care mulți parteneri abuzivi pot profita pentru a vă păstra lângă ei.\n\n\n\n\nÎn cazul abuzului emoțional\, este posibil să nu realizați încă faptul că vă aflați într-un ciclu abuziv. Dar este posibil să părăsiți o relație abuzivă și poate începe cu identificarea acelor comportamente toxice pe care nu le veți tolera. \n\n\n\nAceste sfaturi vă pot ajuta să lucrați la modul în care să puneți capăt ciclului de abuz: \n\n\n\n\nSă aveți întotdeauna o persoană în care vă puteți încrede\n\n\n\nA vorbi cu un prieten de încredere sau cu un membru al familiei vă poate ajuta să vedeți și să verificați tiparele de comportament care pot indica abuzul. De asemenea\, vă poate ajuta să găsiți un spațiu sigur unde să vă adresați atunci când vă aflați în stadiile de tensiune și de incident.\n\n\n\n\n\n\n\n\nVIOLUL (este un abuz sexual) \n\n\n\nLa categoria de viol/abuz sexual pot intra: violuri\, supunerea nevoită sau voită la perversiuni sexuale\, expunerea la astfel de fapte ca martor voit sau forțat\, fiind copii sau adulți obligați să privească\, care urmăresc actul dat din curiozitate sau din alte motive ajung să fie prezenți la astfel de acte nefirești ș.a.Indiferent de când s-au petrecut aceste evenimente nefericite\, în această viață\, când erați prunc\, adolescent\, matur sau chiar în etate\, în alte vremuri sau/și alte dimensiuni\, această curățare energetică este binevenită pentru absolut toți\, femei și bărbați\, tineri și bătrâni deopotrivă.Deoarece aceste abuzuri pot face parte din karma unora dintre noi\, seminarul este cu contribuție de participare\, ca echilibrare energetică și plată materială pentru acea karmă.Lăsați jena la o parte și curățați-vă sufletul și spiritul dumneavoastră de această încărcătură negativă prezentă în sferele energetice cu voia sau fără voia\, cu știința sau fără știința dumneavoastră.Această informație/energie negativă vă blochează ascensiunea spirituală și crearea unei vieți pline de bucurie.Dumnezeu vă oferă acum șansa să vă spălați prin lumina Sa vindecătoare de acel balast inutil și greu de cărat prin viață.Sunt multe victime ale acestor abuzuri\, care în acest moment nu își permit să plătească pentru o astfel de curățare energetică\, de aceea vom accepta donații de la cei care doresc să ajute victimele abuzurilor. \n\n\n\nCurățarea energetică de cele de mai sus este un prim pas în reabilitarea oricui. Odată curățate infoenergiile negative\, paraziții energetici care creează și susțin aceste aspecte\, se face loc pentru lumina divină\, care vine și umple toate rănile noastre cu lumină\, iubire\, vindecare și iertare. Toate acestea duc la reabilitarea completă în timp\, dacă reușim să uităm de acele evenimente traumatizante. \n\n\n\nAcest eveniment are loc pe un link de YouTube special creat pentru data respectivă. Linkul îl veți primi în e-mailul de confirmare a înregistrării prin formularul de înregistrare. Se va crea un grup de WhatsApp\, special pentru acest seminar\, pentru socializarea de după lucrare.În cazul în care nu vă regăsiți în grup cu o oră înainte de începerea evenimentului\, dar v-ați înregistrat prin formularul de înregistrare din calendar din timp și ați primit e-mailul de confirmare\, vă rugăm să ne contactați la +40762203131. \n\n\n\n \n\n\n\nContribuția de participare: 250 (210+TVA) lei\, sau 55 (46+TVA) euro de persoană. \n\n\n\nContul bancar pentru contribuția de participare: \n\n\n\nLIBRA INTERNET BANK \n\n\n\nRO95BREL0002002904570100 lei \n\n\n\nTransferul bancar în contul de euro se acceptă doar din conti create la bănci din afara României. \n\n\n\nRO14BREL0002002904570200 euro \n\n\n\nBRELROBUXXX – BIC / SWIFT CodeDestinatar: CALEA CUNOAȘTERII SRL\, CUI 42269307 \n\n\n\n \n\n\n\nCONTRAINDICAȚII: NU EXISTĂ. \n\n\n\nRECOMANDAT PENTRU: persoane fizice (adulți și copii prezenți în direct sau doar în poză\, sau doar cu nume\, prenume și data nașterii scrise pe o listă). \n\n\n\nEFECTE SECUNDARE: \n\n\n\nEste posibil să se pornească un val de detoxifiere\, curățare a organismului de șlacuri\, reziduuri metabolice de la nivel celular\, este posibil să aveți dureri de cap\, stări de greață\, amețeli\, toate temporare\, de moment.Se recomandă să beți cât mai multă apă\, până se elimină din organism.Dacă aveți stări de greață\, ar fi bine să vomitați. Asta vă va ajuta să eliminați direct o cantitate mare de toxine\, fără să treacă prin filtrele corpului dumneavoastră (ficat\, rinichi).Dacă se întâmplă asta\, este indicată o alimentație ușoară\, de post. Beți ceaiuri din plante aferente afecțiunilor. \n\n\n\nNU RENUNȚAȚI LA TRATAMENTUL INDICAT DE MEDICUL CURANT. \n\n\n\nPrevent Duplicate EntryForm Submission is restrictedÎnregistrarea s-a făcut cu succes!2025.07.01 Curățarea energetică de traume\, abuzuri și violuriName*Nume PrenumeTelefon*Email*Contribuția trimisă*Atașați confirmarea plății UploadNo file selectedAcord de prelucrare a datelor personale*Prin completarea acestui formular consimt la inregistrarea și prelucrarea datelor personale pentru accesul la eveniment. Înregistrare
URL:https://caleacunoasterii.com/event/curatarea-energetica-de-traume-abuzuri-si-violuri-2/
END:VEVENT
END:VCALENDAR