BEGIN:VCALENDAR
VERSION:2.0
PRODID:-//Calea cunoașterii - ECPv6.15.16//NONSGML v1.0//EN
CALSCALE:GREGORIAN
METHOD:PUBLISH
X-WR-CALNAME:Calea cunoașterii
X-ORIGINAL-URL:https://caleacunoasterii.com
X-WR-CALDESC:Events for Calea cunoașterii
REFRESH-INTERVAL;VALUE=DURATION:PT1H
X-Robots-Tag:noindex
X-PUBLISHED-TTL:PT1H
BEGIN:VTIMEZONE
TZID:Europe/Bucharest
BEGIN:DAYLIGHT
TZOFFSETFROM:+0200
TZOFFSETTO:+0300
TZNAME:EEST
DTSTART:20240331T010000
END:DAYLIGHT
BEGIN:STANDARD
TZOFFSETFROM:+0300
TZOFFSETTO:+0200
TZNAME:EET
DTSTART:20241027T010000
END:STANDARD
BEGIN:DAYLIGHT
TZOFFSETFROM:+0200
TZOFFSETTO:+0300
TZNAME:EEST
DTSTART:20250330T010000
END:DAYLIGHT
BEGIN:STANDARD
TZOFFSETFROM:+0300
TZOFFSETTO:+0200
TZNAME:EET
DTSTART:20251026T010000
END:STANDARD
BEGIN:DAYLIGHT
TZOFFSETFROM:+0200
TZOFFSETTO:+0300
TZNAME:EEST
DTSTART:20260329T010000
END:DAYLIGHT
BEGIN:STANDARD
TZOFFSETFROM:+0300
TZOFFSETTO:+0200
TZNAME:EET
DTSTART:20261025T010000
END:STANDARD
END:VTIMEZONE
BEGIN:VEVENT
DTSTART;TZID=Europe/Bucharest:20250715T200000
DTEND;TZID=Europe/Bucharest:20250715T210000
DTSTAMP:20260420T070949
CREATED:20250517T093556Z
LAST-MODIFIED:20250610T192940Z
UID:19098-1752609600-1752613200@caleacunoasterii.com
SUMMARY:Activarea\, Reabilitarea și Armonizarea Chakrelor
DESCRIPTION:REDUCEREA DE VARĂ -20% \n\n\n\nCONTRIBUȚIA DE PARTICIPARE DUPĂ REDUCEREA DE 20%:200 (168+TVA) lei\, sau 42 (35+TVA) euro de persoană. \n\n\n\n \n\n\n\nACTIVAREA\, REABILITAREA ȘI ARMONIZAREA CHAKRELOR \n\n\n\nSeminarul de față are ca scop principal echilibrarea Chakrelor\, adică a tuturor Centrelor Energetice ale sistemului auric uman.Funcționarea corectă și eficientă a acestor Centre Energetice oferă vitalitate și putere energetică pentru reabilitarea și păstrarea sănătății fizice/biologice în standarde optime. De asemenea\, are o mare importanță în puterea de realizare a proiectelor/țelurilor/dorințelor/scopurilor noastre.Petra va accesa frecvențele specifice și necesare pentru activarea\, reabilitarea și armonizarea fiecărei chakre în parte\, începând de la chakra 1\, bazală\, legătura noastră cu Mama Pământ\, până la chakra 7\, chakra conexiunii cu Divinitatea.În felul acesta\, ne va crește nivelul energetic-vibrațional într-un fel sănătos și sigur\, care ne va duce pe frecvențele aferente materializării cerințelor noastre\, în funcție de puterea credințelor personale ale fiecăruia în parte.Se recomandă să participați la minimum trei seminare cu acest titlu.Vă așteptăm cu drag\, pentru reglarea stării dumneavoastră energetice în acest fel\, care este cheia vitalității\, sănătății și bunei funcționări a tuturor sistemelor și corpurilor fizic și energetic. \n\n\n\nAcest eveniment are loc pe un link de YouTube special creat pentru data respectivă. Linkul îl veți primi în e-mailul de confirmare a înregistrării prin formularul de înregistrare. Se va crea un grup de WhatsApp\, special pentru acest seminar\, pentru socializarea de după lucrare.În cazul în care nu vă regăsiți în grup cu o oră înainte de începerea evenimentului\, dar v-ați înregistrat prin formularul de înregistrare din calendar din timp și ați primit e-mailul de confirmare\, vă rugăm să ne contactați la +40762203131. \n\n\n\nCONTRIBUȚIA DE PARTICIPARE:250 (210+TVA) lei\, sau 55 (46+TVA) euro de persoană. \n\n\n\nContul bancar pentru Contribuția de participare: \n\n\n\nLIBRA INTERNET BANK \n\n\n\nRO95BREL0002002904570100 lei \n\n\n\nTransferul bancar în contul de euro se acceptă doar din conturi create la bănci din afara României. \n\n\n\nRO14BREL0002002904570200 euro \n\n\n\nBRELROBUXXX – BIC / SWIFT CodeDestinatar: CALEA CUNOAȘTERII SRL\, CUI 42269307 \n\n\n\nCONTRAINDICAȚII: NU EXISTĂ. \n\n\n\nRECOMANDAT PENTRU: persoane fizice (adulți și copii prezenți în direct sau doar în poză\, sau doar cu nume\, prenume și data nașterii scrise pe o listă). \n\n\n\nEFECTE SECUNDARE: \n\n\n\nEste posibil să se pornească un val de detoxifiere\, curățare a organismului de șlacuri\, reziduuri metabolice de la nivel celular\, este posibil să aveți dureri de cap\, stări de greață\, amețeli.Se recomandă să beți cât mai multă apă\, până se elimină acestea din organism.Dacă aveți stări de greață\, ar fi bine să vomitați. Asta vă va ajuta să eliminați direct o cantitate mare de toxine\, fără să treacă prin filtrele corpului dumneavoastră (ficat\, rinichi).Este indicată o alimentație ușoară\, de post. Beți ceaiuri din plante aferente afecțiunilor. \n\n\n\nNU RENUNȚAȚI LA TRATAMENTUL INDICAT DE MEDICUL CURANT. \n\n\n\nPrevent Duplicate EntryForm Submission is restrictedÎnregistrarea s-a făcut cu succes!2025.07.15 Activarea\, Reabilitarea și Armonizarea ChakrelorName*Nume PrenumeTelefon*Email*Contribuția trimisă*Atașați confirmarea plății UploadNo file selectedAcord de prelucrare a datelor personale*Prin completarea acestui formular consimt la inregistrarea și prelucrarea datelor personale pentru accesul la eveniment. Înregistrare
URL:https://caleacunoasterii.com/event/activarea-reabilitarea-si-armonizarea-chakrelor/
END:VEVENT
END:VCALENDAR