BEGIN:VCALENDAR
VERSION:2.0
PRODID:-//Calea cunoașterii - ECPv6.15.16//NONSGML v1.0//EN
CALSCALE:GREGORIAN
METHOD:PUBLISH
X-WR-CALNAME:Calea cunoașterii
X-ORIGINAL-URL:https://caleacunoasterii.com
X-WR-CALDESC:Events for Calea cunoașterii
REFRESH-INTERVAL;VALUE=DURATION:PT1H
X-Robots-Tag:noindex
X-PUBLISHED-TTL:PT1H
BEGIN:VTIMEZONE
TZID:Europe/Bucharest
BEGIN:DAYLIGHT
TZOFFSETFROM:+0200
TZOFFSETTO:+0300
TZNAME:EEST
DTSTART:20240331T010000
END:DAYLIGHT
BEGIN:STANDARD
TZOFFSETFROM:+0300
TZOFFSETTO:+0200
TZNAME:EET
DTSTART:20241027T010000
END:STANDARD
BEGIN:DAYLIGHT
TZOFFSETFROM:+0200
TZOFFSETTO:+0300
TZNAME:EEST
DTSTART:20250330T010000
END:DAYLIGHT
BEGIN:STANDARD
TZOFFSETFROM:+0300
TZOFFSETTO:+0200
TZNAME:EET
DTSTART:20251026T010000
END:STANDARD
BEGIN:DAYLIGHT
TZOFFSETFROM:+0200
TZOFFSETTO:+0300
TZNAME:EEST
DTSTART:20260329T010000
END:DAYLIGHT
BEGIN:STANDARD
TZOFFSETFROM:+0300
TZOFFSETTO:+0200
TZNAME:EET
DTSTART:20261025T010000
END:STANDARD
END:VTIMEZONE
BEGIN:VEVENT
DTSTART;TZID=Europe/Bucharest:20250729T200000
DTEND;TZID=Europe/Bucharest:20250729T210000
DTSTAMP:20260420T111916
CREATED:20250517T090626Z
LAST-MODIFIED:20250610T193521Z
UID:19091-1753819200-1753822800@caleacunoasterii.com
SUMMARY:BINECUVÂNTAREA DUHULUI SFÂNT
DESCRIPTION:REDUCEREA DE VARĂ -20% \n\n\n\nCONTRIBUȚIA DE PARTICIPARE DUPĂ REDUCEREA DE 20%:200 (168+TVA) lei\, sau 42 (35+TVA) euro de persoană. \n\n\n\nBINECUVÂNTAREA DUHULUI SFÂNT \n\n\n\nBinecuvântarea Duhului Sfânt este o manifestare spirituală profundă\, prezentă în special în tradiția creștină\, care semnifică prezența\, lucrarea și revărsarea harului divin asupra unei persoane. Este considerată un act sacru prin care Dumnezeu\, prin Duhul Sfânt\, oferă lumină\, călăuzire\, putere și sfințire.Este o revărsare de har spiritual care: \n\n\n\n– Întărește credința \n\n\n\n– Luminează mintea \n\n\n\n– Curăță sufletul \n\n\n\n– Oferă pace interioară și discernământ \n\n\n\n– Împuternicește pentru fapte bune sau slujire \n\n\n\nBinecuvântarea Duhului Sfânt poate fi trăită în mai multe forme:rugăciune profundă și inspirată\, simțirea unei păci interioare copleșitoare\, lacrimi de curățare sufletească\, intuiții spirituale sau revelații\, o senzație de prezență divină care te cuprinde complet.Aceste stări pot fi atinse în rugăciune sinceră și smerită\, prin tainele Bisericii\, cum sunt mirungerea (ungerea cu Sfântul Mir) sau spovedania\, în momente de criză interioară urmate de deschidere față de Dumnezeu\, în căutarea sinceră a adevărului și a iubirii divine. \n\n\n\nAceastă binecuvântare a Duhului Sfânt este ca o flacără interioară aprinsă de Dumnezeu\, care transformă omul din interior\, îl sfințește și îl apropie de adevărata sa natură divină.Petra ne va aduce prin puterea cuvântului său toate acestea în planul nostru de manifestare. \n\n\n\nAcest eveniment are loc pe un link de YouTube special creat pentru data respectivă. Linkul îl veți primi în e-mailul de confirmare a înregistrării prin formularul de înregistrare. Se va crea un grup de WhatsApp\, special pentru acest seminar\, pentru socializarea de după lucrare.În cazul în care nu vă regăsiți în grup cu o oră înainte de începerea evenimentului\, dar v-ați înregistrat prin formularul de înregistrare din calendar din timp și ați primit e-mailul de confirmare\, vă rugăm să ne contactați la +40762203131. \n\n\n\nCONTRIBUȚIA DE PARTICIPARE:250 (210+TVA) lei\, sau 55 (46+TVA) euro de persoană. \n\n\n\nContul bancar pentru Contribuția de participare: \n\n\n\nLIBRA INTERNET BANK \n\n\n\nRO95BREL0002002904570100 lei \n\n\n\nTransferul bancar în contul de euro se acceptă doar din conturi create la bănci din afara României. \n\n\n\nRO14BREL0002002904570200 euro \n\n\n\nBRELROBUXXX – BIC / SWIFT CodeDestinatar: CALEA CUNOAȘTERII SRL\, CUI 42269307 \n\n\n\nCONTRAINDICAȚII: NU EXISTĂ. \n\n\n\nRECOMANDAT PENTRU: persoane fizice (adulți și copii prezenți în direct sau doar în poză\, sau doar cu nume\, prenume și data nașterii scrise pe o listă). \n\n\n\nEFECTE SECUNDARE: \n\n\n\nEste posibil să se pornească un val de detoxifiere\, curățare a organismului de șlacuri\, reziduuri metabolice de la nivel celular\, este posibil să aveți dureri de cap\, stări de greață\, amețeli.Se recomandă să beți cât mai multă apă\, până se elimină acestea din organism.Dacă aveți stări de greață\, ar fi bine să vomitați. Asta vă va ajuta să eliminați direct o cantitate mare de toxine\, fără să treacă prin filtrele corpului dumneavoastră (ficat\, rinichi).Este indicată o alimentație ușoară\, de post. Beți ceaiuri din plante aferente afecțiunilor. \n\n\n\nNU RENUNȚAȚI LA TRATAMENTUL INDICAT DE MEDICUL CURANT. \n\n\n\nPrevent Duplicate EntryForm Submission is restrictedÎnregistrarea s-a făcut cu succes!2025.07.29 BINECUVÂNTAREA DUHULUI SFÂNTName*Nume PrenumeTelefon*Email*Contribuția trimisă*Atașați confirmarea plății UploadNo file selectedAcord de prelucrare a datelor personale*Prin completarea acestui formular consimt la inregistrarea și prelucrarea datelor personale pentru accesul la eveniment. Înregistrare
URL:https://caleacunoasterii.com/event/binecuvantarea-duhului-sfant/
END:VEVENT
END:VCALENDAR