BEGIN:VCALENDAR
VERSION:2.0
PRODID:-//Calea cunoașterii - ECPv6.15.16//NONSGML v1.0//EN
CALSCALE:GREGORIAN
METHOD:PUBLISH
X-ORIGINAL-URL:https://caleacunoasterii.com
X-WR-CALDESC:Events for Calea cunoașterii
REFRESH-INTERVAL;VALUE=DURATION:PT1H
X-Robots-Tag:noindex
X-PUBLISHED-TTL:PT1H
BEGIN:VTIMEZONE
TZID:Europe/Bucharest
BEGIN:DAYLIGHT
TZOFFSETFROM:+0200
TZOFFSETTO:+0300
TZNAME:EEST
DTSTART:20240331T010000
END:DAYLIGHT
BEGIN:STANDARD
TZOFFSETFROM:+0300
TZOFFSETTO:+0200
TZNAME:EET
DTSTART:20241027T010000
END:STANDARD
BEGIN:DAYLIGHT
TZOFFSETFROM:+0200
TZOFFSETTO:+0300
TZNAME:EEST
DTSTART:20250330T010000
END:DAYLIGHT
BEGIN:STANDARD
TZOFFSETFROM:+0300
TZOFFSETTO:+0200
TZNAME:EET
DTSTART:20251026T010000
END:STANDARD
BEGIN:DAYLIGHT
TZOFFSETFROM:+0200
TZOFFSETTO:+0300
TZNAME:EEST
DTSTART:20260329T010000
END:DAYLIGHT
BEGIN:STANDARD
TZOFFSETFROM:+0300
TZOFFSETTO:+0200
TZNAME:EET
DTSTART:20261025T010000
END:STANDARD
END:VTIMEZONE
BEGIN:VEVENT
DTSTART;TZID=Europe/Bucharest:20250805T200000
DTEND;TZID=Europe/Bucharest:20250805T210000
DTSTAMP:20260420T022700
CREATED:20250517T174642Z
LAST-MODIFIED:20250802T075157Z
UID:19106-1754424000-1754427600@caleacunoasterii.com
SUMMARY:Vindecarea și Activarea ADN-ului Personal
DESCRIPTION:REDUCEREA DE VARĂ -20% \n\n\n\nCONTRIBUȚIA DE PARTICIPARE DUPĂ REDUCEREA DE 20%:203 (168+TVA) lei\, sau 42 (35+TVA) euro de persoană. \n\n\n\n \n\n\n\nVINDECAREA ȘI ACTIVAREA ADN-ULUI PERSONAL \n\n\n\nADN-ul este „rețeta” necesară sintezei de proteine\, molecule organice esențiale pentru organismele vii. O moleculă de ADN conține zone numite gene\, zone fără funcție\, precum și zone cu un rol încă necunoscut. Acidul dezoxiribonucleic are o structură de elice dublă. Acid nucleic\, suport al controlului activităților celulare și al transmiterii caracterelor ereditare. Molecula de ADN\, foarte lungă\, comportă două fire răsucite unul în jurul celuilalt într-o dublă elice. ADN-ul este principalul constituent chimic al cromozomilor. Pe unul din cele două fire se găsesc informațiile care permit enzimelor să sintetizeze proteinele\, care controlează activitățile celulare. În timpul diviziunii celulare\, enzimele separă cele două fire și sintetizează alte două fire noi în fața celor vechi. Astfel se formează două noi molecule de ADN\, identice cu cea veche\, destinate fiecare câte unei celule-fiice. Acest fenomen\, denumit replicarea ADN-ului\, asigură identitatea genetică în timpul multiplicării celulare. În vremurile de azi\, în care stresul\, stilul de viață\, gândurile\, alimentația nu fac altceva decât să ne tocească\, să ne rupă lanțurile delicate ale ADN-ului nostru\, creat PERFECT de către Dumnezeu și gestionat de Om\, avem mare nevoie de un ajutor urgent. Ce se poate întâmpla\, dacă structura ADN-ului se deteriorează? În acest caz nefericit\, totul începe să se deterioreze și urmează suferințele în corpul fizic\, care adesea pot fi greu de acceptat și de dus până la final. Lucrarea Spiritual-Energetică oferită de către noi\, ghidată de PETRA\, realizată de Isus Christos\, care repară toate fragmentele\, elementele tocite\, deteriorate și chiar rupte deja din structura ADN-ului\, este o șansă de reabilitare a structurilor și organelor suferinde. Toată această reabilitare făcută de ISUS se întâmplă în structurile noastre energetice\, după care coboară la nivel de corp fizic cu modificările actualizate și înfăptuiește reabilitarea și adesea chiar și minuni\, în funcție de credințele noastre și încrederea în lucrarea Divină. Chiar și cei care sunt perfect sănătoși\, din punctul lor de vedere\, pot participa la această lucrare\, indiferent de vârstă\, deoarece are loc un „restart”\, o repornire a tuturor funcțiilor ADN-ului spre binele nostru superior. \n\n\n\nAcest eveniment are loc pe un link de YouTube special creat pentru data respectivă. Linkul îl veți primi în e-mailul de confirmare a înregistrării prin formularul de înregistrare. Se va crea un grup de WhatsApp\, special pentru acest seminar\, pentru socializarea de după lucrare.În cazul în care nu vă regăsiți în grup cu o oră înainte de începerea evenimentului\, dar v-ați înregistrat prin formularul de înregistrare din calendar din timp și ați primit e-mailul de confirmare\, vă rugăm să ne contactați la +40762203131. \n\n\n\nCONTRIBUȚIA DE PARTICIPARE:255 (210+TVA) lei\, sau 56 (46+TVA) euro de persoană. \n\n\n\nContul bancar pentru Contribuția de participare: \n\n\n\nLIBRA INTERNET BANK \n\n\n\nRO95BREL0002002904570100 lei \n\n\n\nTransferul bancar în contul de euro se acceptă doar din conturi create la bănci din afara României. \n\n\n\nRO14BREL0002002904570200 euro \n\n\n\nBRELROBUXXX – BIC / SWIFT CodeDestinatar: CALEA CUNOAȘTERII SRL\, CUI 42269307 \n\n\n\nCONTRAINDICAȚII: NU EXISTĂ. \n\n\n\nRECOMANDAT PENTRU: persoane fizice (adulți și copii prezenți în direct sau doar în poză\, sau doar cu nume\, prenume și data nașterii scrise pe o listă). \n\n\n\nEFECTE SECUNDARE: \n\n\n\nEste posibil să se pornească un val de detoxifiere\, curățare a organismului de șlacuri\, reziduuri metabolice de la nivel celular\, este posibil să aveți dureri de cap\, stări de greață\, amețeli.Se recomandă să beți cât mai multă apă\, până se elimină acestea din organism.Dacă aveți stări de greață\, ar fi bine să vomitați. Asta vă va ajuta să eliminați direct o cantitate mare de toxine\, fără să treacă prin filtrele corpului dumneavoastră (ficat\, rinichi).Este indicată o alimentație ușoară\, de post. Beți ceaiuri din plante aferente afecțiunilor. \n\n\n\nNU RENUNȚAȚI LA TRATAMENTUL INDICAT DE MEDICUL CURANT. \n\n\n\nPrevent Duplicate EntryForm Submission is restrictedÎnregistrarea s-a făcut cu succes!2025.08.05 Vindecarea și Activarea ADN-ului PersonalName*Nume PrenumeTelefon*Email*Contribuția trimisă*Atașați confirmarea plății UploadNo file selectedAcord de prelucrare a datelor personale*Prin completarea acestui formular consimt la inregistrarea și prelucrarea datelor personale pentru accesul la eveniment. Înregistrare
URL:https://caleacunoasterii.com/event/vindecarea-si-activarea-adn-ului-personal/
END:VEVENT
END:VCALENDAR