BEGIN:VCALENDAR
VERSION:2.0
PRODID:-//Calea cunoașterii - ECPv6.15.16//NONSGML v1.0//EN
CALSCALE:GREGORIAN
METHOD:PUBLISH
X-WR-CALNAME:Calea cunoașterii
X-ORIGINAL-URL:https://caleacunoasterii.com
X-WR-CALDESC:Events for Calea cunoașterii
REFRESH-INTERVAL;VALUE=DURATION:PT1H
X-Robots-Tag:noindex
X-PUBLISHED-TTL:PT1H
BEGIN:VTIMEZONE
TZID:Europe/Bucharest
BEGIN:DAYLIGHT
TZOFFSETFROM:+0200
TZOFFSETTO:+0300
TZNAME:EEST
DTSTART:20240331T010000
END:DAYLIGHT
BEGIN:STANDARD
TZOFFSETFROM:+0300
TZOFFSETTO:+0200
TZNAME:EET
DTSTART:20241027T010000
END:STANDARD
BEGIN:DAYLIGHT
TZOFFSETFROM:+0200
TZOFFSETTO:+0300
TZNAME:EEST
DTSTART:20250330T010000
END:DAYLIGHT
BEGIN:STANDARD
TZOFFSETFROM:+0300
TZOFFSETTO:+0200
TZNAME:EET
DTSTART:20251026T010000
END:STANDARD
BEGIN:DAYLIGHT
TZOFFSETFROM:+0200
TZOFFSETTO:+0300
TZNAME:EEST
DTSTART:20260329T010000
END:DAYLIGHT
BEGIN:STANDARD
TZOFFSETFROM:+0300
TZOFFSETTO:+0200
TZNAME:EET
DTSTART:20261025T010000
END:STANDARD
END:VTIMEZONE
BEGIN:VEVENT
DTSTART;TZID=Europe/Bucharest:20250902T200000
DTEND;TZID=Europe/Bucharest:20250902T210000
DTSTAMP:20260419T235755
CREATED:20250518T060218Z
LAST-MODIFIED:20250830T080842Z
UID:19127-1756843200-1756846800@caleacunoasterii.com
SUMMARY:Diminuarea și Vindecarea Karmei de Neam
DESCRIPTION:REDUCEREA DE VARĂ -20% \n\n\n\nCONTRIBUȚIA DE PARTICIPARE DUPĂ REDUCEREA DE 20%:203 (168+TVA) lei\, sau 42 (35+TVA) euro de persoană. \n\n\n\n \n\n\n\nDIMINUAREA ȘI VINDECAREA KARMEI DE NEAM \n\n\n\nToți avem Karma de neam!Mai mult de atât\, avem Karma personală câștigată cu propriile eforturi prin alegerile făcute în această viață sau alte existențe și avem Karma de Neam. Chiar dacă nu avem nicio cunoaștere despre ce s-a întâmplat în cel de-al nouălea neam\, vom fi cumva forțați să curățăm în această viață Karma de Neam necunoscută nouă. Prin asta curățăm și Karma care ar urma să se transmită viitoarelor generații și ușurăm bagajul karmic al strămoșilor. Când facem curățarea de Karma de Neam\, se instalează o bucurie imensă în întreg Arborele Genealogic. Fiecare alegere atrage o karmă – pozitivă sau negativă. În esență\, karma este legea universală a cauzei și efectului: ceea ce faci\, gândești sau simți creează o energie care se întoarce la tine într-o formă similară. Orice direcție alegi în viață devine un punct de plecare pentru o serie de consecințe care te influențează pe mai multe niveluri – fizic\, emoțional\, mental și spiritual. Karma este o lecție\, nu o condamnare. Karma îți oferă mereu oportunitatea să crești. Fie că ai creat o energie pozitivă care te ridică\, fie una negativă care te provoacă\, întregul scop este să te ajute să evoluezi. Alegerea conștientă și dorința de a învăța transformă orice experiență într-un pas înainte pe calea ta spirituală. Astfel\, karma nu este un scop final\, ci un proces continuu de echilibrare și creștere – un ghid care te învață să alegi mereu cu mai multă iubire și înțelepciune. Karma de neam reprezintă suma tuturor energiilor negative sau de joasă amplitudine create de un neam (a se înțelege „de o stirpe”\, adică de liniajul familiei: rude sau arbore genealogic) și care se găsește în „magma pământului”. Ortodoxia le mai numește și „păcate de neam”. Un citat bine spus vine în completare: „Ce înseamnă noțiunea de „karmă pură”? Karma reprezintă un cumul de fapte săvârșite în trecut\, care determină destinul unui om. Comportamentul dumneavoastră din trecut și comportamentul strămoșilor – toate acestea vă determină\, în cele din urmă\, comportamentul din prezent\, cu alte cuvinte\, de trecutul dumneavoastră depinde modul în care vă comportați și vă simțiți în prezent. Caracterul dumneavoastră este\, de asemenea\, rezultatul vieților trecute\, al propriului comportament și al comportamentului părinților dumneavoastră. Pe scurt\, karma este un rezultat comun a ceea ce ați făcut\, ați simțit și ați gândit.” S.N. Lazarev Diminuarea Karmei poate fi făcută prin două metode principale: plata materială/bani și plata prin suferință. Desigur\, depinde și de genul de Karma care ne revine\, de alegerile/formele de plată pe care le-am ales venind la întrupare și altele. Cert este că\, în cazul în care comportamentul nostru este îndreptat spre bine și creștere spirituală\, prin intenția de a ne diminua Karmele prin diferite metode de curățări energetice\, se pot obține foarte multe rezultate pozitive\, adesea miraculoase\, care ne schimbă întreg destinul. Fiți mereu binecuvântați cu înțelepciune divină. \n\n\n\nAcest eveniment are loc pe un link de YouTube special creat pentru data respectivă. Linkul îl veți primi în e-mailul de confirmare a înregistrării prin formularul de înregistrare. Se va crea un grup de WhatsApp\, special pentru acest Seminar\, pentru socializarea de după lucrare.În cazul în care nu vă regăsiți în grup cu o oră înainte de începerea evenimentului\, dar v-ați înregistrat prin formularul de înregistrare din calendar din timp și ați primit e-mailul de confirmare\, vă rugăm să ne contactați la +40762203131. \n\n\n\nCONTRIBUȚIA DE PARTICIPARE:255 (210+TVA) lei\, sau 56 (46+TVA) euro de persoană. \n\n\n\nContul bancar pentru Contribuția de participare: \n\n\n\nLIBRA INTERNET BANK \n\n\n\nRO95BREL0002002904570100 lei \n\n\n\nTransferul bancar în contul de euro se acceptă doar din conturi create la bănci din afara României. \n\n\n\nRO14BREL0002002904570200 euro \n\n\n\nBRELROBUXXX – BIC / SWIFT CodeDestinatar: CALEA CUNOAȘTERII SRL\, CUI 42269307 \n\n\n\nCONTRAINDICAȚII: NU EXISTĂ. \n\n\n\nRECOMANDAT PENTRU: persoane fizice (adulți și copii prezenți în direct sau doar în poză\, sau doar cu nume\, prenume și data nașterii scrise pe o listă). \n\n\n\nEFECTE SECUNDARE: \n\n\n\nEste posibil să se pornească un val de detoxifiere\, curățare a organismului de șlacuri\, reziduuri metabolice de la nivel celular\, este posibil să aveți dureri de cap\, stări de greață\, amețeli.Se recomandă să beți cât mai multă apă\, până se elimină acestea din organism.Dacă aveți stări de greață\, ar fi bine să vomitați. Asta vă va ajuta să eliminați direct o cantitate mare de toxine\, fără să treacă prin filtrele corpului dumneavoastră (ficat\, rinichi).Este indicată o alimentație ușoară\, de post. Beți ceaiuri din plante aferente afecțiunilor. \n\n\n\nNU RENUNȚAȚI LA TRATAMENTUL INDICAT DE MEDICUL CURANT. \n\n\n\nPrevent Duplicate EntryForm Submission is restrictedÎnregistrarea s-a făcut cu succes!2025.09.02 Diminuarea și Vindecarea Karmei de NeamName*Nume PrenumeTelefon*Email*Contribuția trimisă*Atașați confirmarea plății UploadNo file selectedAcord de prelucrare a datelor personale*Prin completarea acestui formular consimt la inregistrarea și prelucrarea datelor personale pentru accesul la eveniment. Înregistrare
URL:https://caleacunoasterii.com/event/diminuarea-si-vindecarea-karmei-de-neam/
END:VEVENT
END:VCALENDAR