BEGIN:VCALENDAR
VERSION:2.0
PRODID:-//Calea cunoașterii - ECPv6.15.16//NONSGML v1.0//EN
CALSCALE:GREGORIAN
METHOD:PUBLISH
X-WR-CALNAME:Calea cunoașterii
X-ORIGINAL-URL:https://caleacunoasterii.com
X-WR-CALDESC:Events for Calea cunoașterii
REFRESH-INTERVAL;VALUE=DURATION:PT1H
X-Robots-Tag:noindex
X-PUBLISHED-TTL:PT1H
BEGIN:VTIMEZONE
TZID:Europe/Bucharest
BEGIN:DAYLIGHT
TZOFFSETFROM:+0200
TZOFFSETTO:+0300
TZNAME:EEST
DTSTART:20240331T010000
END:DAYLIGHT
BEGIN:STANDARD
TZOFFSETFROM:+0300
TZOFFSETTO:+0200
TZNAME:EET
DTSTART:20241027T010000
END:STANDARD
BEGIN:DAYLIGHT
TZOFFSETFROM:+0200
TZOFFSETTO:+0300
TZNAME:EEST
DTSTART:20250330T010000
END:DAYLIGHT
BEGIN:STANDARD
TZOFFSETFROM:+0300
TZOFFSETTO:+0200
TZNAME:EET
DTSTART:20251026T010000
END:STANDARD
BEGIN:DAYLIGHT
TZOFFSETFROM:+0200
TZOFFSETTO:+0300
TZNAME:EEST
DTSTART:20260329T010000
END:DAYLIGHT
BEGIN:STANDARD
TZOFFSETFROM:+0300
TZOFFSETTO:+0200
TZNAME:EET
DTSTART:20261025T010000
END:STANDARD
END:VTIMEZONE
BEGIN:VEVENT
DTSTART;TZID=Europe/Bucharest:20251007T200000
DTEND;TZID=Europe/Bucharest:20251007T210000
DTSTAMP:20260419T193042
CREATED:20250917T101131Z
LAST-MODIFIED:20250921T075648Z
UID:20496-1759867200-1759870800@caleacunoasterii.com
SUMMARY:Trezirea și Activarea Energiei Kundalini
DESCRIPTION:TREZIREA ȘI ACTIVAREA ENERGIEI KUNDALINI \n\n\n\nCuvântul Kundalini este derivat din cuvântul sanskrit kundal\, care înseamnă răsucire\, buclă. Reprezintă energia primordială prezentă sub forma a trei bucle și jumătate care se învârt sub formă de spirală la baza osului triunghiular de la baza coloanei vertebrale\, numit osul sacru (sacrum). \n\n\n\nAceasta este definiția referitoare la acest miracol al Energiei Kundalini. Energia Kundalini se regăsește în corpul fiecărui om\, însă\, de cele mai multe ori\, în stare latentă. Odată activată\, Kundalini poate avea efecte uluitoare și benefice sau\, dimpotrivă\, poate avea efecte dezastruoase – depinde de modul în care Kundalini este trezită. \n\n\n\nImediat după trezirea energiei Kundalini\, se vor întâmpla o serie de evenimente incredibile. Energia Kundalini activează cel de-al treilea ochi\, ceea ce înseamnă că percepția ta și-a lărgit orizontul către o altă dimensiune. Ochii noștri nu pot vedea decât lumea fizică\, iar dacă îi acoperim\, nu mai vedem nimic. Însă\, dacă al treilea ochi este deschis\, o altă dimensiune se așterne în fața noastră. \n\n\n\nDacă îți dorești să activezi energia Kundalini\, este neapărat necesar să îți pregătești spiritual corpul\, mintea și sufletul pentru asta. De aceea\, vom primi de fiecare dată din ce în ce mai mult\, vom începe cu pași mici\, dar siguri. Data următoare când veți mai participa la o lucrare\, veți mai primi o doză aferentă trezirii Kundalini până când sistemul este pregătit și acceptă această trezire miraculoasă. \n\n\n\n„TREZIREA ENERGIEI KUNDALINI” ÎNSEAMNĂ TREZIREA CUNOAȘTERII INTERIOARE.Calea Kundalini pornește de la Muladhara Chakra de la capătul inferior al coloanei vertebrale până la Sahasrara la partea de sus a capului. Dar trezirea ei nu este un fenomen fizic; ea constă exclusiv dintr-o dezvoltare în conștiință. Acest lucru devine mai evident când percepțiile noastre ale vibrațiilor cosmice și a energiei radiante (Tattvas) devin mai sensibile și înțelegerea noastră asupra conexiunilor și a legilor în cadrul Universului se adâncește. \n\n\n\nOdată cu trezirea energiei Kundalini\, conștiința noastră se extinde și devenim conștienți de adevăr. Trezirea aduce cu ea bucurie pură\, cunoaștere pură și iubire pură. Cel iluminat\, o persoană a cărei Kundalini s-a trezit\, radiază o dragoste\, puritate\, putere și bunătate atotcuprinzătoare\, iar toată lumea se simte atrasă de o astfel de persoană. \n\n\n\nLa fel ca orice altă formă de energie pe care trebuie să o învățăm\, de asemenea\, trebuie să înțelegem energia spirituală. Începând din copilărie\, învățăm cum să lucrăm cu energiile interne și externe. Ori de câte ori vom începe ceva nou și necunoscut\, avem întotdeauna nevoie de ceva timp\, precum și de practică și de instruire corespunzătoare\, înainte de a putea să facem față. La fel este și cu puterea Kundalini. Pentru a putea integra această energie spirituală\, o purificare atentă și întărire a corpului și a sistemului nervos sunt necesare în prealabil. \n\n\n\n„Kundalini este Mama Divină. O mamă adevărată nu cauzează daune sau nu face nimic rău copiilor ei.” (Mahāprabhujī). \n\n\n\nEste foarte important cine vă va ajuta în procesul de Trezire a Energiei Kundalini. PETRA este un Ghid Spiritual pur\, care lucrează cu Sfânta Treime și din această perspectivă toți suntem în siguranță. Recomandăm să vă setați mintea pentru a participa de mai multe ori la această lucrare\, până când veți ajunge să fiți mulțumiți de rezultat. Fiecare are puterea și viteza proprie de ascensiune. Unii merg mai rapid\, alții mai lent\, dar important este să facem lucrurile în ritmul fiecăruia\, pentru binele superior personal. \n\n\n\nAcest eveniment are loc pe un link de YouTube special creat pentru data respectivă. Linkul îl veți primi în e-mailul de confirmare a înregistrării prin formularul de înregistrare. Se va crea un grup de WhatsApp\, special pentru acest seminar\, pentru socializarea de după lucrare.În cazul în care nu vă regăsiți în grup cu o oră înainte de începerea evenimentului\, dar v-ați înregistrat prin formularul de înregistrare din calendar din timp și ați primit e-mailul de confirmare\, vă rugăm să ne contactați la +40762203131. \n\n\n\nRECOMANDAT: Adulți responsabili și cu dorință de Creștere Spirituală asumată. \n\n\n\nNU EXISTĂ CONTRAINDICAȚII \n\n\n\n \n\n\n\nContribuție de participare: 255 lei (TVA inclus)\, sau 56 euro (TVA inclus) de persoană. \n\n\n\nCOSEACOVA SVETLANA INTREPRINDERE INDIVIDUALA (I.I.) \n\n\n\nSediul: Jud. ILFOV\,Oras PANTELIMON\, str. Gradinarilor Nr. 30\, camera 2\, Bl.5\, Ap.9 \n\n\n\nCUI: 52468153 din 09/09/2025  \n\n\n\nNr.de ordine in registrul comertului: F2025033403002 din 11.09.2025 \n\n\n\nCONTURI BANCARE \n\n\n\nLIBRA INTERNET BANK \n\n\n\nCONT RON/LEI: RO09BREL0002005142140100 \n\n\n\nCONT EURO: RO25BREL0002005142140200 \n\n\n\n \n\n\n\nEFECTE SECUNDARE: \n\n\n\nEste posibil să se pornească un val de detoxifiere\, curățare a organismului de șlacuri\, reziduuri metabolice de la nivel celular\, este posibil să aveți dureri de cap\, stări de greață\, amețeli.Se recomandă să beți cât mai multă apă\, până se elimină acestea din organism.Dacă aveți stări de greață\, ar fi bine să vomitați. Asta vă va ajuta să eliminați direct o cantitate mare de toxine\, fără să treacă prin filtrele corpului dumneavoastră (ficat\, rinichi).Este indicată o alimentație ușoară\, de post. Beți ceaiuri din plante aferente afecțiunilor. \n\n\n\nNU RENUNȚAȚI LA TRATAMENTUL INDICAT DE MEDICUL CURANT. \n\n\n\nPrevent Duplicate EntryForm Submission is restrictedÎnregistrarea s-a făcut cu succes!2025.10.07 Trezirea și Activarea Energiei KundaliniName*Nume PrenumeTelefon*Email*Contribuția trimisă*Atașați confirmarea plății UploadNo file selectedAcord de prelucrare a datelor personale*Prin completarea acestui formular consimt la inregistrarea și prelucrarea datelor personale pentru accesul la eveniment. Înregistrare
URL:https://caleacunoasterii.com/event/trezirea-si-activarea-energiei-kundalini-2/
END:VEVENT
END:VCALENDAR