BEGIN:VCALENDAR
VERSION:2.0
PRODID:-//Calea cunoașterii - ECPv6.15.16//NONSGML v1.0//EN
CALSCALE:GREGORIAN
METHOD:PUBLISH
X-ORIGINAL-URL:https://caleacunoasterii.com
X-WR-CALDESC:Events for Calea cunoașterii
REFRESH-INTERVAL;VALUE=DURATION:PT1H
X-Robots-Tag:noindex
X-PUBLISHED-TTL:PT1H
BEGIN:VTIMEZONE
TZID:Europe/Bucharest
BEGIN:DAYLIGHT
TZOFFSETFROM:+0200
TZOFFSETTO:+0300
TZNAME:EEST
DTSTART:20240331T010000
END:DAYLIGHT
BEGIN:STANDARD
TZOFFSETFROM:+0300
TZOFFSETTO:+0200
TZNAME:EET
DTSTART:20241027T010000
END:STANDARD
BEGIN:DAYLIGHT
TZOFFSETFROM:+0200
TZOFFSETTO:+0300
TZNAME:EEST
DTSTART:20250330T010000
END:DAYLIGHT
BEGIN:STANDARD
TZOFFSETFROM:+0300
TZOFFSETTO:+0200
TZNAME:EET
DTSTART:20251026T010000
END:STANDARD
BEGIN:DAYLIGHT
TZOFFSETFROM:+0200
TZOFFSETTO:+0300
TZNAME:EEST
DTSTART:20260329T010000
END:DAYLIGHT
BEGIN:STANDARD
TZOFFSETFROM:+0300
TZOFFSETTO:+0200
TZNAME:EET
DTSTART:20261025T010000
END:STANDARD
END:VTIMEZONE
BEGIN:VEVENT
DTSTART;TZID=Europe/Bucharest:20251125T200000
DTEND;TZID=Europe/Bucharest:20251125T210000
DTSTAMP:20260419T210744
CREATED:20250920T084250Z
LAST-MODIFIED:20250921T081640Z
UID:20532-1764100800-1764104400@caleacunoasterii.com
SUMMARY:Trezirea ființei de lumină din noi
DESCRIPTION:Trezirea ființei de lumină din noi este un proces profund de reconectare cu esența divină și autentică a ființei noastre. Este momentul în care începem să ne vedem dincolo de limitele impuse de minte\, de societate și de fricile acumulate\, redescoperind adevărata noastră natură spirituală. \n\n\n\nCe înseamnă să trezești ființa de lumină din tine? \n\n\n\nSă îți recunoști esența pură\, dincolo de ego și de identificările exterioare. \n\n\n\nSă simți o conexiune profundă cu Universul\, cu Sursa și cu ceilalți oameni. \n\n\n\nSă te eliberezi de frică\, suferință și iluzii și să trăiești în iubire și armonie. \n\n\n\nSă îți activezi potențialul divin și să îți împlinești misiunea sufletului. \n\n\n\nTrezirea ființei de lumină nu este un proces instantaneu\, ci o călătorie continuă spre adevărata noastră natură. Este un drum unic pentru fiecare\, dar în final ne conduce spre aceeași destinație: regăsirea esenței divine din noi. \n\n\n\nSunt mai multi pasi de parcurs pana la aceasta trezire\, unul din ei este participarea la genul acesta de lucrari spiritual energetice. \n\n\n\nPas cu pas putem ajunge acolo\, fiecare dupa ritmul sau propriu.  \n\n\n\nAcest eveniment va avea loc pe un link de YouTube special creat pentru această dată\, iar link-ul va fi primit direct prin e-mailul de confirmare a inregistrarii in calendar.   \n\n\n\nLink-ul nu este activ până la începerea evenimentului.  \n\n\n\nDacă nu primiți e-mailul de confirmare cu link-ul cu o oră înainte de începerea evenimentului\, dar v-ați înregistrat prin formularul din calendar din timp\, vă rugăm să ne contactați la +40762203131. \n\n\n\nContribuție de participare: 255 lei (TVA inclus)\, sau 56 euro (TVA inclus) de persoană. \n\n\n\nCOSEACOVA SVETLANA INTREPRINDERE INDIVIDUALA (I.I.) \n\n\n\nSediul: Jud. ILFOV\,Oras PANTELIMON\, str. Gradinarilor Nr. 30\, camera 2\, Bl.5\, Ap.9 \n\n\n\nCUI: 52468153 din 09/09/2025  \n\n\n\nNr.de ordine in registrul comertului: F2025033403002 din 11.09.2025 \n\n\n\nCONTURI BANCARE \n\n\n\nLIBRA INTERNET BANK \n\n\n\nCONT RON/LEI: RO09BREL0002005142140100 \n\n\n\n \n\n\n\nCONT EURO: RO25BREL0002005142140200 \n\n\n\nRecomandat pentru: \n\n\n\nAdulți\, copii peste 14 ani\, prezenti in direct\, sau pusi pe o lista\, sau prin poză\, nume\, prenume și data nașterii. \n\n\n\nCopiii pana in 14 ani pot participa gratuit. \n\n\n\nCONTRAINDICATII: FEMEI GRAVIDE SAU CARE ALĂPTEAZĂ\, se poate porni un val de detoxifiere. \n\n\n\nEfecte secundare posibile: \n\n\n\nPosibilă detoxifiere și curățare a organismului de toxine și reziduuri metabolice. \n\n\n\nPot apărea: \n\n\n\nDureri de cap \n\n\n\nStări de greață \n\n\n\nAmețeli \n\n\n\nRecomandări: \n\n\n\nConsumați multă apă pentru a facilita eliminarea toxinelor. \n\n\n\nDacă aveți greață\, vomitați pentru a elimina direct toxinele\, fără a suprasolicita ficatul și rinichii. \n\n\n\nAdoptați o alimentație ușoară\, de post. \n\n\n\nConsumați ceaiuri din plante specifice afecțiunilor. \n\n\n\nNu renunțați la tratamentul indicat de medicul curant. \n\n\n\nPrevent Duplicate EntryForm Submission is restrictedÎnregistrarea s-a făcut cu succes!2025.11.25 Trezirea ființei de lumină din noiName*Nume PrenumeTelefon*Email*Contribuția trimisă*Atașați confirmarea plății UploadNo file selectedAcord de prelucrare a datelor personale*Prin completarea acestui formular consimt la inregistrarea și prelucrarea datelor personale pentru accesul la eveniment. Înregistrare
URL:https://caleacunoasterii.com/event/trezirea-fiintei-de-lumina-din-noi/
END:VEVENT
END:VCALENDAR